BEGIN:VCALENDAR
VERSION:2.0
PRODID:-// - ECPv6.15.20//NONSGML v1.0//EN
CALSCALE:GREGORIAN
METHOD:PUBLISH
X-ORIGINAL-URL:https://wvmuslim.org
X-WR-CALDESC:Events for 
REFRESH-INTERVAL;VALUE=DURATION:PT1H
X-Robots-Tag:noindex
X-PUBLISHED-TTL:PT1H
BEGIN:VTIMEZONE
TZID:America/Los_Angeles
BEGIN:DAYLIGHT
TZOFFSETFROM:-0800
TZOFFSETTO:-0700
TZNAME:PDT
DTSTART:20240310T100000
END:DAYLIGHT
BEGIN:STANDARD
TZOFFSETFROM:-0700
TZOFFSETTO:-0800
TZNAME:PST
DTSTART:20241103T090000
END:STANDARD
BEGIN:DAYLIGHT
TZOFFSETFROM:-0800
TZOFFSETTO:-0700
TZNAME:PDT
DTSTART:20250309T100000
END:DAYLIGHT
BEGIN:STANDARD
TZOFFSETFROM:-0700
TZOFFSETTO:-0800
TZNAME:PST
DTSTART:20251102T090000
END:STANDARD
BEGIN:DAYLIGHT
TZOFFSETFROM:-0800
TZOFFSETTO:-0700
TZNAME:PDT
DTSTART:20260308T100000
END:DAYLIGHT
BEGIN:STANDARD
TZOFFSETFROM:-0700
TZOFFSETTO:-0800
TZNAME:PST
DTSTART:20261101T090000
END:STANDARD
END:VTIMEZONE
BEGIN:VEVENT
DTSTART;TZID=America/Los_Angeles:20250808T140000
DTEND;TZID=America/Los_Angeles:20250808T153000
DTSTAMP:20260422T044937
CREATED:20250716T191533Z
LAST-MODIFIED:20250723T213546Z
UID:10004114-1754661600-1754667000@wvmuslim.org
SUMMARY:Back to School Ice Cream Social
DESCRIPTION:Welcome in the next academic year with WVMA’s 3rd annual ice cream social! We hope everyone gets to pray jumuah in congregation and enjoy the last of the summer before beginning school. \nAll ages are welcome \nRSVP at bit.ly/wvma-icecream
URL:https://wvmuslim.org/event/back-to-school-ice-cream-social/
LOCATION:Los Gatos Islamic Center (LGIC)\, 16769 Farley Rd\, Los Gatos\, CA\, 95032\, United States
ATTACH;FMTTYPE=image/png:https://wvmuslim.org/wp-content/uploads/2025/07/icecreamsocial.png
ORGANIZER;CN="West Valley Muslim Association":MAILTO:info@wvmuslim.org
END:VEVENT
BEGIN:VEVENT
DTSTART;TZID=America/Los_Angeles:20250808T204500
DTEND;TZID=America/Los_Angeles:20250808T210000
DTSTAMP:20260422T044937
CREATED:20250807T202300Z
LAST-MODIFIED:20250831T145859Z
UID:10007806-1754685900-1754686800@wvmuslim.org
SUMMARY:Wird: Weekly Quran Suhbah
DESCRIPTION:Our weekly Quran Wird continues\, now led by Shaykh Omair Kamil. Join us every Friday\, 15 minutes before Isha at LGIC for a heartfelt suhbah and Quran recitation. Together\, we’ll begin a Juz\, complete it at home\, and aim for a full community khatm by Ramadan 2026\, inshAllah. Bring your mushaf\, bring your heart\, and let the Qur’an be your anchor. Starts August 8th!
URL:https://wvmuslim.org/event/wird-weekly-quran-suhbah/2025-08-08/
LOCATION:Los Gatos Islamic Center (LGIC)\, 16769 Farley Rd\, Los Gatos\, CA\, 95032\, United States
ATTACH;FMTTYPE=image/png:https://wvmuslim.org/wp-content/uploads/2025/08/WIRD-Sh-Omair-1920-x-1080-px.png
ORGANIZER;CN="West Valley Muslim Association":MAILTO:info@wvmuslim.org
END:VEVENT
END:VCALENDAR