BEGIN:VCALENDAR
VERSION:2.0
PRODID:-// - ECPv6.15.20//NONSGML v1.0//EN
CALSCALE:GREGORIAN
METHOD:PUBLISH
X-ORIGINAL-URL:https://wvmuslim.org
X-WR-CALDESC:Events for 
REFRESH-INTERVAL;VALUE=DURATION:PT1H
X-Robots-Tag:noindex
X-PUBLISHED-TTL:PT1H
BEGIN:VTIMEZONE
TZID:America/Los_Angeles
BEGIN:DAYLIGHT
TZOFFSETFROM:-0800
TZOFFSETTO:-0700
TZNAME:PDT
DTSTART:20250309T100000
END:DAYLIGHT
BEGIN:STANDARD
TZOFFSETFROM:-0700
TZOFFSETTO:-0800
TZNAME:PST
DTSTART:20251102T090000
END:STANDARD
BEGIN:DAYLIGHT
TZOFFSETFROM:-0800
TZOFFSETTO:-0700
TZNAME:PDT
DTSTART:20260308T100000
END:DAYLIGHT
BEGIN:STANDARD
TZOFFSETFROM:-0700
TZOFFSETTO:-0800
TZNAME:PST
DTSTART:20261101T090000
END:STANDARD
BEGIN:DAYLIGHT
TZOFFSETFROM:-0800
TZOFFSETTO:-0700
TZNAME:PDT
DTSTART:20270314T100000
END:DAYLIGHT
BEGIN:STANDARD
TZOFFSETFROM:-0700
TZOFFSETTO:-0800
TZNAME:PST
DTSTART:20271107T090000
END:STANDARD
END:VTIMEZONE
BEGIN:VEVENT
DTSTART;TZID=America/Los_Angeles:20260117T180000
DTEND;TZID=America/Los_Angeles:20260117T200000
DTSTAMP:20260424T171744
CREATED:20260116T233728Z
LAST-MODIFIED:20260116T233844Z
UID:10015675-1768672800-1768680000@wvmuslim.org
SUMMARY:Honoring the Legacy of Imam Jamil al-Amin
DESCRIPTION:Honoring the Legacy of Imam Jamil al-Amin\nImam Jamil al-Amin’s impact on Islam in America has been nothing short of significant. He is hero of civil rights movement and a victim of injustice who passed away in prison for a crime he did not commit. Join us with Imam Amir Abdel Malik Ali at West Valley Muslim Association (WVMA) on Saturday January 17th for night of power and remembrance. \nRSVP link: bit.ly/4jp2dCz
URL:https://wvmuslim.org/event/honouring-the-legacy-imam-jamil-al-amin/
LOCATION:Los Gatos Islamic Center (LGIC)\, 16769 Farley Rd\, Los Gatos\, CA\, 95032\, United States
ATTACH;FMTTYPE=image/png:https://wvmuslim.org/wp-content/uploads/2026/01/honoring.png
ORGANIZER;CN="West Valley Muslim Association":MAILTO:info@wvmuslim.org
END:VEVENT
END:VCALENDAR