BEGIN:VCALENDAR
VERSION:2.0
PRODID:-// - ECPv6.15.20//NONSGML v1.0//EN
CALSCALE:GREGORIAN
METHOD:PUBLISH
X-ORIGINAL-URL:https://wvmuslim.org
X-WR-CALDESC:Events for 
REFRESH-INTERVAL;VALUE=DURATION:PT1H
X-Robots-Tag:noindex
X-PUBLISHED-TTL:PT1H
BEGIN:VTIMEZONE
TZID:America/Los_Angeles
BEGIN:DAYLIGHT
TZOFFSETFROM:-0800
TZOFFSETTO:-0700
TZNAME:PDT
DTSTART:20250309T100000
END:DAYLIGHT
BEGIN:STANDARD
TZOFFSETFROM:-0700
TZOFFSETTO:-0800
TZNAME:PST
DTSTART:20251102T090000
END:STANDARD
BEGIN:DAYLIGHT
TZOFFSETFROM:-0800
TZOFFSETTO:-0700
TZNAME:PDT
DTSTART:20260308T100000
END:DAYLIGHT
BEGIN:STANDARD
TZOFFSETFROM:-0700
TZOFFSETTO:-0800
TZNAME:PST
DTSTART:20261101T090000
END:STANDARD
BEGIN:DAYLIGHT
TZOFFSETFROM:-0800
TZOFFSETTO:-0700
TZNAME:PDT
DTSTART:20270314T100000
END:DAYLIGHT
BEGIN:STANDARD
TZOFFSETFROM:-0700
TZOFFSETTO:-0800
TZNAME:PST
DTSTART:20271107T090000
END:STANDARD
END:VTIMEZONE
BEGIN:VEVENT
DTSTART;TZID=America/Los_Angeles:20260420T190000
DTEND;TZID=America/Los_Angeles:20260420T200000
DTSTAMP:20260422T014835
CREATED:20260421T010613Z
LAST-MODIFIED:20260421T010615Z
UID:10019116-1776711600-1776715200@wvmuslim.org
SUMMARY:New Property Update Meeting
DESCRIPTION:We’ve found a property in Cupertino that we are looking to purchase for WVMA. We’re having a meeting online to share information on the property and also answer any questions you may have. Please plan to join at 7pm\, the link to join is below: \n\n\n\nWVMA New Property PresentationMonday\, Apr 20 · 7–8 PM \n\n\n\nGoogle Meet joining infoVideo call link: https://meet.google.com/tui-ardh-tjjOr dial: +1 443-914-3029 PIN: 480713667More phone numbers: https://tel.meet/tui-ardh-tjj?pin=3732185921633
URL:https://wvmuslim.org/event/new-property-update-meeting/
LOCATION:CA
END:VEVENT
BEGIN:VEVENT
DTSTART;TZID=America/Los_Angeles:20260420T202000
DTEND;TZID=America/Los_Angeles:20260420T212000
DTSTAMP:20260422T014835
CREATED:20260421T010046Z
LAST-MODIFIED:20260421T010050Z
UID:10016886-1776716400-1776720000@wvmuslim.org
SUMMARY:Between the Verses
DESCRIPTION:Join Imam Basil for a guided reading through the Quran using the Clear Quran translation. We’ll explore and discuss the meanings\, lessons\, and concepts of the verses as we read together. We will be starting at Surah Al-Hajjj as a continuation from Ramadan and our goal is to go through entire Quran tafseer inshAllah.
URL:https://wvmuslim.org/event/between-the-verses-2/2026-04-20/
LOCATION:Los Gatos Islamic Center (LGIC)\, 16769 Farley Rd\, Los Gatos\, CA\, 95032\, United States
ATTACH;FMTTYPE=image/png:https://wvmuslim.org/wp-content/uploads/2026/03/Between-the-Verses-1920-x-1080-px.png
END:VEVENT
BEGIN:VEVENT
DTSTART;TZID=America/Los_Angeles:20260420T212000
DTEND;TZID=America/Los_Angeles:20260420T220000
DTSTAMP:20260422T014835
CREATED:20260331T155311Z
LAST-MODIFIED:20260421T010253Z
UID:10018855-1776720000-1776722400@wvmuslim.org
SUMMARY:Stories of the Prophets with Ihab Badr
DESCRIPTION:Stories of the Prophets with Br. Ihab Badr.  \n\n\n\nAfter Isha Prayer (9:00 PM) \n\n\n\nSaratoga Musalla \n\n\n\n12372 Saratoga Sunnyvale Rd.
URL:https://wvmuslim.org/event/stories-of-the-prophets-with-ihab-badr/2026-04-20/
LOCATION:CA
ATTACH;FMTTYPE=image/png:https://wvmuslim.org/wp-content/uploads/2026/03/Ihab-Badr-after-Isha-1920-x-1080-px.png
END:VEVENT
END:VCALENDAR