BEGIN:VCALENDAR
VERSION:2.0
PRODID:-// - ECPv6.15.20//NONSGML v1.0//EN
CALSCALE:GREGORIAN
METHOD:PUBLISH
X-ORIGINAL-URL:https://wvmuslim.org
X-WR-CALDESC:Events for 
REFRESH-INTERVAL;VALUE=DURATION:PT1H
X-Robots-Tag:noindex
X-PUBLISHED-TTL:PT1H
BEGIN:VTIMEZONE
TZID:America/Los_Angeles
BEGIN:DAYLIGHT
TZOFFSETFROM:-0800
TZOFFSETTO:-0700
TZNAME:PDT
DTSTART:20250309T100000
END:DAYLIGHT
BEGIN:STANDARD
TZOFFSETFROM:-0700
TZOFFSETTO:-0800
TZNAME:PST
DTSTART:20251102T090000
END:STANDARD
BEGIN:DAYLIGHT
TZOFFSETFROM:-0800
TZOFFSETTO:-0700
TZNAME:PDT
DTSTART:20260308T100000
END:DAYLIGHT
BEGIN:STANDARD
TZOFFSETFROM:-0700
TZOFFSETTO:-0800
TZNAME:PST
DTSTART:20261101T090000
END:STANDARD
BEGIN:DAYLIGHT
TZOFFSETFROM:-0800
TZOFFSETTO:-0700
TZNAME:PDT
DTSTART:20270314T100000
END:DAYLIGHT
BEGIN:STANDARD
TZOFFSETFROM:-0700
TZOFFSETTO:-0800
TZNAME:PST
DTSTART:20271107T090000
END:STANDARD
END:VTIMEZONE
BEGIN:VTIMEZONE
TZID:UTC
BEGIN:STANDARD
TZOFFSETFROM:+0000
TZOFFSETTO:+0000
TZNAME:UTC
DTSTART:20250101T000000
END:STANDARD
END:VTIMEZONE
BEGIN:VEVENT
DTSTART;TZID=America/Los_Angeles:20260424T104500
DTEND;TZID=America/Los_Angeles:20260424T233000
DTSTAMP:20260424T084645
CREATED:20250819T052026Z
LAST-MODIFIED:20250904T034125Z
UID:10005034-1777027500-1777073400@wvmuslim.org
SUMMARY:Journey Through the Quran
DESCRIPTION:Join WVMA and ICNA sisters every Friday from 11am-12pm for a halaqa at Saratoga Musalla. There’s no better time to renew your relationship to the Quran. Hope to see you there!
URL:https://wvmuslim.org/event/journey-through-the-quran/2026-04-24/
LOCATION:Saratoga Musalla\, 12370 Saratoga-Sunnyvale Rd.\,\, Saratoga\, CA\, 95070\, United States
ATTACH;FMTTYPE=image/png:https://wvmuslim.org/wp-content/uploads/2025/08/Journey-with-the-Quran-1920-x-1080-px.png
ORGANIZER;CN="West Valley Muslim Association":MAILTO:info@wvmuslim.org
END:VEVENT
BEGIN:VEVENT
DTSTART;TZID=America/Los_Angeles:20260424T123000
DTEND;TZID=America/Los_Angeles:20260424T130000
DTSTAMP:20260424T084645
CREATED:20260421T021730Z
LAST-MODIFIED:20260421T021733Z
UID:10018202-1777033800-1777035600@wvmuslim.org
SUMMARY:Jumu’ah (12:30 PM) - Dr. Hatem Bazian
DESCRIPTION:Join us every Friday for Jumu’ah prayer at the Prospect Center. \n\n\n\nEach sermon is followed by the congregational prayer. \n\n\n\nEveryone is welcome to attend and benefit from the spiritual reminder. \n\n\n\nPlease arrive early to find parking and settle in.
URL:https://wvmuslim.org/event/jumuah-1230-pm-tba-2/
LOCATION:Prospect Center\, 19848 Prospect Rd\, Saratoga\, CA\, CA 95070\, United States
ATTACH;FMTTYPE=image/png:https://wvmuslim.org/wp-content/uploads/2026/03/Screenshot-2025-07-09-at-10.51.12-AM-1024x705-1.png
END:VEVENT
BEGIN:VEVENT
DTSTART;TZID=UTC:20260424T133000
DTEND;TZID=UTC:20260424T140000
DTSTAMP:20260424T084645
CREATED:20260220T072540Z
LAST-MODIFIED:20260421T022016Z
UID:10015705-1777037400-1777039200@wvmuslim.org
SUMMARY:Jumu’ah (1:30 PM) – Kareem Elsayed
DESCRIPTION:Join us for Jumu’ah prayers every Friday at 1:30 PM at LGIC. The sermon (khutbah) begins promptly\, followed by the congregational prayer. Arrive early to find parking and settle in for a spiritually uplifting experience. All are welcome!
URL:https://wvmuslim.org/event/jumuah-130-pm-imam-basil-farooq-2/
LOCATION:Los Gatos Islamic Center (LGIC)\, 16769 Farley Rd\, Los Gatos\, CA\, 95032\, United States
CATEGORIES:Friday Prayer
ATTACH;FMTTYPE=image/png:https://wvmuslim.org/wp-content/uploads/2025/03/Screenshot-2025-03-27-at-2.48.12 PM.png
ORGANIZER;CN="West Valley Muslim Association":MAILTO:info@wvmuslim.org
END:VEVENT
BEGIN:VEVENT
DTSTART;TZID=UTC:20260424T133000
DTEND;TZID=UTC:20260424T140000
DTSTAMP:20260424T084645
CREATED:20260220T072903Z
LAST-MODIFIED:20260421T021859Z
UID:10015707-1777037400-1777039200@wvmuslim.org
SUMMARY:Jumu’ah (1:30 PM) - Dr. Hatem Bazian
DESCRIPTION:Join us every Friday for Jumu’ah prayer at the Prospect Center. \nEach sermon is followed by the congregational prayer. \nEveryone is welcome to attend and benefit from the spiritual reminder. \nPlease arrive early to find parking and settle in.
URL:https://wvmuslim.org/event/jumuah-130-pm-shaykh-ahmed-billo/
LOCATION:Prospect Center\, 19848 Prospect Rd\, Saratoga\, CA\, CA 95070\, United States
CATEGORIES:Friday Prayer
ATTACH;FMTTYPE=image/png:https://wvmuslim.org/wp-content/uploads/2025/06/Screenshot-2025-07-09-at-10.51.12 AM.png
ORGANIZER;CN="West Valley Muslim Association":MAILTO:info@wvmuslim.org
END:VEVENT
BEGIN:VEVENT
DTSTART;TZID=America/Los_Angeles:20260424T153000
DTEND;TZID=America/Los_Angeles:20260424T160000
DTSTAMP:20260424T084645
CREATED:20260407T065824Z
LAST-MODIFIED:20260424T004338Z
UID:10017148-1777044600-1777046400@wvmuslim.org
SUMMARY:Jumu’ah (3:30 PM) - Yousef Helal
DESCRIPTION:Join us every Friday for Jumu’ah prayer at the Prospect Center. \n\n\n\nEach sermon is followed by the congregational prayer. \n\n\n\nEveryone is welcome to attend and benefit from the spiritual reminder. \n\n\n\nPlease arrive early to find parking and settle in.
URL:https://wvmuslim.org/event/jumuah-330-pm-tba-4/
LOCATION:Prospect Center\, 19848 Prospect Rd\, Saratoga\, CA\, CA 95070\, United States
ATTACH;FMTTYPE=image/png:https://wvmuslim.org/wp-content/uploads/2026/03/Screenshot-2025-07-09-at-10.51.12-AM-1024x705-1.png
END:VEVENT
BEGIN:VEVENT
DTSTART;TZID=America/Los_Angeles:20260424T160000
DTEND;TZID=America/Los_Angeles:20260424T170000
DTSTAMP:20260424T084645
CREATED:20260423T203245Z
LAST-MODIFIED:20260423T203248Z
UID:10017809-1777046400-1777050000@wvmuslim.org
SUMMARY:My Jumma Crew
DESCRIPTION:Jumma Crew is Back! \n\n\n\nCalling all youth! \n\n\n\nJoin us every Friday at Prospect Center for two inspiring halaqas: \n\n\n\n\nElementary Students: Stories of the Prophets (s) with Sr. Asfia Khan\n\n\n\nMiddle & High School Students: Companions of the Prophet (s) with Br. Yousef Helal
URL:https://wvmuslim.org/event/my-jumma-crew-2/2026-04-24/
ATTACH;FMTTYPE=image/png:https://wvmuslim.org/wp-content/uploads/2026/04/Jumma-Crew-1920-x-1080-pxs.png
END:VEVENT
BEGIN:VEVENT
DTSTART;TZID=America/Los_Angeles:20260424T180000
DTEND;TZID=America/Los_Angeles:20260424T210000
DTSTAMP:20260424T084645
CREATED:20260421T021119Z
LAST-MODIFIED:20260421T021121Z
UID:10019118-1777053600-1777064400@wvmuslim.org
SUMMARY:Toward a Strategy to Respond to Islamophobia
DESCRIPTION:Come be part of the conversation next Friday\, April 24th at LGIC with Dr. Hatem Bazian as we explore Islamophobia and how to respond to it. \n\n\n\nRegister for Dinner & Talk @bit.ly/wvma-apr22
URL:https://wvmuslim.org/event/toward-a-strategy-to-respond-to-islamophobia/
LOCATION:Los Gatos Islamic Center (LGIC)\, 16769 Farley Rd\, Los Gatos\, CA\, 95032\, United States
ATTACH;FMTTYPE=image/png:https://wvmuslim.org/wp-content/uploads/2026/04/hatemwide.png
END:VEVENT
END:VCALENDAR