BEGIN:VCALENDAR
VERSION:2.0
PRODID:-// - ECPv6.15.20//NONSGML v1.0//EN
CALSCALE:GREGORIAN
METHOD:PUBLISH
X-ORIGINAL-URL:https://wvmuslim.org
X-WR-CALDESC:Events for 
REFRESH-INTERVAL;VALUE=DURATION:PT1H
X-Robots-Tag:noindex
X-PUBLISHED-TTL:PT1H
BEGIN:VTIMEZONE
TZID:UTC
BEGIN:STANDARD
TZOFFSETFROM:+0000
TZOFFSETTO:+0000
TZNAME:UTC
DTSTART:20240101T000000
END:STANDARD
END:VTIMEZONE
BEGIN:VEVENT
DTSTART;TZID=UTC:20250404T123000
DTEND;TZID=UTC:20250404T160000
DTSTAMP:20260419T185736
CREATED:20250404T154034Z
LAST-MODIFIED:20250404T154440Z
UID:10000873-1743769800-1743782400@wvmuslim.org
SUMMARY:Jumu'ah (Friday) Prayers @ Prospect Center
DESCRIPTION:Join us every Friday for Jumu’ah prayer at the Prospect Center. We offer three prayer times: \n\n\nFirst Khutbah: 12:30 PM\, Ust. Basil Farooq \n\n\nSecond Khutbah: 1:30 PM\, Sami Hilali \n\n\nThird Khutbah: 3:30 PM\, Saleh Saleh \n\n\nEach sermon is followed by the congregational prayer. Everyone is welcome to attend and benefit from the spiritual reminder. Please arrive early to find parking and settle in.
URL:https://wvmuslim.org/event/jummuah-friday-prayers-prospect-center-2/
LOCATION:Prospect Center\, 19848 Prospect Rd\, Saratoga\, CA\, CA 95070\, United States
CATEGORIES:Friday Prayer
ATTACH;FMTTYPE=image/png:https://wvmuslim.org/wp-content/uploads/2025/03/Screenshot-2025-03-23-at-3.30.07 PM.png
ORGANIZER;CN="West Valley Muslim Association":MAILTO:info@wvmuslim.org
END:VEVENT
BEGIN:VEVENT
DTSTART;TZID=UTC:20250404T133000
DTEND;TZID=UTC:20250404T143000
DTSTAMP:20260419T185736
CREATED:20250404T154523Z
LAST-MODIFIED:20250404T154524Z
UID:10001397-1743773400-1743777000@wvmuslim.org
SUMMARY:Jumu'ah (Friday) Prayers @ LGIC
DESCRIPTION:Join us for Jumu’ah prayers every Friday at 1:30 PM at LGIC. The sermon (khutbah) begins promptly\, followed by the congregational prayer. Arrive early to find parking and settle in for a spiritually uplifting experience. All are welcome! \nKhateeb: Imam Ahmad Deeb
URL:https://wvmuslim.org/event/jummuah-friday-prayers-lgic-6/
LOCATION:Los Gatos Islamic Center (LGIC)\, 16769 Farley Rd\, Los Gatos\, CA\, 95032\, United States
CATEGORIES:Friday Prayer
ATTACH;FMTTYPE=image/png:https://wvmuslim.org/wp-content/uploads/2025/03/Screenshot-2025-03-27-at-2.48.12 PM.png
ORGANIZER;CN="West Valley Muslim Association":MAILTO:info@wvmuslim.org
END:VEVENT
BEGIN:VEVENT
DTSTART;TZID=UTC:20250411T123000
DTEND;TZID=UTC:20250411T160000
DTSTAMP:20260419T185736
CREATED:20250411T003659Z
LAST-MODIFIED:20250411T003700Z
UID:10000874-1744374600-1744387200@wvmuslim.org
SUMMARY:Jumu'ah (Friday) Prayers @ Prospect Center
DESCRIPTION:Join us every Friday for Jumu’ah prayer at the Prospect Center. We offer three prayer times: \n\n\nFirst Khutbah: 12:30 PM Imam Albaraa \n\n\nSecond Khutbah: 1:30 PM Ihab Badr \n\n\nThird Khutbah: 3:30 PM To be Announced \n\n\nEach sermon is followed by the congregational prayer. Everyone is welcome to attend and benefit from the spiritual reminder. Please arrive early to find parking and settle in.
URL:https://wvmuslim.org/event/jummuah-friday-prayers-prospect-center-3/
LOCATION:Prospect Center\, 19848 Prospect Rd\, Saratoga\, CA\, CA 95070\, United States
CATEGORIES:Friday Prayer
ATTACH;FMTTYPE=image/png:https://wvmuslim.org/wp-content/uploads/2025/03/WVMA-Jummah-Prayer_april11.png
ORGANIZER;CN="West Valley Muslim Association":MAILTO:info@wvmuslim.org
END:VEVENT
BEGIN:VEVENT
DTSTART;TZID=UTC:20250411T133000
DTEND;TZID=UTC:20250411T143000
DTSTAMP:20260419T185736
CREATED:20250411T003805Z
LAST-MODIFIED:20250411T003806Z
UID:10001398-1744378200-1744381800@wvmuslim.org
SUMMARY:Jumu'ah (Friday) Prayers @ LGIC
DESCRIPTION:Join us for Jumu’ah prayers every Friday at 1:30 PM at LGIC. The sermon (khutbah) begins promptly\, followed by the congregational prayer. Arrive early to find parking and settle in for a spiritually uplifting experience. All are welcome! \nKhateeb: Imam Ahmad Deeb
URL:https://wvmuslim.org/event/jummuah-friday-prayers-lgic-7/
LOCATION:Los Gatos Islamic Center (LGIC)\, 16769 Farley Rd\, Los Gatos\, CA\, 95032\, United States
CATEGORIES:Friday Prayer
ATTACH;FMTTYPE=image/png:https://wvmuslim.org/wp-content/uploads/2025/03/WVMA-Jummah-Prayer_april11.png
ORGANIZER;CN="West Valley Muslim Association":MAILTO:info@wvmuslim.org
END:VEVENT
BEGIN:VEVENT
DTSTART;TZID=UTC:20250418T123000
DTEND;TZID=UTC:20250418T160000
DTSTAMP:20260419T185736
CREATED:20250417T021311Z
LAST-MODIFIED:20250417T021837Z
UID:10000875-1744979400-1744992000@wvmuslim.org
SUMMARY:Jumu'ah (Friday) Prayers @ Prospect Center
DESCRIPTION:Join us every Friday for Jumu’ah prayer at the Prospect Center. We offer three prayer times: \n\n\nFirst Khutbah: 12:30 PM\, Basil Farooq \n\n\nSecond Khutbah: 1:30 PM\, Imam Suhaib Webb \n\n\nThird Khutbah: 3:30 PM\, Yousef Helal \n\n\nEach sermon is followed by the congregational prayer. Everyone is welcome to attend and benefit from the spiritual reminder. Please arrive early to find parking and settle in.
URL:https://wvmuslim.org/event/jummuah-friday-prayers-prospect-center-4/
LOCATION:Prospect Center\, 19848 Prospect Rd\, Saratoga\, CA\, CA 95070\, United States
CATEGORIES:Friday Prayer
ATTACH;FMTTYPE=image/png:https://wvmuslim.org/wp-content/uploads/2025/04/WVMA-Jummah-Prayer_April18.png
ORGANIZER;CN="West Valley Muslim Association":MAILTO:info@wvmuslim.org
END:VEVENT
BEGIN:VEVENT
DTSTART;TZID=UTC:20250418T133000
DTEND;TZID=UTC:20250418T143000
DTSTAMP:20260419T185736
CREATED:20250417T021930Z
LAST-MODIFIED:20250417T021931Z
UID:10001399-1744983000-1744986600@wvmuslim.org
SUMMARY:Jumu'ah (Friday) Prayers @ LGIC
DESCRIPTION:Join us for Jumu’ah prayers every Friday at 1:30 PM at LGIC. The sermon (khutbah) begins promptly\, followed by the congregational prayer. Arrive early to find parking and settle in for a spiritually uplifting experience. All are welcome! \nKhateeb will be Imam Albaraa
URL:https://wvmuslim.org/event/jummuah-friday-prayers-lgic-8/
LOCATION:Los Gatos Islamic Center (LGIC)\, 16769 Farley Rd\, Los Gatos\, CA\, 95032\, United States
CATEGORIES:Friday Prayer
ATTACH;FMTTYPE=image/png:https://wvmuslim.org/wp-content/uploads/2025/04/WVMA-Jummah-Prayer_April18.png
ORGANIZER;CN="West Valley Muslim Association":MAILTO:info@wvmuslim.org
END:VEVENT
BEGIN:VEVENT
DTSTART;TZID=UTC:20250425T123000
DTEND;TZID=UTC:20250425T130000
DTSTAMP:20260419T185736
CREATED:20250424T033210Z
LAST-MODIFIED:20250425T001944Z
UID:10000876-1745584200-1745586000@wvmuslim.org
SUMMARY:Jumu'ah (12:30 PM) – Ihab Badr
DESCRIPTION:Join us every Friday for Jumu’ah prayer at the Prospect Center. The congregational prayer follows each sermon. Everyone is welcome to attend and benefit from the spiritual reminder. Please arrive early to find parking and settle in.
URL:https://wvmuslim.org/event/jummuah-friday-prayers-prospect-center-5/
LOCATION:Prospect Center\, 19848 Prospect Rd\, Saratoga\, CA\, CA 95070\, United States
CATEGORIES:Friday Prayer
ATTACH;FMTTYPE=image/png:https://wvmuslim.org/wp-content/uploads/2025/04/prayer1.png
ORGANIZER;CN="West Valley Muslim Association":MAILTO:info@wvmuslim.org
END:VEVENT
BEGIN:VEVENT
DTSTART;TZID=UTC:20250425T133000
DTEND;TZID=UTC:20250425T140000
DTSTAMP:20260419T185736
CREATED:20250424T230324Z
LAST-MODIFIED:20250425T002151Z
UID:10003778-1745587800-1745589600@wvmuslim.org
SUMMARY:Jumu'ah (1:30 PM) – Omair Kamil
DESCRIPTION:Join us every Friday for Jumu’ah prayer at the Prospect Center. The congregational prayer follows each sermon. Everyone is welcome to attend and benefit from the spiritual reminder. Please arrive early to find parking and settle in.
URL:https://wvmuslim.org/event/jumuah-130-pm-omair-kamil/
LOCATION:Prospect Center\, 19848 Prospect Rd\, Saratoga\, CA\, CA 95070\, United States
CATEGORIES:Friday Prayer
ATTACH;FMTTYPE=image/png:https://wvmuslim.org/wp-content/uploads/2025/04/prayer1.png
ORGANIZER;CN="West Valley Muslim Association":MAILTO:info@wvmuslim.org
END:VEVENT
BEGIN:VEVENT
DTSTART;TZID=UTC:20250425T133000
DTEND;TZID=UTC:20250425T143000
DTSTAMP:20260419T185736
CREATED:20250424T033341Z
LAST-MODIFIED:20250425T002053Z
UID:10001400-1745587800-1745591400@wvmuslim.org
SUMMARY:Jumu'ah (1:30 PM) – Imam Albaraa Basfar
DESCRIPTION:Join us for Jumu’ah prayers every Friday at 1:30 PM at LGIC. The sermon (khutbah) begins promptly\, followed by the congregational prayer. Arrive early to find parking and settle in for a spiritually uplifting experience. All are welcome!
URL:https://wvmuslim.org/event/jummuah-friday-prayers-lgic-9/
LOCATION:Los Gatos Islamic Center (LGIC)\, 16769 Farley Rd\, Los Gatos\, CA\, 95032\, United States
CATEGORIES:Friday Prayer
ATTACH;FMTTYPE=image/png:https://wvmuslim.org/wp-content/uploads/2025/04/prayer2.png
ORGANIZER;CN="West Valley Muslim Association":MAILTO:info@wvmuslim.org
END:VEVENT
BEGIN:VEVENT
DTSTART;TZID=UTC:20250425T153000
DTEND;TZID=UTC:20250425T160000
DTSTAMP:20260419T185736
CREATED:20250424T230457Z
LAST-MODIFIED:20250425T002148Z
UID:10003779-1745595000-1745596800@wvmuslim.org
SUMMARY:Jumu'ah (3:30 PM) – Kareem Syed
DESCRIPTION:Join us every Friday for Jumu’ah prayer at the Prospect Center. The congregational prayer follows each sermon. Everyone is welcome to attend and benefit from the spiritual reminder. Please arrive early to find parking and settle in.
URL:https://wvmuslim.org/event/jumuah-330-pm-kareem-syed/
LOCATION:Prospect Center\, 19848 Prospect Rd\, Saratoga\, CA\, CA 95070\, United States
CATEGORIES:Friday Prayer
ATTACH;FMTTYPE=image/png:https://wvmuslim.org/wp-content/uploads/2025/04/prayer1.png
ORGANIZER;CN="West Valley Muslim Association":MAILTO:info@wvmuslim.org
END:VEVENT
END:VCALENDAR