BEGIN:VCALENDAR
VERSION:2.0
PRODID:-// - ECPv6.15.20//NONSGML v1.0//EN
CALSCALE:GREGORIAN
METHOD:PUBLISH
X-ORIGINAL-URL:https://wvmuslim.org
X-WR-CALDESC:Events for 
REFRESH-INTERVAL;VALUE=DURATION:PT1H
X-Robots-Tag:noindex
X-PUBLISHED-TTL:PT1H
BEGIN:VTIMEZONE
TZID:UTC
BEGIN:STANDARD
TZOFFSETFROM:+0000
TZOFFSETTO:+0000
TZNAME:UTC
DTSTART:20240101T000000
END:STANDARD
END:VTIMEZONE
BEGIN:VEVENT
DTSTART;TZID=UTC:20250704T123000
DTEND;TZID=UTC:20250704T160000
DTSTAMP:20260419T142059
CREATED:20250620T205132Z
LAST-MODIFIED:20250620T205132Z
UID:10000886-1751632200-1751644800@wvmuslim.org
SUMMARY:Jumu'ah (Friday) Prayers @ Prospect Center
DESCRIPTION:Join us every Friday for Jumu’ah prayer at the Prospect Center. We offer three prayer times: \n\n\nFirst Khutbah: 12:30 PM\, \n\n\nSecond Khutbah: 1:30 PM\, \n\n\n\n\n\nEach sermon is followed by the congregational prayer. Everyone is welcome to attend and benefit from the spiritual reminder. Please arrive early to find parking and settle in.
URL:https://wvmuslim.org/event/jummuah-friday-prayers-prospect-center-12/
LOCATION:Prospect Center\, 19848 Prospect Rd\, Saratoga\, CA\, CA 95070\, United States
CATEGORIES:Friday Prayer
ORGANIZER;CN="West Valley Muslim Association":MAILTO:info@wvmuslim.org
END:VEVENT
BEGIN:VEVENT
DTSTART;TZID=UTC:20250704T133000
DTEND;TZID=UTC:20250704T143000
DTSTAMP:20260419T142059
CREATED:20250620T205509Z
LAST-MODIFIED:20250620T205509Z
UID:10001410-1751635800-1751639400@wvmuslim.org
SUMMARY:Jumu'ah (Friday) Prayers @ LGIC
DESCRIPTION:Join us for Jumu’ah prayers every Friday at 1:30 PM at LGIC. The sermon (khutbah) begins promptly\, followed by the congregational prayer. Arrive early to find parking and settle in for a spiritually uplifting experience. All are welcome!
URL:https://wvmuslim.org/event/jummuah-friday-prayers-lgic-17/
LOCATION:Los Gatos Islamic Center (LGIC)\, 16769 Farley Rd\, Los Gatos\, CA\, 95032\, United States
CATEGORIES:Friday Prayer
ORGANIZER;CN="West Valley Muslim Association":MAILTO:info@wvmuslim.org
END:VEVENT
BEGIN:VEVENT
DTSTART;TZID=UTC:20250711T123000
DTEND;TZID=UTC:20250711T130000
DTSTAMP:20260419T142059
CREATED:20250709T075348Z
LAST-MODIFIED:20250717T211300Z
UID:10000887-1752237000-1752238800@wvmuslim.org
SUMMARY:Jumu'ah (12:30 PM) - Sh. Ahmed Billoo
DESCRIPTION:Join us every Friday for Jumu’ah prayer at the Prospect Center. \nEach sermon is followed by the congregational prayer. \nEveryone is welcome to attend and benefit from the spiritual reminder. \nPlease arrive early to find parking and settle in.
URL:https://wvmuslim.org/event/jummuah-friday-prayers-prospect-center-12-3/
LOCATION:Prospect Center\, 19848 Prospect Rd\, Saratoga\, CA\, CA 95070\, United States
CATEGORIES:Friday Prayer
ATTACH;FMTTYPE=image/png:https://wvmuslim.org/wp-content/uploads/2025/06/Screenshot-2025-07-09-at-10.51.12 AM.png
ORGANIZER;CN="West Valley Muslim Association":MAILTO:info@wvmuslim.org
END:VEVENT
BEGIN:VEVENT
DTSTART;TZID=UTC:20250711T133000
DTEND;TZID=UTC:20250711T143000
DTSTAMP:20260419T142059
CREATED:20250706T132030Z
LAST-MODIFIED:20250709T073917Z
UID:10001411-1752240600-1752244200@wvmuslim.org
SUMMARY:Jumu'ah (1:30 PM) - Sh. Junaid Bhayat
DESCRIPTION:Join us for Jumu’ah prayers every Friday at 1:30 PM at LGIC. The sermon (khutbah) begins promptly\, followed by the congregational prayer. Arrive early to find parking and settle in for a spiritually uplifting experience. All are welcome!
URL:https://wvmuslim.org/event/jummuah-friday-prayers-lgic-17-3/
LOCATION:Los Gatos Islamic Center (LGIC)\, 16769 Farley Rd\, Los Gatos\, CA\, 95032\, United States
CATEGORIES:Friday Prayer
ATTACH;FMTTYPE=image/png:https://wvmuslim.org/wp-content/uploads/2025/03/Screenshot-2025-03-27-at-2.48.12 PM.png
ORGANIZER;CN="West Valley Muslim Association":MAILTO:info@wvmuslim.org
END:VEVENT
BEGIN:VEVENT
DTSTART;TZID=UTC:20250711T133000
DTEND;TZID=UTC:20250711T143000
DTSTAMP:20260419T142059
CREATED:20250709T075511Z
LAST-MODIFIED:20250709T075511Z
UID:10004090-1752240600-1752244200@wvmuslim.org
SUMMARY:Jumu'ah (1:30 PM) - Sh. Ahmed Billoo
DESCRIPTION:Join us every Friday for Jumu’ah prayer at the Prospect Center. \nEach sermon is followed by the congregational prayer. \nEveryone is welcome to attend and benefit from the spiritual reminder. \nPlease arrive early to find parking and settle in.
URL:https://wvmuslim.org/event/jumuah-130-pm-sh-ahmed-billoo/
LOCATION:Prospect Center\, 19848 Prospect Rd\, Saratoga\, CA\, CA 95070\, United States
CATEGORIES:Friday Prayer
ATTACH;FMTTYPE=image/png:https://wvmuslim.org/wp-content/uploads/2025/06/Screenshot-2025-07-09-at-10.51.12 AM.png
ORGANIZER;CN="West Valley Muslim Association":MAILTO:info@wvmuslim.org
END:VEVENT
BEGIN:VEVENT
DTSTART;TZID=UTC:20250718T123000
DTEND;TZID=UTC:20250718T130000
DTSTAMP:20260419T142059
CREATED:20250717T232607Z
LAST-MODIFIED:20250717T232623Z
UID:10000888-1752841800-1752843600@wvmuslim.org
SUMMARY:Jumu'ah (12:30 PM) - Imam Amir Sundiata
DESCRIPTION:Join us every Friday for Jumu’ah prayer at the Prospect Center. \nEach sermon is followed by the congregational prayer. \nEveryone is welcome to attend and benefit from the spiritual reminder. \nPlease arrive early to find parking and settle in.
URL:https://wvmuslim.org/event/jummuah-friday-prayers-prospect-center-12-4-2/
LOCATION:Prospect Center\, 19848 Prospect Rd\, Saratoga\, CA\, CA 95070\, United States
CATEGORIES:Friday Prayer
ATTACH;FMTTYPE=image/png:https://wvmuslim.org/wp-content/uploads/2025/06/Screenshot-2025-07-09-at-10.51.12 AM.png
ORGANIZER;CN="West Valley Muslim Association":MAILTO:info@wvmuslim.org
END:VEVENT
BEGIN:VEVENT
DTSTART;TZID=UTC:20250718T133000
DTEND;TZID=UTC:20250718T140000
DTSTAMP:20260419T142059
CREATED:20250717T232715Z
LAST-MODIFIED:20250717T232715Z
UID:10004121-1752845400-1752847200@wvmuslim.org
SUMMARY:Jumu'ah (1:30 PM) - Dr. Youssef Ismail
DESCRIPTION:Join us every Friday for Jumu’ah prayer at the Prospect Center. \nEach sermon is followed by the congregational prayer. \nEveryone is welcome to attend and benefit from the spiritual reminder. \nPlease arrive early to find parking and settle in.
URL:https://wvmuslim.org/event/jumuah-130-pm-dr-youssef-ismail/
LOCATION:Prospect Center\, 19848 Prospect Rd\, Saratoga\, CA\, CA 95070\, United States
CATEGORIES:Friday Prayer
ATTACH;FMTTYPE=image/png:https://wvmuslim.org/wp-content/uploads/2025/06/Screenshot-2025-07-09-at-10.51.12 AM.png
ORGANIZER;CN="West Valley Muslim Association":MAILTO:info@wvmuslim.org
END:VEVENT
BEGIN:VEVENT
DTSTART;TZID=UTC:20250718T133000
DTEND;TZID=UTC:20250718T140000
DTSTAMP:20260419T142059
CREATED:20250717T233012Z
LAST-MODIFIED:20250717T233331Z
UID:10001412-1752845400-1752847200@wvmuslim.org
SUMMARY:Jumu'ah (1:30 PM) - Afraz Khan
DESCRIPTION:Join us for Jumu’ah prayers every Friday at 1:30 PM at LGIC. The sermon (khutbah) begins promptly\, followed by the congregational prayer. Arrive early to find parking and settle in for a spiritually uplifting experience. All are welcome!
URL:https://wvmuslim.org/event/jummuah-friday-prayers-lgic-17-4-2/
LOCATION:Los Gatos Islamic Center (LGIC)\, 16769 Farley Rd\, Los Gatos\, CA\, 95032\, United States
CATEGORIES:Friday Prayer
ATTACH;FMTTYPE=image/png:https://wvmuslim.org/wp-content/uploads/2025/03/Screenshot-2025-03-16-at-3.23.59 PM-e1752795157114.png
ORGANIZER;CN="West Valley Muslim Association":MAILTO:info@wvmuslim.org
END:VEVENT
BEGIN:VEVENT
DTSTART;TZID=UTC:20250725T123000
DTEND;TZID=UTC:20250725T133000
DTSTAMP:20260419T142059
CREATED:20250724T091710Z
LAST-MODIFIED:20250724T091710Z
UID:10000889-1753446600-1753450200@wvmuslim.org
SUMMARY:Jumu’ah (12:30 PM) - Taaha Chaudhry
DESCRIPTION:Join us every Friday for Jumu’ah prayer at the Prospect Center. \nEach sermon is followed by the congregational prayer. \nEveryone is welcome to attend and benefit from the spiritual reminder. \nPlease arrive early to find parking and settle in.
URL:https://wvmuslim.org/event/jummuah-friday-prayers-prospect-center-12-4-3/
LOCATION:Prospect Center\, 19848 Prospect Rd\, Saratoga\, CA\, CA 95070\, United States
CATEGORIES:Friday Prayer
ATTACH;FMTTYPE=image/png:https://wvmuslim.org/wp-content/uploads/2025/06/Screenshot-2025-07-09-at-10.51.12 AM.png
ORGANIZER;CN="West Valley Muslim Association":MAILTO:info@wvmuslim.org
END:VEVENT
BEGIN:VEVENT
DTSTART;TZID=UTC:20250725T133000
DTEND;TZID=UTC:20250725T140000
DTSTAMP:20260419T142059
CREATED:20250724T091510Z
LAST-MODIFIED:20250724T221742Z
UID:10001413-1753450200-1753452000@wvmuslim.org
SUMMARY:Jumu’ah (1:30 PM) – Ustadh Basil Farooq
DESCRIPTION:Join us for Jumu’ah prayers every Friday at 1:30 PM at LGIC. The sermon (khutbah) begins promptly\, followed by the congregational prayer. Arrive early to find parking and settle in for a spiritually uplifting experience. All are welcome!
URL:https://wvmuslim.org/event/jummuah-friday-prayers-lgic-17-4-3/
LOCATION:Los Gatos Islamic Center (LGIC)\, 16769 Farley Rd\, Los Gatos\, CA\, 95032\, United States
CATEGORIES:Friday Prayer
ATTACH;FMTTYPE=image/png:https://wvmuslim.org/wp-content/uploads/2025/03/Screenshot-2025-03-27-at-2.48.12 PM.png
ORGANIZER;CN="West Valley Muslim Association":MAILTO:info@wvmuslim.org
END:VEVENT
BEGIN:VEVENT
DTSTART;TZID=UTC:20250725T133000
DTEND;TZID=UTC:20250725T143000
DTSTAMP:20260419T142059
CREATED:20250724T092037Z
LAST-MODIFIED:20250724T092037Z
UID:10004125-1753450200-1753453800@wvmuslim.org
SUMMARY:Jumu’ah (1:30 PM) - Omair Kamil
DESCRIPTION:Join us every Friday for Jumu’ah prayer at the Prospect Center. \nEach sermon is followed by the congregational prayer. \nEveryone is welcome to attend and benefit from the spiritual reminder. \nPlease arrive early to find parking and settle in.
URL:https://wvmuslim.org/event/jumuah-130-pm-omair-kamil-2/
LOCATION:Prospect Center\, 19848 Prospect Rd\, Saratoga\, CA\, CA 95070\, United States
CATEGORIES:Friday Prayer
ATTACH;FMTTYPE=image/png:https://wvmuslim.org/wp-content/uploads/2025/06/Screenshot-2025-07-09-at-10.51.12 AM.png
ORGANIZER;CN="West Valley Muslim Association":MAILTO:info@wvmuslim.org
END:VEVENT
END:VCALENDAR