BEGIN:VCALENDAR
VERSION:2.0
PRODID:-// - ECPv6.15.20//NONSGML v1.0//EN
CALSCALE:GREGORIAN
METHOD:PUBLISH
X-ORIGINAL-URL:https://wvmuslim.org
X-WR-CALDESC:Events for 
REFRESH-INTERVAL;VALUE=DURATION:PT1H
X-Robots-Tag:noindex
X-PUBLISHED-TTL:PT1H
BEGIN:VTIMEZONE
TZID:UTC
BEGIN:STANDARD
TZOFFSETFROM:+0000
TZOFFSETTO:+0000
TZNAME:UTC
DTSTART:20240101T000000
END:STANDARD
END:VTIMEZONE
BEGIN:VEVENT
DTSTART;TZID=UTC:20250606T133000
DTEND;TZID=UTC:20250606T140000
DTSTAMP:20260419T221251
CREATED:20250606T064558Z
LAST-MODIFIED:20250606T130619Z
UID:10000882-1749216600-1749218400@wvmuslim.org
SUMMARY:Jumu'ah (Friday) Prayers @ Prospect Center
DESCRIPTION:With Eid falling on a Friday\, we will be holding only ONE Jummah prayer at each location\, both at 1:30 pm.\n📍Prospect Center\, 19848 Prospect Rd.\, Saratoga\, CA \n📍Los Gatos Islamic Center (LGIC)\, 16769 Farley Rd.\, Los Gatos\, CA
URL:https://wvmuslim.org/event/jummuah-friday-prayers-prospect-center-9/
LOCATION:Prospect Center\, 19848 Prospect Rd\, Saratoga\, CA\, CA 95070\, United States
CATEGORIES:Friday Prayer
ATTACH;FMTTYPE=image/png:https://wvmuslim.org/wp-content/uploads/2025/06/prayer2.png
ORGANIZER;CN="West Valley Muslim Association":MAILTO:info@wvmuslim.org
END:VEVENT
BEGIN:VEVENT
DTSTART;TZID=UTC:20250606T133000
DTEND;TZID=UTC:20250606T140000
DTSTAMP:20260419T221251
CREATED:20250606T064844Z
LAST-MODIFIED:20250606T130508Z
UID:10001406-1749216600-1749218400@wvmuslim.org
SUMMARY:Jumu'ah (Friday) Prayers @ LGIC
DESCRIPTION:With Eid falling on a Friday\, we will be holding only ONE Jummah prayer at each location\, both at 1:30 pm.\n📍Prospect Center\, 19848 Prospect Rd.\, Saratoga\, CA \n📍Los Gatos Islamic Center (LGIC)\, 16769 Farley Rd.\, Los Gatos\, CA
URL:https://wvmuslim.org/event/jummuah-friday-prayers-lgic-14/
LOCATION:Los Gatos Islamic Center (LGIC)\, 16769 Farley Rd\, Los Gatos\, CA\, 95032\, United States
CATEGORIES:Friday Prayer
ATTACH;FMTTYPE=image/png:https://wvmuslim.org/wp-content/uploads/2025/06/prayer1.png
ORGANIZER;CN="West Valley Muslim Association":MAILTO:info@wvmuslim.org
END:VEVENT
END:VCALENDAR