BEGIN:VCALENDAR
VERSION:2.0
PRODID:-// - ECPv6.15.20//NONSGML v1.0//EN
CALSCALE:GREGORIAN
METHOD:PUBLISH
X-ORIGINAL-URL:https://wvmuslim.org
X-WR-CALDESC:Events for 
REFRESH-INTERVAL;VALUE=DURATION:PT1H
X-Robots-Tag:noindex
X-PUBLISHED-TTL:PT1H
BEGIN:VTIMEZONE
TZID:UTC
BEGIN:STANDARD
TZOFFSETFROM:+0000
TZOFFSETTO:+0000
TZNAME:UTC
DTSTART:20240101T000000
END:STANDARD
END:VTIMEZONE
BEGIN:VEVENT
DTSTART;TZID=UTC:20250822T133000
DTEND;TZID=UTC:20250822T140000
DTSTAMP:20260419T142712
CREATED:20250807T201755Z
LAST-MODIFIED:20250822T045702Z
UID:10004132-1755869400-1755871200@wvmuslim.org
SUMMARY:Jumu’ah (1:30 PM) -  Munir Qtaish
DESCRIPTION:Join us every Friday for Jumu’ah prayer at the Prospect Center. \nEach sermon is followed by the congregational prayer. \nEveryone is welcome to attend and benefit from the spiritual reminder. \nPlease arrive early to find parking and settle in.
URL:https://wvmuslim.org/event/jumuah-130-pm-ihab-badr/
LOCATION:Prospect Center\, 19848 Prospect Rd\, Saratoga\, CA\, CA 95070\, United States
CATEGORIES:Friday Prayer
ATTACH;FMTTYPE=image/png:https://wvmuslim.org/wp-content/uploads/2025/06/Screenshot-2025-07-09-at-10.51.12 AM.png
ORGANIZER;CN="West Valley Muslim Association":MAILTO:info@wvmuslim.org
END:VEVENT
END:VCALENDAR