BEGIN:VCALENDAR
VERSION:2.0
PRODID:-// - ECPv6.15.20//NONSGML v1.0//EN
CALSCALE:GREGORIAN
METHOD:PUBLISH
X-ORIGINAL-URL:https://wvmuslim.org
X-WR-CALDESC:Events for 
REFRESH-INTERVAL;VALUE=DURATION:PT1H
X-Robots-Tag:noindex
X-PUBLISHED-TTL:PT1H
BEGIN:VTIMEZONE
TZID:UTC
BEGIN:STANDARD
TZOFFSETFROM:+0000
TZOFFSETTO:+0000
TZNAME:UTC
DTSTART:20260101T000000
END:STANDARD
END:VTIMEZONE
BEGIN:VEVENT
DTSTART;TZID=UTC:20270212T133000
DTEND;TZID=UTC:20270212T140000
DTSTAMP:20260420T172428
CREATED:20250717T211335Z
LAST-MODIFIED:20250717T211336Z
UID:10001494-1802439000-1802440800@wvmuslim.org
SUMMARY:Jumu'ah (Friday) Prayers @ LGIC
DESCRIPTION:Join us for Jumu’ah prayers every Friday at 1:30 PM at LGIC. The sermon (khutbah) begins promptly\, followed by the congregational prayer. Arrive early to find parking and settle in for a spiritually uplifting experience. All are welcome!
URL:https://wvmuslim.org/event/jummuah-friday-prayers-lgic-17-4/2027-02-12/
LOCATION:Los Gatos Islamic Center (LGIC)\, 16769 Farley Rd\, Los Gatos\, CA\, 95032\, United States
CATEGORIES:Friday Prayer
ORGANIZER;CN="West Valley Muslim Association":MAILTO:info@wvmuslim.org
END:VEVENT
BEGIN:VEVENT
DTSTART;TZID=UTC:20270219T123000
DTEND;TZID=UTC:20270219T140000
DTSTAMP:20260420T172428
CREATED:20250717T211412Z
LAST-MODIFIED:20250717T211412Z
UID:10000971-1803040200-1803045600@wvmuslim.org
SUMMARY:Jumu'ah (Friday) Prayers @ Prospect Center
DESCRIPTION:Join us every Friday for Jumu’ah prayer at the Prospect Center. We offer three prayer times: \n\n\nFirst Khutbah: 12:30 PM\, \n\n\nSecond Khutbah: 1:30 PM\, \n\n\n\n\n\nEach sermon is followed by the congregational prayer. Everyone is welcome to attend and benefit from the spiritual reminder. Please arrive early to find parking and settle in.
URL:https://wvmuslim.org/event/jummuah-friday-prayers-prospect-center-12-4/2027-02-19/
LOCATION:Prospect Center\, 19848 Prospect Rd\, Saratoga\, CA\, CA 95070\, United States
CATEGORIES:Friday Prayer
ORGANIZER;CN="West Valley Muslim Association":MAILTO:info@wvmuslim.org
END:VEVENT
BEGIN:VEVENT
DTSTART;TZID=UTC:20270219T133000
DTEND;TZID=UTC:20270219T140000
DTSTAMP:20260420T172428
CREATED:20250717T211335Z
LAST-MODIFIED:20250717T211336Z
UID:10001495-1803043800-1803045600@wvmuslim.org
SUMMARY:Jumu'ah (Friday) Prayers @ LGIC
DESCRIPTION:Join us for Jumu’ah prayers every Friday at 1:30 PM at LGIC. The sermon (khutbah) begins promptly\, followed by the congregational prayer. Arrive early to find parking and settle in for a spiritually uplifting experience. All are welcome!
URL:https://wvmuslim.org/event/jummuah-friday-prayers-lgic-17-4/2027-02-19/
LOCATION:Los Gatos Islamic Center (LGIC)\, 16769 Farley Rd\, Los Gatos\, CA\, 95032\, United States
CATEGORIES:Friday Prayer
ORGANIZER;CN="West Valley Muslim Association":MAILTO:info@wvmuslim.org
END:VEVENT
BEGIN:VEVENT
DTSTART;TZID=UTC:20270226T123000
DTEND;TZID=UTC:20270226T140000
DTSTAMP:20260420T172428
CREATED:20250717T211412Z
LAST-MODIFIED:20250717T211412Z
UID:10000972-1803645000-1803650400@wvmuslim.org
SUMMARY:Jumu'ah (Friday) Prayers @ Prospect Center
DESCRIPTION:Join us every Friday for Jumu’ah prayer at the Prospect Center. We offer three prayer times: \n\n\nFirst Khutbah: 12:30 PM\, \n\n\nSecond Khutbah: 1:30 PM\, \n\n\n\n\n\nEach sermon is followed by the congregational prayer. Everyone is welcome to attend and benefit from the spiritual reminder. Please arrive early to find parking and settle in.
URL:https://wvmuslim.org/event/jummuah-friday-prayers-prospect-center-12-4/2027-02-26/
LOCATION:Prospect Center\, 19848 Prospect Rd\, Saratoga\, CA\, CA 95070\, United States
CATEGORIES:Friday Prayer
ORGANIZER;CN="West Valley Muslim Association":MAILTO:info@wvmuslim.org
END:VEVENT
BEGIN:VEVENT
DTSTART;TZID=UTC:20270226T133000
DTEND;TZID=UTC:20270226T140000
DTSTAMP:20260420T172428
CREATED:20250717T211335Z
LAST-MODIFIED:20250717T211336Z
UID:10001496-1803648600-1803650400@wvmuslim.org
SUMMARY:Jumu'ah (Friday) Prayers @ LGIC
DESCRIPTION:Join us for Jumu’ah prayers every Friday at 1:30 PM at LGIC. The sermon (khutbah) begins promptly\, followed by the congregational prayer. Arrive early to find parking and settle in for a spiritually uplifting experience. All are welcome!
URL:https://wvmuslim.org/event/jummuah-friday-prayers-lgic-17-4/2027-02-26/
LOCATION:Los Gatos Islamic Center (LGIC)\, 16769 Farley Rd\, Los Gatos\, CA\, 95032\, United States
CATEGORIES:Friday Prayer
ORGANIZER;CN="West Valley Muslim Association":MAILTO:info@wvmuslim.org
END:VEVENT
BEGIN:VEVENT
DTSTART;TZID=UTC:20270305T123000
DTEND;TZID=UTC:20270305T140000
DTSTAMP:20260420T172428
CREATED:20250717T211412Z
LAST-MODIFIED:20250717T211412Z
UID:10000973-1804249800-1804255200@wvmuslim.org
SUMMARY:Jumu'ah (Friday) Prayers @ Prospect Center
DESCRIPTION:Join us every Friday for Jumu’ah prayer at the Prospect Center. We offer three prayer times: \n\n\nFirst Khutbah: 12:30 PM\, \n\n\nSecond Khutbah: 1:30 PM\, \n\n\n\n\n\nEach sermon is followed by the congregational prayer. Everyone is welcome to attend and benefit from the spiritual reminder. Please arrive early to find parking and settle in.
URL:https://wvmuslim.org/event/jummuah-friday-prayers-prospect-center-12-4/2027-03-05/
LOCATION:Prospect Center\, 19848 Prospect Rd\, Saratoga\, CA\, CA 95070\, United States
CATEGORIES:Friday Prayer
ORGANIZER;CN="West Valley Muslim Association":MAILTO:info@wvmuslim.org
END:VEVENT
BEGIN:VEVENT
DTSTART;TZID=UTC:20270305T133000
DTEND;TZID=UTC:20270305T140000
DTSTAMP:20260420T172428
CREATED:20250717T211335Z
LAST-MODIFIED:20250717T211336Z
UID:10001497-1804253400-1804255200@wvmuslim.org
SUMMARY:Jumu'ah (Friday) Prayers @ LGIC
DESCRIPTION:Join us for Jumu’ah prayers every Friday at 1:30 PM at LGIC. The sermon (khutbah) begins promptly\, followed by the congregational prayer. Arrive early to find parking and settle in for a spiritually uplifting experience. All are welcome!
URL:https://wvmuslim.org/event/jummuah-friday-prayers-lgic-17-4/2027-03-05/
LOCATION:Los Gatos Islamic Center (LGIC)\, 16769 Farley Rd\, Los Gatos\, CA\, 95032\, United States
CATEGORIES:Friday Prayer
ORGANIZER;CN="West Valley Muslim Association":MAILTO:info@wvmuslim.org
END:VEVENT
BEGIN:VEVENT
DTSTART;TZID=UTC:20270312T123000
DTEND;TZID=UTC:20270312T140000
DTSTAMP:20260420T172428
CREATED:20250717T211412Z
LAST-MODIFIED:20250717T211412Z
UID:10000974-1804854600-1804860000@wvmuslim.org
SUMMARY:Jumu'ah (Friday) Prayers @ Prospect Center
DESCRIPTION:Join us every Friday for Jumu’ah prayer at the Prospect Center. We offer three prayer times: \n\n\nFirst Khutbah: 12:30 PM\, \n\n\nSecond Khutbah: 1:30 PM\, \n\n\n\n\n\nEach sermon is followed by the congregational prayer. Everyone is welcome to attend and benefit from the spiritual reminder. Please arrive early to find parking and settle in.
URL:https://wvmuslim.org/event/jummuah-friday-prayers-prospect-center-12-4/2027-03-12/
LOCATION:Prospect Center\, 19848 Prospect Rd\, Saratoga\, CA\, CA 95070\, United States
CATEGORIES:Friday Prayer
ORGANIZER;CN="West Valley Muslim Association":MAILTO:info@wvmuslim.org
END:VEVENT
BEGIN:VEVENT
DTSTART;TZID=UTC:20270312T133000
DTEND;TZID=UTC:20270312T140000
DTSTAMP:20260420T172428
CREATED:20250717T211335Z
LAST-MODIFIED:20250717T211336Z
UID:10001498-1804858200-1804860000@wvmuslim.org
SUMMARY:Jumu'ah (Friday) Prayers @ LGIC
DESCRIPTION:Join us for Jumu’ah prayers every Friday at 1:30 PM at LGIC. The sermon (khutbah) begins promptly\, followed by the congregational prayer. Arrive early to find parking and settle in for a spiritually uplifting experience. All are welcome!
URL:https://wvmuslim.org/event/jummuah-friday-prayers-lgic-17-4/2027-03-12/
LOCATION:Los Gatos Islamic Center (LGIC)\, 16769 Farley Rd\, Los Gatos\, CA\, 95032\, United States
CATEGORIES:Friday Prayer
ORGANIZER;CN="West Valley Muslim Association":MAILTO:info@wvmuslim.org
END:VEVENT
BEGIN:VEVENT
DTSTART;TZID=UTC:20270319T123000
DTEND;TZID=UTC:20270319T140000
DTSTAMP:20260420T172428
CREATED:20250717T211412Z
LAST-MODIFIED:20250717T211412Z
UID:10000975-1805459400-1805464800@wvmuslim.org
SUMMARY:Jumu'ah (Friday) Prayers @ Prospect Center
DESCRIPTION:Join us every Friday for Jumu’ah prayer at the Prospect Center. We offer three prayer times: \n\n\nFirst Khutbah: 12:30 PM\, \n\n\nSecond Khutbah: 1:30 PM\, \n\n\n\n\n\nEach sermon is followed by the congregational prayer. Everyone is welcome to attend and benefit from the spiritual reminder. Please arrive early to find parking and settle in.
URL:https://wvmuslim.org/event/jummuah-friday-prayers-prospect-center-12-4/2027-03-19/
LOCATION:Prospect Center\, 19848 Prospect Rd\, Saratoga\, CA\, CA 95070\, United States
CATEGORIES:Friday Prayer
ORGANIZER;CN="West Valley Muslim Association":MAILTO:info@wvmuslim.org
END:VEVENT
BEGIN:VEVENT
DTSTART;TZID=UTC:20270319T133000
DTEND;TZID=UTC:20270319T140000
DTSTAMP:20260420T172428
CREATED:20250717T211335Z
LAST-MODIFIED:20250717T211336Z
UID:10001499-1805463000-1805464800@wvmuslim.org
SUMMARY:Jumu'ah (Friday) Prayers @ LGIC
DESCRIPTION:Join us for Jumu’ah prayers every Friday at 1:30 PM at LGIC. The sermon (khutbah) begins promptly\, followed by the congregational prayer. Arrive early to find parking and settle in for a spiritually uplifting experience. All are welcome!
URL:https://wvmuslim.org/event/jummuah-friday-prayers-lgic-17-4/2027-03-19/
LOCATION:Los Gatos Islamic Center (LGIC)\, 16769 Farley Rd\, Los Gatos\, CA\, 95032\, United States
CATEGORIES:Friday Prayer
ORGANIZER;CN="West Valley Muslim Association":MAILTO:info@wvmuslim.org
END:VEVENT
BEGIN:VEVENT
DTSTART;TZID=UTC:20270326T123000
DTEND;TZID=UTC:20270326T140000
DTSTAMP:20260420T172428
CREATED:20250717T211412Z
LAST-MODIFIED:20250717T211412Z
UID:10000976-1806064200-1806069600@wvmuslim.org
SUMMARY:Jumu'ah (Friday) Prayers @ Prospect Center
DESCRIPTION:Join us every Friday for Jumu’ah prayer at the Prospect Center. We offer three prayer times: \n\n\nFirst Khutbah: 12:30 PM\, \n\n\nSecond Khutbah: 1:30 PM\, \n\n\n\n\n\nEach sermon is followed by the congregational prayer. Everyone is welcome to attend and benefit from the spiritual reminder. Please arrive early to find parking and settle in.
URL:https://wvmuslim.org/event/jummuah-friday-prayers-prospect-center-12-4/2027-03-26/
LOCATION:Prospect Center\, 19848 Prospect Rd\, Saratoga\, CA\, CA 95070\, United States
CATEGORIES:Friday Prayer
ORGANIZER;CN="West Valley Muslim Association":MAILTO:info@wvmuslim.org
END:VEVENT
BEGIN:VEVENT
DTSTART;TZID=UTC:20270326T133000
DTEND;TZID=UTC:20270326T140000
DTSTAMP:20260420T172428
CREATED:20250717T211335Z
LAST-MODIFIED:20250717T211336Z
UID:10001500-1806067800-1806069600@wvmuslim.org
SUMMARY:Jumu'ah (Friday) Prayers @ LGIC
DESCRIPTION:Join us for Jumu’ah prayers every Friday at 1:30 PM at LGIC. The sermon (khutbah) begins promptly\, followed by the congregational prayer. Arrive early to find parking and settle in for a spiritually uplifting experience. All are welcome!
URL:https://wvmuslim.org/event/jummuah-friday-prayers-lgic-17-4/2027-03-26/
LOCATION:Los Gatos Islamic Center (LGIC)\, 16769 Farley Rd\, Los Gatos\, CA\, 95032\, United States
CATEGORIES:Friday Prayer
ORGANIZER;CN="West Valley Muslim Association":MAILTO:info@wvmuslim.org
END:VEVENT
BEGIN:VEVENT
DTSTART;TZID=UTC:20270402T123000
DTEND;TZID=UTC:20270402T140000
DTSTAMP:20260420T172428
CREATED:20250717T211412Z
LAST-MODIFIED:20250717T211412Z
UID:10000977-1806669000-1806674400@wvmuslim.org
SUMMARY:Jumu'ah (Friday) Prayers @ Prospect Center
DESCRIPTION:Join us every Friday for Jumu’ah prayer at the Prospect Center. We offer three prayer times: \n\n\nFirst Khutbah: 12:30 PM\, \n\n\nSecond Khutbah: 1:30 PM\, \n\n\n\n\n\nEach sermon is followed by the congregational prayer. Everyone is welcome to attend and benefit from the spiritual reminder. Please arrive early to find parking and settle in.
URL:https://wvmuslim.org/event/jummuah-friday-prayers-prospect-center-12-4/2027-04-02/
LOCATION:Prospect Center\, 19848 Prospect Rd\, Saratoga\, CA\, CA 95070\, United States
CATEGORIES:Friday Prayer
ORGANIZER;CN="West Valley Muslim Association":MAILTO:info@wvmuslim.org
END:VEVENT
BEGIN:VEVENT
DTSTART;TZID=UTC:20270402T133000
DTEND;TZID=UTC:20270402T140000
DTSTAMP:20260420T172428
CREATED:20250717T211335Z
LAST-MODIFIED:20250717T211336Z
UID:10001501-1806672600-1806674400@wvmuslim.org
SUMMARY:Jumu'ah (Friday) Prayers @ LGIC
DESCRIPTION:Join us for Jumu’ah prayers every Friday at 1:30 PM at LGIC. The sermon (khutbah) begins promptly\, followed by the congregational prayer. Arrive early to find parking and settle in for a spiritually uplifting experience. All are welcome!
URL:https://wvmuslim.org/event/jummuah-friday-prayers-lgic-17-4/2027-04-02/
LOCATION:Los Gatos Islamic Center (LGIC)\, 16769 Farley Rd\, Los Gatos\, CA\, 95032\, United States
CATEGORIES:Friday Prayer
ORGANIZER;CN="West Valley Muslim Association":MAILTO:info@wvmuslim.org
END:VEVENT
BEGIN:VEVENT
DTSTART;TZID=UTC:20270409T123000
DTEND;TZID=UTC:20270409T140000
DTSTAMP:20260420T172428
CREATED:20250717T211412Z
LAST-MODIFIED:20250717T211412Z
UID:10000978-1807273800-1807279200@wvmuslim.org
SUMMARY:Jumu'ah (Friday) Prayers @ Prospect Center
DESCRIPTION:Join us every Friday for Jumu’ah prayer at the Prospect Center. We offer three prayer times: \n\n\nFirst Khutbah: 12:30 PM\, \n\n\nSecond Khutbah: 1:30 PM\, \n\n\n\n\n\nEach sermon is followed by the congregational prayer. Everyone is welcome to attend and benefit from the spiritual reminder. Please arrive early to find parking and settle in.
URL:https://wvmuslim.org/event/jummuah-friday-prayers-prospect-center-12-4/2027-04-09/
LOCATION:Prospect Center\, 19848 Prospect Rd\, Saratoga\, CA\, CA 95070\, United States
CATEGORIES:Friday Prayer
ORGANIZER;CN="West Valley Muslim Association":MAILTO:info@wvmuslim.org
END:VEVENT
BEGIN:VEVENT
DTSTART;TZID=UTC:20270409T133000
DTEND;TZID=UTC:20270409T140000
DTSTAMP:20260420T172428
CREATED:20250717T211335Z
LAST-MODIFIED:20250717T211336Z
UID:10001502-1807277400-1807279200@wvmuslim.org
SUMMARY:Jumu'ah (Friday) Prayers @ LGIC
DESCRIPTION:Join us for Jumu’ah prayers every Friday at 1:30 PM at LGIC. The sermon (khutbah) begins promptly\, followed by the congregational prayer. Arrive early to find parking and settle in for a spiritually uplifting experience. All are welcome!
URL:https://wvmuslim.org/event/jummuah-friday-prayers-lgic-17-4/2027-04-09/
LOCATION:Los Gatos Islamic Center (LGIC)\, 16769 Farley Rd\, Los Gatos\, CA\, 95032\, United States
CATEGORIES:Friday Prayer
ORGANIZER;CN="West Valley Muslim Association":MAILTO:info@wvmuslim.org
END:VEVENT
BEGIN:VEVENT
DTSTART;TZID=UTC:20270416T123000
DTEND;TZID=UTC:20270416T140000
DTSTAMP:20260420T172428
CREATED:20250717T211412Z
LAST-MODIFIED:20250717T211412Z
UID:10000979-1807878600-1807884000@wvmuslim.org
SUMMARY:Jumu'ah (Friday) Prayers @ Prospect Center
DESCRIPTION:Join us every Friday for Jumu’ah prayer at the Prospect Center. We offer three prayer times: \n\n\nFirst Khutbah: 12:30 PM\, \n\n\nSecond Khutbah: 1:30 PM\, \n\n\n\n\n\nEach sermon is followed by the congregational prayer. Everyone is welcome to attend and benefit from the spiritual reminder. Please arrive early to find parking and settle in.
URL:https://wvmuslim.org/event/jummuah-friday-prayers-prospect-center-12-4/2027-04-16/
LOCATION:Prospect Center\, 19848 Prospect Rd\, Saratoga\, CA\, CA 95070\, United States
CATEGORIES:Friday Prayer
ORGANIZER;CN="West Valley Muslim Association":MAILTO:info@wvmuslim.org
END:VEVENT
BEGIN:VEVENT
DTSTART;TZID=UTC:20270416T133000
DTEND;TZID=UTC:20270416T140000
DTSTAMP:20260420T172428
CREATED:20250717T211335Z
LAST-MODIFIED:20250717T211336Z
UID:10001503-1807882200-1807884000@wvmuslim.org
SUMMARY:Jumu'ah (Friday) Prayers @ LGIC
DESCRIPTION:Join us for Jumu’ah prayers every Friday at 1:30 PM at LGIC. The sermon (khutbah) begins promptly\, followed by the congregational prayer. Arrive early to find parking and settle in for a spiritually uplifting experience. All are welcome!
URL:https://wvmuslim.org/event/jummuah-friday-prayers-lgic-17-4/2027-04-16/
LOCATION:Los Gatos Islamic Center (LGIC)\, 16769 Farley Rd\, Los Gatos\, CA\, 95032\, United States
CATEGORIES:Friday Prayer
ORGANIZER;CN="West Valley Muslim Association":MAILTO:info@wvmuslim.org
END:VEVENT
BEGIN:VEVENT
DTSTART;TZID=UTC:20270423T123000
DTEND;TZID=UTC:20270423T140000
DTSTAMP:20260420T172428
CREATED:20250717T211412Z
LAST-MODIFIED:20250717T211412Z
UID:10000980-1808483400-1808488800@wvmuslim.org
SUMMARY:Jumu'ah (Friday) Prayers @ Prospect Center
DESCRIPTION:Join us every Friday for Jumu’ah prayer at the Prospect Center. We offer three prayer times: \n\n\nFirst Khutbah: 12:30 PM\, \n\n\nSecond Khutbah: 1:30 PM\, \n\n\n\n\n\nEach sermon is followed by the congregational prayer. Everyone is welcome to attend and benefit from the spiritual reminder. Please arrive early to find parking and settle in.
URL:https://wvmuslim.org/event/jummuah-friday-prayers-prospect-center-12-4/2027-04-23/
LOCATION:Prospect Center\, 19848 Prospect Rd\, Saratoga\, CA\, CA 95070\, United States
CATEGORIES:Friday Prayer
ORGANIZER;CN="West Valley Muslim Association":MAILTO:info@wvmuslim.org
END:VEVENT
BEGIN:VEVENT
DTSTART;TZID=UTC:20270423T133000
DTEND;TZID=UTC:20270423T140000
DTSTAMP:20260420T172428
CREATED:20250717T211335Z
LAST-MODIFIED:20250717T211336Z
UID:10001504-1808487000-1808488800@wvmuslim.org
SUMMARY:Jumu'ah (Friday) Prayers @ LGIC
DESCRIPTION:Join us for Jumu’ah prayers every Friday at 1:30 PM at LGIC. The sermon (khutbah) begins promptly\, followed by the congregational prayer. Arrive early to find parking and settle in for a spiritually uplifting experience. All are welcome!
URL:https://wvmuslim.org/event/jummuah-friday-prayers-lgic-17-4/2027-04-23/
LOCATION:Los Gatos Islamic Center (LGIC)\, 16769 Farley Rd\, Los Gatos\, CA\, 95032\, United States
CATEGORIES:Friday Prayer
ORGANIZER;CN="West Valley Muslim Association":MAILTO:info@wvmuslim.org
END:VEVENT
BEGIN:VEVENT
DTSTART;TZID=UTC:20270430T123000
DTEND;TZID=UTC:20270430T140000
DTSTAMP:20260420T172428
CREATED:20250717T211412Z
LAST-MODIFIED:20250717T211412Z
UID:10000981-1809088200-1809093600@wvmuslim.org
SUMMARY:Jumu'ah (Friday) Prayers @ Prospect Center
DESCRIPTION:Join us every Friday for Jumu’ah prayer at the Prospect Center. We offer three prayer times: \n\n\nFirst Khutbah: 12:30 PM\, \n\n\nSecond Khutbah: 1:30 PM\, \n\n\n\n\n\nEach sermon is followed by the congregational prayer. Everyone is welcome to attend and benefit from the spiritual reminder. Please arrive early to find parking and settle in.
URL:https://wvmuslim.org/event/jummuah-friday-prayers-prospect-center-12-4/2027-04-30/
LOCATION:Prospect Center\, 19848 Prospect Rd\, Saratoga\, CA\, CA 95070\, United States
CATEGORIES:Friday Prayer
ORGANIZER;CN="West Valley Muslim Association":MAILTO:info@wvmuslim.org
END:VEVENT
BEGIN:VEVENT
DTSTART;TZID=UTC:20270430T133000
DTEND;TZID=UTC:20270430T140000
DTSTAMP:20260420T172428
CREATED:20250717T211335Z
LAST-MODIFIED:20250717T211336Z
UID:10001505-1809091800-1809093600@wvmuslim.org
SUMMARY:Jumu'ah (Friday) Prayers @ LGIC
DESCRIPTION:Join us for Jumu’ah prayers every Friday at 1:30 PM at LGIC. The sermon (khutbah) begins promptly\, followed by the congregational prayer. Arrive early to find parking and settle in for a spiritually uplifting experience. All are welcome!
URL:https://wvmuslim.org/event/jummuah-friday-prayers-lgic-17-4/2027-04-30/
LOCATION:Los Gatos Islamic Center (LGIC)\, 16769 Farley Rd\, Los Gatos\, CA\, 95032\, United States
CATEGORIES:Friday Prayer
ORGANIZER;CN="West Valley Muslim Association":MAILTO:info@wvmuslim.org
END:VEVENT
BEGIN:VEVENT
DTSTART;TZID=UTC:20270507T123000
DTEND;TZID=UTC:20270507T140000
DTSTAMP:20260420T172428
CREATED:20250717T211412Z
LAST-MODIFIED:20250717T211412Z
UID:10000982-1809693000-1809698400@wvmuslim.org
SUMMARY:Jumu'ah (Friday) Prayers @ Prospect Center
DESCRIPTION:Join us every Friday for Jumu’ah prayer at the Prospect Center. We offer three prayer times: \n\n\nFirst Khutbah: 12:30 PM\, \n\n\nSecond Khutbah: 1:30 PM\, \n\n\n\n\n\nEach sermon is followed by the congregational prayer. Everyone is welcome to attend and benefit from the spiritual reminder. Please arrive early to find parking and settle in.
URL:https://wvmuslim.org/event/jummuah-friday-prayers-prospect-center-12-4/2027-05-07/
LOCATION:Prospect Center\, 19848 Prospect Rd\, Saratoga\, CA\, CA 95070\, United States
CATEGORIES:Friday Prayer
ORGANIZER;CN="West Valley Muslim Association":MAILTO:info@wvmuslim.org
END:VEVENT
BEGIN:VEVENT
DTSTART;TZID=UTC:20270507T133000
DTEND;TZID=UTC:20270507T140000
DTSTAMP:20260420T172428
CREATED:20250717T211335Z
LAST-MODIFIED:20250717T211336Z
UID:10001506-1809696600-1809698400@wvmuslim.org
SUMMARY:Jumu'ah (Friday) Prayers @ LGIC
DESCRIPTION:Join us for Jumu’ah prayers every Friday at 1:30 PM at LGIC. The sermon (khutbah) begins promptly\, followed by the congregational prayer. Arrive early to find parking and settle in for a spiritually uplifting experience. All are welcome!
URL:https://wvmuslim.org/event/jummuah-friday-prayers-lgic-17-4/2027-05-07/
LOCATION:Los Gatos Islamic Center (LGIC)\, 16769 Farley Rd\, Los Gatos\, CA\, 95032\, United States
CATEGORIES:Friday Prayer
ORGANIZER;CN="West Valley Muslim Association":MAILTO:info@wvmuslim.org
END:VEVENT
BEGIN:VEVENT
DTSTART;TZID=UTC:20270514T123000
DTEND;TZID=UTC:20270514T140000
DTSTAMP:20260420T172428
CREATED:20250717T211412Z
LAST-MODIFIED:20250717T211412Z
UID:10000983-1810297800-1810303200@wvmuslim.org
SUMMARY:Jumu'ah (Friday) Prayers @ Prospect Center
DESCRIPTION:Join us every Friday for Jumu’ah prayer at the Prospect Center. We offer three prayer times: \n\n\nFirst Khutbah: 12:30 PM\, \n\n\nSecond Khutbah: 1:30 PM\, \n\n\n\n\n\nEach sermon is followed by the congregational prayer. Everyone is welcome to attend and benefit from the spiritual reminder. Please arrive early to find parking and settle in.
URL:https://wvmuslim.org/event/jummuah-friday-prayers-prospect-center-12-4/2027-05-14/
LOCATION:Prospect Center\, 19848 Prospect Rd\, Saratoga\, CA\, CA 95070\, United States
CATEGORIES:Friday Prayer
ORGANIZER;CN="West Valley Muslim Association":MAILTO:info@wvmuslim.org
END:VEVENT
BEGIN:VEVENT
DTSTART;TZID=UTC:20270514T133000
DTEND;TZID=UTC:20270514T140000
DTSTAMP:20260420T172428
CREATED:20250717T211335Z
LAST-MODIFIED:20250717T211336Z
UID:10001507-1810301400-1810303200@wvmuslim.org
SUMMARY:Jumu'ah (Friday) Prayers @ LGIC
DESCRIPTION:Join us for Jumu’ah prayers every Friday at 1:30 PM at LGIC. The sermon (khutbah) begins promptly\, followed by the congregational prayer. Arrive early to find parking and settle in for a spiritually uplifting experience. All are welcome!
URL:https://wvmuslim.org/event/jummuah-friday-prayers-lgic-17-4/2027-05-14/
LOCATION:Los Gatos Islamic Center (LGIC)\, 16769 Farley Rd\, Los Gatos\, CA\, 95032\, United States
CATEGORIES:Friday Prayer
ORGANIZER;CN="West Valley Muslim Association":MAILTO:info@wvmuslim.org
END:VEVENT
BEGIN:VEVENT
DTSTART;TZID=UTC:20270521T123000
DTEND;TZID=UTC:20270521T140000
DTSTAMP:20260420T172428
CREATED:20250717T211412Z
LAST-MODIFIED:20250717T211412Z
UID:10000984-1810902600-1810908000@wvmuslim.org
SUMMARY:Jumu'ah (Friday) Prayers @ Prospect Center
DESCRIPTION:Join us every Friday for Jumu’ah prayer at the Prospect Center. We offer three prayer times: \n\n\nFirst Khutbah: 12:30 PM\, \n\n\nSecond Khutbah: 1:30 PM\, \n\n\n\n\n\nEach sermon is followed by the congregational prayer. Everyone is welcome to attend and benefit from the spiritual reminder. Please arrive early to find parking and settle in.
URL:https://wvmuslim.org/event/jummuah-friday-prayers-prospect-center-12-4/2027-05-21/
LOCATION:Prospect Center\, 19848 Prospect Rd\, Saratoga\, CA\, CA 95070\, United States
CATEGORIES:Friday Prayer
ORGANIZER;CN="West Valley Muslim Association":MAILTO:info@wvmuslim.org
END:VEVENT
BEGIN:VEVENT
DTSTART;TZID=UTC:20270521T133000
DTEND;TZID=UTC:20270521T140000
DTSTAMP:20260420T172428
CREATED:20250717T211335Z
LAST-MODIFIED:20250717T211336Z
UID:10001508-1810906200-1810908000@wvmuslim.org
SUMMARY:Jumu'ah (Friday) Prayers @ LGIC
DESCRIPTION:Join us for Jumu’ah prayers every Friday at 1:30 PM at LGIC. The sermon (khutbah) begins promptly\, followed by the congregational prayer. Arrive early to find parking and settle in for a spiritually uplifting experience. All are welcome!
URL:https://wvmuslim.org/event/jummuah-friday-prayers-lgic-17-4/2027-05-21/
LOCATION:Los Gatos Islamic Center (LGIC)\, 16769 Farley Rd\, Los Gatos\, CA\, 95032\, United States
CATEGORIES:Friday Prayer
ORGANIZER;CN="West Valley Muslim Association":MAILTO:info@wvmuslim.org
END:VEVENT
BEGIN:VEVENT
DTSTART;TZID=UTC:20270528T123000
DTEND;TZID=UTC:20270528T140000
DTSTAMP:20260420T172428
CREATED:20250717T211412Z
LAST-MODIFIED:20250717T211412Z
UID:10000985-1811507400-1811512800@wvmuslim.org
SUMMARY:Jumu'ah (Friday) Prayers @ Prospect Center
DESCRIPTION:Join us every Friday for Jumu’ah prayer at the Prospect Center. We offer three prayer times: \n\n\nFirst Khutbah: 12:30 PM\, \n\n\nSecond Khutbah: 1:30 PM\, \n\n\n\n\n\nEach sermon is followed by the congregational prayer. Everyone is welcome to attend and benefit from the spiritual reminder. Please arrive early to find parking and settle in.
URL:https://wvmuslim.org/event/jummuah-friday-prayers-prospect-center-12-4/2027-05-28/
LOCATION:Prospect Center\, 19848 Prospect Rd\, Saratoga\, CA\, CA 95070\, United States
CATEGORIES:Friday Prayer
ORGANIZER;CN="West Valley Muslim Association":MAILTO:info@wvmuslim.org
END:VEVENT
END:VCALENDAR