BEGIN:VCALENDAR
VERSION:2.0
PRODID:-// - ECPv6.15.20//NONSGML v1.0//EN
CALSCALE:GREGORIAN
METHOD:PUBLISH
X-ORIGINAL-URL:https://wvmuslim.org
X-WR-CALDESC:Events for 
REFRESH-INTERVAL;VALUE=DURATION:PT1H
X-Robots-Tag:noindex
X-PUBLISHED-TTL:PT1H
BEGIN:VTIMEZONE
TZID:UTC
BEGIN:STANDARD
TZOFFSETFROM:+0000
TZOFFSETTO:+0000
TZNAME:UTC
DTSTART:20250101T000000
END:STANDARD
END:VTIMEZONE
BEGIN:VEVENT
DTSTART;TZID=UTC:20260515T133000
DTEND;TZID=UTC:20260515T140000
DTSTAMP:20260419T160350
CREATED:20250717T211335Z
LAST-MODIFIED:20250717T211336Z
UID:10001455-1778851800-1778853600@wvmuslim.org
SUMMARY:Jumu'ah (Friday) Prayers @ LGIC
DESCRIPTION:Join us for Jumu’ah prayers every Friday at 1:30 PM at LGIC. The sermon (khutbah) begins promptly\, followed by the congregational prayer. Arrive early to find parking and settle in for a spiritually uplifting experience. All are welcome!
URL:https://wvmuslim.org/event/jummuah-friday-prayers-lgic-17-4/2026-05-15/
LOCATION:Los Gatos Islamic Center (LGIC)\, 16769 Farley Rd\, Los Gatos\, CA\, 95032\, United States
CATEGORIES:Friday Prayer
ORGANIZER;CN="West Valley Muslim Association":MAILTO:info@wvmuslim.org
END:VEVENT
BEGIN:VEVENT
DTSTART;TZID=UTC:20260522T123000
DTEND;TZID=UTC:20260522T140000
DTSTAMP:20260419T160350
CREATED:20250717T211412Z
LAST-MODIFIED:20250717T211412Z
UID:10000932-1779453000-1779458400@wvmuslim.org
SUMMARY:Jumu'ah (Friday) Prayers @ Prospect Center
DESCRIPTION:Join us every Friday for Jumu’ah prayer at the Prospect Center. We offer three prayer times: \n\n\nFirst Khutbah: 12:30 PM\, \n\n\nSecond Khutbah: 1:30 PM\, \n\n\n\n\n\nEach sermon is followed by the congregational prayer. Everyone is welcome to attend and benefit from the spiritual reminder. Please arrive early to find parking and settle in.
URL:https://wvmuslim.org/event/jummuah-friday-prayers-prospect-center-12-4/2026-05-22/
LOCATION:Prospect Center\, 19848 Prospect Rd\, Saratoga\, CA\, CA 95070\, United States
CATEGORIES:Friday Prayer
ORGANIZER;CN="West Valley Muslim Association":MAILTO:info@wvmuslim.org
END:VEVENT
BEGIN:VEVENT
DTSTART;TZID=UTC:20260522T133000
DTEND;TZID=UTC:20260522T140000
DTSTAMP:20260419T160350
CREATED:20250717T211335Z
LAST-MODIFIED:20250717T211336Z
UID:10001456-1779456600-1779458400@wvmuslim.org
SUMMARY:Jumu'ah (Friday) Prayers @ LGIC
DESCRIPTION:Join us for Jumu’ah prayers every Friday at 1:30 PM at LGIC. The sermon (khutbah) begins promptly\, followed by the congregational prayer. Arrive early to find parking and settle in for a spiritually uplifting experience. All are welcome!
URL:https://wvmuslim.org/event/jummuah-friday-prayers-lgic-17-4/2026-05-22/
LOCATION:Los Gatos Islamic Center (LGIC)\, 16769 Farley Rd\, Los Gatos\, CA\, 95032\, United States
CATEGORIES:Friday Prayer
ORGANIZER;CN="West Valley Muslim Association":MAILTO:info@wvmuslim.org
END:VEVENT
BEGIN:VEVENT
DTSTART;TZID=UTC:20260529T123000
DTEND;TZID=UTC:20260529T140000
DTSTAMP:20260419T160350
CREATED:20250717T211412Z
LAST-MODIFIED:20250717T211412Z
UID:10000933-1780057800-1780063200@wvmuslim.org
SUMMARY:Jumu'ah (Friday) Prayers @ Prospect Center
DESCRIPTION:Join us every Friday for Jumu’ah prayer at the Prospect Center. We offer three prayer times: \n\n\nFirst Khutbah: 12:30 PM\, \n\n\nSecond Khutbah: 1:30 PM\, \n\n\n\n\n\nEach sermon is followed by the congregational prayer. Everyone is welcome to attend and benefit from the spiritual reminder. Please arrive early to find parking and settle in.
URL:https://wvmuslim.org/event/jummuah-friday-prayers-prospect-center-12-4/2026-05-29/
LOCATION:Prospect Center\, 19848 Prospect Rd\, Saratoga\, CA\, CA 95070\, United States
CATEGORIES:Friday Prayer
ORGANIZER;CN="West Valley Muslim Association":MAILTO:info@wvmuslim.org
END:VEVENT
BEGIN:VEVENT
DTSTART;TZID=UTC:20260529T133000
DTEND;TZID=UTC:20260529T140000
DTSTAMP:20260419T160350
CREATED:20250717T211335Z
LAST-MODIFIED:20250717T211336Z
UID:10001457-1780061400-1780063200@wvmuslim.org
SUMMARY:Jumu'ah (Friday) Prayers @ LGIC
DESCRIPTION:Join us for Jumu’ah prayers every Friday at 1:30 PM at LGIC. The sermon (khutbah) begins promptly\, followed by the congregational prayer. Arrive early to find parking and settle in for a spiritually uplifting experience. All are welcome!
URL:https://wvmuslim.org/event/jummuah-friday-prayers-lgic-17-4/2026-05-29/
LOCATION:Los Gatos Islamic Center (LGIC)\, 16769 Farley Rd\, Los Gatos\, CA\, 95032\, United States
CATEGORIES:Friday Prayer
ORGANIZER;CN="West Valley Muslim Association":MAILTO:info@wvmuslim.org
END:VEVENT
BEGIN:VEVENT
DTSTART;TZID=UTC:20260605T123000
DTEND;TZID=UTC:20260605T140000
DTSTAMP:20260419T160350
CREATED:20250717T211412Z
LAST-MODIFIED:20250717T211412Z
UID:10000934-1780662600-1780668000@wvmuslim.org
SUMMARY:Jumu'ah (Friday) Prayers @ Prospect Center
DESCRIPTION:Join us every Friday for Jumu’ah prayer at the Prospect Center. We offer three prayer times: \n\n\nFirst Khutbah: 12:30 PM\, \n\n\nSecond Khutbah: 1:30 PM\, \n\n\n\n\n\nEach sermon is followed by the congregational prayer. Everyone is welcome to attend and benefit from the spiritual reminder. Please arrive early to find parking and settle in.
URL:https://wvmuslim.org/event/jummuah-friday-prayers-prospect-center-12-4/2026-06-05/
LOCATION:Prospect Center\, 19848 Prospect Rd\, Saratoga\, CA\, CA 95070\, United States
CATEGORIES:Friday Prayer
ORGANIZER;CN="West Valley Muslim Association":MAILTO:info@wvmuslim.org
END:VEVENT
BEGIN:VEVENT
DTSTART;TZID=UTC:20260605T133000
DTEND;TZID=UTC:20260605T140000
DTSTAMP:20260419T160350
CREATED:20250717T211335Z
LAST-MODIFIED:20250717T211336Z
UID:10001458-1780666200-1780668000@wvmuslim.org
SUMMARY:Jumu'ah (Friday) Prayers @ LGIC
DESCRIPTION:Join us for Jumu’ah prayers every Friday at 1:30 PM at LGIC. The sermon (khutbah) begins promptly\, followed by the congregational prayer. Arrive early to find parking and settle in for a spiritually uplifting experience. All are welcome!
URL:https://wvmuslim.org/event/jummuah-friday-prayers-lgic-17-4/2026-06-05/
LOCATION:Los Gatos Islamic Center (LGIC)\, 16769 Farley Rd\, Los Gatos\, CA\, 95032\, United States
CATEGORIES:Friday Prayer
ORGANIZER;CN="West Valley Muslim Association":MAILTO:info@wvmuslim.org
END:VEVENT
BEGIN:VEVENT
DTSTART;TZID=UTC:20260612T123000
DTEND;TZID=UTC:20260612T140000
DTSTAMP:20260419T160350
CREATED:20250717T211412Z
LAST-MODIFIED:20250717T211412Z
UID:10000935-1781267400-1781272800@wvmuslim.org
SUMMARY:Jumu'ah (Friday) Prayers @ Prospect Center
DESCRIPTION:Join us every Friday for Jumu’ah prayer at the Prospect Center. We offer three prayer times: \n\n\nFirst Khutbah: 12:30 PM\, \n\n\nSecond Khutbah: 1:30 PM\, \n\n\n\n\n\nEach sermon is followed by the congregational prayer. Everyone is welcome to attend and benefit from the spiritual reminder. Please arrive early to find parking and settle in.
URL:https://wvmuslim.org/event/jummuah-friday-prayers-prospect-center-12-4/2026-06-12/
LOCATION:Prospect Center\, 19848 Prospect Rd\, Saratoga\, CA\, CA 95070\, United States
CATEGORIES:Friday Prayer
ORGANIZER;CN="West Valley Muslim Association":MAILTO:info@wvmuslim.org
END:VEVENT
BEGIN:VEVENT
DTSTART;TZID=UTC:20260612T133000
DTEND;TZID=UTC:20260612T140000
DTSTAMP:20260419T160350
CREATED:20250717T211335Z
LAST-MODIFIED:20250717T211336Z
UID:10001459-1781271000-1781272800@wvmuslim.org
SUMMARY:Jumu'ah (Friday) Prayers @ LGIC
DESCRIPTION:Join us for Jumu’ah prayers every Friday at 1:30 PM at LGIC. The sermon (khutbah) begins promptly\, followed by the congregational prayer. Arrive early to find parking and settle in for a spiritually uplifting experience. All are welcome!
URL:https://wvmuslim.org/event/jummuah-friday-prayers-lgic-17-4/2026-06-12/
LOCATION:Los Gatos Islamic Center (LGIC)\, 16769 Farley Rd\, Los Gatos\, CA\, 95032\, United States
CATEGORIES:Friday Prayer
ORGANIZER;CN="West Valley Muslim Association":MAILTO:info@wvmuslim.org
END:VEVENT
BEGIN:VEVENT
DTSTART;TZID=UTC:20260619T123000
DTEND;TZID=UTC:20260619T140000
DTSTAMP:20260419T160350
CREATED:20250717T211412Z
LAST-MODIFIED:20250717T211412Z
UID:10000936-1781872200-1781877600@wvmuslim.org
SUMMARY:Jumu'ah (Friday) Prayers @ Prospect Center
DESCRIPTION:Join us every Friday for Jumu’ah prayer at the Prospect Center. We offer three prayer times: \n\n\nFirst Khutbah: 12:30 PM\, \n\n\nSecond Khutbah: 1:30 PM\, \n\n\n\n\n\nEach sermon is followed by the congregational prayer. Everyone is welcome to attend and benefit from the spiritual reminder. Please arrive early to find parking and settle in.
URL:https://wvmuslim.org/event/jummuah-friday-prayers-prospect-center-12-4/2026-06-19/
LOCATION:Prospect Center\, 19848 Prospect Rd\, Saratoga\, CA\, CA 95070\, United States
CATEGORIES:Friday Prayer
ORGANIZER;CN="West Valley Muslim Association":MAILTO:info@wvmuslim.org
END:VEVENT
BEGIN:VEVENT
DTSTART;TZID=UTC:20260619T133000
DTEND;TZID=UTC:20260619T140000
DTSTAMP:20260419T160350
CREATED:20250717T211335Z
LAST-MODIFIED:20250717T211336Z
UID:10001460-1781875800-1781877600@wvmuslim.org
SUMMARY:Jumu'ah (Friday) Prayers @ LGIC
DESCRIPTION:Join us for Jumu’ah prayers every Friday at 1:30 PM at LGIC. The sermon (khutbah) begins promptly\, followed by the congregational prayer. Arrive early to find parking and settle in for a spiritually uplifting experience. All are welcome!
URL:https://wvmuslim.org/event/jummuah-friday-prayers-lgic-17-4/2026-06-19/
LOCATION:Los Gatos Islamic Center (LGIC)\, 16769 Farley Rd\, Los Gatos\, CA\, 95032\, United States
CATEGORIES:Friday Prayer
ORGANIZER;CN="West Valley Muslim Association":MAILTO:info@wvmuslim.org
END:VEVENT
BEGIN:VEVENT
DTSTART;TZID=UTC:20260626T123000
DTEND;TZID=UTC:20260626T140000
DTSTAMP:20260419T160350
CREATED:20250717T211412Z
LAST-MODIFIED:20250717T211412Z
UID:10000937-1782477000-1782482400@wvmuslim.org
SUMMARY:Jumu'ah (Friday) Prayers @ Prospect Center
DESCRIPTION:Join us every Friday for Jumu’ah prayer at the Prospect Center. We offer three prayer times: \n\n\nFirst Khutbah: 12:30 PM\, \n\n\nSecond Khutbah: 1:30 PM\, \n\n\n\n\n\nEach sermon is followed by the congregational prayer. Everyone is welcome to attend and benefit from the spiritual reminder. Please arrive early to find parking and settle in.
URL:https://wvmuslim.org/event/jummuah-friday-prayers-prospect-center-12-4/2026-06-26/
LOCATION:Prospect Center\, 19848 Prospect Rd\, Saratoga\, CA\, CA 95070\, United States
CATEGORIES:Friday Prayer
ORGANIZER;CN="West Valley Muslim Association":MAILTO:info@wvmuslim.org
END:VEVENT
BEGIN:VEVENT
DTSTART;TZID=UTC:20260626T133000
DTEND;TZID=UTC:20260626T140000
DTSTAMP:20260419T160350
CREATED:20250717T211335Z
LAST-MODIFIED:20250717T211336Z
UID:10001461-1782480600-1782482400@wvmuslim.org
SUMMARY:Jumu'ah (Friday) Prayers @ LGIC
DESCRIPTION:Join us for Jumu’ah prayers every Friday at 1:30 PM at LGIC. The sermon (khutbah) begins promptly\, followed by the congregational prayer. Arrive early to find parking and settle in for a spiritually uplifting experience. All are welcome!
URL:https://wvmuslim.org/event/jummuah-friday-prayers-lgic-17-4/2026-06-26/
LOCATION:Los Gatos Islamic Center (LGIC)\, 16769 Farley Rd\, Los Gatos\, CA\, 95032\, United States
CATEGORIES:Friday Prayer
ORGANIZER;CN="West Valley Muslim Association":MAILTO:info@wvmuslim.org
END:VEVENT
BEGIN:VEVENT
DTSTART;TZID=UTC:20260703T123000
DTEND;TZID=UTC:20260703T140000
DTSTAMP:20260419T160350
CREATED:20250717T211412Z
LAST-MODIFIED:20250717T211412Z
UID:10000938-1783081800-1783087200@wvmuslim.org
SUMMARY:Jumu'ah (Friday) Prayers @ Prospect Center
DESCRIPTION:Join us every Friday for Jumu’ah prayer at the Prospect Center. We offer three prayer times: \n\n\nFirst Khutbah: 12:30 PM\, \n\n\nSecond Khutbah: 1:30 PM\, \n\n\n\n\n\nEach sermon is followed by the congregational prayer. Everyone is welcome to attend and benefit from the spiritual reminder. Please arrive early to find parking and settle in.
URL:https://wvmuslim.org/event/jummuah-friday-prayers-prospect-center-12-4/2026-07-03/
LOCATION:Prospect Center\, 19848 Prospect Rd\, Saratoga\, CA\, CA 95070\, United States
CATEGORIES:Friday Prayer
ORGANIZER;CN="West Valley Muslim Association":MAILTO:info@wvmuslim.org
END:VEVENT
BEGIN:VEVENT
DTSTART;TZID=UTC:20260703T133000
DTEND;TZID=UTC:20260703T140000
DTSTAMP:20260419T160350
CREATED:20250717T211335Z
LAST-MODIFIED:20250717T211336Z
UID:10001462-1783085400-1783087200@wvmuslim.org
SUMMARY:Jumu'ah (Friday) Prayers @ LGIC
DESCRIPTION:Join us for Jumu’ah prayers every Friday at 1:30 PM at LGIC. The sermon (khutbah) begins promptly\, followed by the congregational prayer. Arrive early to find parking and settle in for a spiritually uplifting experience. All are welcome!
URL:https://wvmuslim.org/event/jummuah-friday-prayers-lgic-17-4/2026-07-03/
LOCATION:Los Gatos Islamic Center (LGIC)\, 16769 Farley Rd\, Los Gatos\, CA\, 95032\, United States
CATEGORIES:Friday Prayer
ORGANIZER;CN="West Valley Muslim Association":MAILTO:info@wvmuslim.org
END:VEVENT
BEGIN:VEVENT
DTSTART;TZID=UTC:20260710T123000
DTEND;TZID=UTC:20260710T140000
DTSTAMP:20260419T160350
CREATED:20250717T211412Z
LAST-MODIFIED:20250717T211412Z
UID:10000939-1783686600-1783692000@wvmuslim.org
SUMMARY:Jumu'ah (Friday) Prayers @ Prospect Center
DESCRIPTION:Join us every Friday for Jumu’ah prayer at the Prospect Center. We offer three prayer times: \n\n\nFirst Khutbah: 12:30 PM\, \n\n\nSecond Khutbah: 1:30 PM\, \n\n\n\n\n\nEach sermon is followed by the congregational prayer. Everyone is welcome to attend and benefit from the spiritual reminder. Please arrive early to find parking and settle in.
URL:https://wvmuslim.org/event/jummuah-friday-prayers-prospect-center-12-4/2026-07-10/
LOCATION:Prospect Center\, 19848 Prospect Rd\, Saratoga\, CA\, CA 95070\, United States
CATEGORIES:Friday Prayer
ORGANIZER;CN="West Valley Muslim Association":MAILTO:info@wvmuslim.org
END:VEVENT
BEGIN:VEVENT
DTSTART;TZID=UTC:20260710T133000
DTEND;TZID=UTC:20260710T140000
DTSTAMP:20260419T160350
CREATED:20250717T211335Z
LAST-MODIFIED:20250717T211336Z
UID:10001463-1783690200-1783692000@wvmuslim.org
SUMMARY:Jumu'ah (Friday) Prayers @ LGIC
DESCRIPTION:Join us for Jumu’ah prayers every Friday at 1:30 PM at LGIC. The sermon (khutbah) begins promptly\, followed by the congregational prayer. Arrive early to find parking and settle in for a spiritually uplifting experience. All are welcome!
URL:https://wvmuslim.org/event/jummuah-friday-prayers-lgic-17-4/2026-07-10/
LOCATION:Los Gatos Islamic Center (LGIC)\, 16769 Farley Rd\, Los Gatos\, CA\, 95032\, United States
CATEGORIES:Friday Prayer
ORGANIZER;CN="West Valley Muslim Association":MAILTO:info@wvmuslim.org
END:VEVENT
BEGIN:VEVENT
DTSTART;TZID=UTC:20260717T123000
DTEND;TZID=UTC:20260717T140000
DTSTAMP:20260419T160350
CREATED:20250717T211412Z
LAST-MODIFIED:20250717T211412Z
UID:10000940-1784291400-1784296800@wvmuslim.org
SUMMARY:Jumu'ah (Friday) Prayers @ Prospect Center
DESCRIPTION:Join us every Friday for Jumu’ah prayer at the Prospect Center. We offer three prayer times: \n\n\nFirst Khutbah: 12:30 PM\, \n\n\nSecond Khutbah: 1:30 PM\, \n\n\n\n\n\nEach sermon is followed by the congregational prayer. Everyone is welcome to attend and benefit from the spiritual reminder. Please arrive early to find parking and settle in.
URL:https://wvmuslim.org/event/jummuah-friday-prayers-prospect-center-12-4/2026-07-17/
LOCATION:Prospect Center\, 19848 Prospect Rd\, Saratoga\, CA\, CA 95070\, United States
CATEGORIES:Friday Prayer
ORGANIZER;CN="West Valley Muslim Association":MAILTO:info@wvmuslim.org
END:VEVENT
BEGIN:VEVENT
DTSTART;TZID=UTC:20260717T133000
DTEND;TZID=UTC:20260717T140000
DTSTAMP:20260419T160350
CREATED:20250717T211335Z
LAST-MODIFIED:20250717T211336Z
UID:10001464-1784295000-1784296800@wvmuslim.org
SUMMARY:Jumu'ah (Friday) Prayers @ LGIC
DESCRIPTION:Join us for Jumu’ah prayers every Friday at 1:30 PM at LGIC. The sermon (khutbah) begins promptly\, followed by the congregational prayer. Arrive early to find parking and settle in for a spiritually uplifting experience. All are welcome!
URL:https://wvmuslim.org/event/jummuah-friday-prayers-lgic-17-4/2026-07-17/
LOCATION:Los Gatos Islamic Center (LGIC)\, 16769 Farley Rd\, Los Gatos\, CA\, 95032\, United States
CATEGORIES:Friday Prayer
ORGANIZER;CN="West Valley Muslim Association":MAILTO:info@wvmuslim.org
END:VEVENT
BEGIN:VEVENT
DTSTART;TZID=UTC:20260724T123000
DTEND;TZID=UTC:20260724T140000
DTSTAMP:20260419T160350
CREATED:20250717T211412Z
LAST-MODIFIED:20250717T211412Z
UID:10000941-1784896200-1784901600@wvmuslim.org
SUMMARY:Jumu'ah (Friday) Prayers @ Prospect Center
DESCRIPTION:Join us every Friday for Jumu’ah prayer at the Prospect Center. We offer three prayer times: \n\n\nFirst Khutbah: 12:30 PM\, \n\n\nSecond Khutbah: 1:30 PM\, \n\n\n\n\n\nEach sermon is followed by the congregational prayer. Everyone is welcome to attend and benefit from the spiritual reminder. Please arrive early to find parking and settle in.
URL:https://wvmuslim.org/event/jummuah-friday-prayers-prospect-center-12-4/2026-07-24/
LOCATION:Prospect Center\, 19848 Prospect Rd\, Saratoga\, CA\, CA 95070\, United States
CATEGORIES:Friday Prayer
ORGANIZER;CN="West Valley Muslim Association":MAILTO:info@wvmuslim.org
END:VEVENT
BEGIN:VEVENT
DTSTART;TZID=UTC:20260724T133000
DTEND;TZID=UTC:20260724T140000
DTSTAMP:20260419T160350
CREATED:20250717T211335Z
LAST-MODIFIED:20250717T211336Z
UID:10001465-1784899800-1784901600@wvmuslim.org
SUMMARY:Jumu'ah (Friday) Prayers @ LGIC
DESCRIPTION:Join us for Jumu’ah prayers every Friday at 1:30 PM at LGIC. The sermon (khutbah) begins promptly\, followed by the congregational prayer. Arrive early to find parking and settle in for a spiritually uplifting experience. All are welcome!
URL:https://wvmuslim.org/event/jummuah-friday-prayers-lgic-17-4/2026-07-24/
LOCATION:Los Gatos Islamic Center (LGIC)\, 16769 Farley Rd\, Los Gatos\, CA\, 95032\, United States
CATEGORIES:Friday Prayer
ORGANIZER;CN="West Valley Muslim Association":MAILTO:info@wvmuslim.org
END:VEVENT
BEGIN:VEVENT
DTSTART;TZID=UTC:20260731T123000
DTEND;TZID=UTC:20260731T140000
DTSTAMP:20260419T160350
CREATED:20250717T211412Z
LAST-MODIFIED:20250717T211412Z
UID:10000942-1785501000-1785506400@wvmuslim.org
SUMMARY:Jumu'ah (Friday) Prayers @ Prospect Center
DESCRIPTION:Join us every Friday for Jumu’ah prayer at the Prospect Center. We offer three prayer times: \n\n\nFirst Khutbah: 12:30 PM\, \n\n\nSecond Khutbah: 1:30 PM\, \n\n\n\n\n\nEach sermon is followed by the congregational prayer. Everyone is welcome to attend and benefit from the spiritual reminder. Please arrive early to find parking and settle in.
URL:https://wvmuslim.org/event/jummuah-friday-prayers-prospect-center-12-4/2026-07-31/
LOCATION:Prospect Center\, 19848 Prospect Rd\, Saratoga\, CA\, CA 95070\, United States
CATEGORIES:Friday Prayer
ORGANIZER;CN="West Valley Muslim Association":MAILTO:info@wvmuslim.org
END:VEVENT
BEGIN:VEVENT
DTSTART;TZID=UTC:20260731T133000
DTEND;TZID=UTC:20260731T140000
DTSTAMP:20260419T160350
CREATED:20250717T211335Z
LAST-MODIFIED:20250717T211336Z
UID:10001466-1785504600-1785506400@wvmuslim.org
SUMMARY:Jumu'ah (Friday) Prayers @ LGIC
DESCRIPTION:Join us for Jumu’ah prayers every Friday at 1:30 PM at LGIC. The sermon (khutbah) begins promptly\, followed by the congregational prayer. Arrive early to find parking and settle in for a spiritually uplifting experience. All are welcome!
URL:https://wvmuslim.org/event/jummuah-friday-prayers-lgic-17-4/2026-07-31/
LOCATION:Los Gatos Islamic Center (LGIC)\, 16769 Farley Rd\, Los Gatos\, CA\, 95032\, United States
CATEGORIES:Friday Prayer
ORGANIZER;CN="West Valley Muslim Association":MAILTO:info@wvmuslim.org
END:VEVENT
BEGIN:VEVENT
DTSTART;TZID=UTC:20260807T123000
DTEND;TZID=UTC:20260807T140000
DTSTAMP:20260419T160350
CREATED:20250717T211412Z
LAST-MODIFIED:20250717T211412Z
UID:10000943-1786105800-1786111200@wvmuslim.org
SUMMARY:Jumu'ah (Friday) Prayers @ Prospect Center
DESCRIPTION:Join us every Friday for Jumu’ah prayer at the Prospect Center. We offer three prayer times: \n\n\nFirst Khutbah: 12:30 PM\, \n\n\nSecond Khutbah: 1:30 PM\, \n\n\n\n\n\nEach sermon is followed by the congregational prayer. Everyone is welcome to attend and benefit from the spiritual reminder. Please arrive early to find parking and settle in.
URL:https://wvmuslim.org/event/jummuah-friday-prayers-prospect-center-12-4/2026-08-07/
LOCATION:Prospect Center\, 19848 Prospect Rd\, Saratoga\, CA\, CA 95070\, United States
CATEGORIES:Friday Prayer
ORGANIZER;CN="West Valley Muslim Association":MAILTO:info@wvmuslim.org
END:VEVENT
BEGIN:VEVENT
DTSTART;TZID=UTC:20260807T133000
DTEND;TZID=UTC:20260807T140000
DTSTAMP:20260419T160350
CREATED:20250717T211335Z
LAST-MODIFIED:20250717T211336Z
UID:10001467-1786109400-1786111200@wvmuslim.org
SUMMARY:Jumu'ah (Friday) Prayers @ LGIC
DESCRIPTION:Join us for Jumu’ah prayers every Friday at 1:30 PM at LGIC. The sermon (khutbah) begins promptly\, followed by the congregational prayer. Arrive early to find parking and settle in for a spiritually uplifting experience. All are welcome!
URL:https://wvmuslim.org/event/jummuah-friday-prayers-lgic-17-4/2026-08-07/
LOCATION:Los Gatos Islamic Center (LGIC)\, 16769 Farley Rd\, Los Gatos\, CA\, 95032\, United States
CATEGORIES:Friday Prayer
ORGANIZER;CN="West Valley Muslim Association":MAILTO:info@wvmuslim.org
END:VEVENT
BEGIN:VEVENT
DTSTART;TZID=UTC:20260814T123000
DTEND;TZID=UTC:20260814T140000
DTSTAMP:20260419T160350
CREATED:20250717T211412Z
LAST-MODIFIED:20250717T211412Z
UID:10000944-1786710600-1786716000@wvmuslim.org
SUMMARY:Jumu'ah (Friday) Prayers @ Prospect Center
DESCRIPTION:Join us every Friday for Jumu’ah prayer at the Prospect Center. We offer three prayer times: \n\n\nFirst Khutbah: 12:30 PM\, \n\n\nSecond Khutbah: 1:30 PM\, \n\n\n\n\n\nEach sermon is followed by the congregational prayer. Everyone is welcome to attend and benefit from the spiritual reminder. Please arrive early to find parking and settle in.
URL:https://wvmuslim.org/event/jummuah-friday-prayers-prospect-center-12-4/2026-08-14/
LOCATION:Prospect Center\, 19848 Prospect Rd\, Saratoga\, CA\, CA 95070\, United States
CATEGORIES:Friday Prayer
ORGANIZER;CN="West Valley Muslim Association":MAILTO:info@wvmuslim.org
END:VEVENT
BEGIN:VEVENT
DTSTART;TZID=UTC:20260814T133000
DTEND;TZID=UTC:20260814T140000
DTSTAMP:20260419T160350
CREATED:20250717T211335Z
LAST-MODIFIED:20250717T211336Z
UID:10001468-1786714200-1786716000@wvmuslim.org
SUMMARY:Jumu'ah (Friday) Prayers @ LGIC
DESCRIPTION:Join us for Jumu’ah prayers every Friday at 1:30 PM at LGIC. The sermon (khutbah) begins promptly\, followed by the congregational prayer. Arrive early to find parking and settle in for a spiritually uplifting experience. All are welcome!
URL:https://wvmuslim.org/event/jummuah-friday-prayers-lgic-17-4/2026-08-14/
LOCATION:Los Gatos Islamic Center (LGIC)\, 16769 Farley Rd\, Los Gatos\, CA\, 95032\, United States
CATEGORIES:Friday Prayer
ORGANIZER;CN="West Valley Muslim Association":MAILTO:info@wvmuslim.org
END:VEVENT
BEGIN:VEVENT
DTSTART;TZID=UTC:20260821T123000
DTEND;TZID=UTC:20260821T140000
DTSTAMP:20260419T160350
CREATED:20250717T211412Z
LAST-MODIFIED:20250717T211412Z
UID:10000945-1787315400-1787320800@wvmuslim.org
SUMMARY:Jumu'ah (Friday) Prayers @ Prospect Center
DESCRIPTION:Join us every Friday for Jumu’ah prayer at the Prospect Center. We offer three prayer times: \n\n\nFirst Khutbah: 12:30 PM\, \n\n\nSecond Khutbah: 1:30 PM\, \n\n\n\n\n\nEach sermon is followed by the congregational prayer. Everyone is welcome to attend and benefit from the spiritual reminder. Please arrive early to find parking and settle in.
URL:https://wvmuslim.org/event/jummuah-friday-prayers-prospect-center-12-4/2026-08-21/
LOCATION:Prospect Center\, 19848 Prospect Rd\, Saratoga\, CA\, CA 95070\, United States
CATEGORIES:Friday Prayer
ORGANIZER;CN="West Valley Muslim Association":MAILTO:info@wvmuslim.org
END:VEVENT
BEGIN:VEVENT
DTSTART;TZID=UTC:20260821T133000
DTEND;TZID=UTC:20260821T140000
DTSTAMP:20260419T160350
CREATED:20250717T211335Z
LAST-MODIFIED:20250717T211336Z
UID:10001469-1787319000-1787320800@wvmuslim.org
SUMMARY:Jumu'ah (Friday) Prayers @ LGIC
DESCRIPTION:Join us for Jumu’ah prayers every Friday at 1:30 PM at LGIC. The sermon (khutbah) begins promptly\, followed by the congregational prayer. Arrive early to find parking and settle in for a spiritually uplifting experience. All are welcome!
URL:https://wvmuslim.org/event/jummuah-friday-prayers-lgic-17-4/2026-08-21/
LOCATION:Los Gatos Islamic Center (LGIC)\, 16769 Farley Rd\, Los Gatos\, CA\, 95032\, United States
CATEGORIES:Friday Prayer
ORGANIZER;CN="West Valley Muslim Association":MAILTO:info@wvmuslim.org
END:VEVENT
BEGIN:VEVENT
DTSTART;TZID=UTC:20260828T123000
DTEND;TZID=UTC:20260828T140000
DTSTAMP:20260419T160350
CREATED:20250717T211412Z
LAST-MODIFIED:20250717T211412Z
UID:10000946-1787920200-1787925600@wvmuslim.org
SUMMARY:Jumu'ah (Friday) Prayers @ Prospect Center
DESCRIPTION:Join us every Friday for Jumu’ah prayer at the Prospect Center. We offer three prayer times: \n\n\nFirst Khutbah: 12:30 PM\, \n\n\nSecond Khutbah: 1:30 PM\, \n\n\n\n\n\nEach sermon is followed by the congregational prayer. Everyone is welcome to attend and benefit from the spiritual reminder. Please arrive early to find parking and settle in.
URL:https://wvmuslim.org/event/jummuah-friday-prayers-prospect-center-12-4/2026-08-28/
LOCATION:Prospect Center\, 19848 Prospect Rd\, Saratoga\, CA\, CA 95070\, United States
CATEGORIES:Friday Prayer
ORGANIZER;CN="West Valley Muslim Association":MAILTO:info@wvmuslim.org
END:VEVENT
END:VCALENDAR