BEGIN:VCALENDAR
VERSION:2.0
PRODID:-// - ECPv6.15.20//NONSGML v1.0//EN
CALSCALE:GREGORIAN
METHOD:PUBLISH
X-ORIGINAL-URL:https://wvmuslim.org
X-WR-CALDESC:Events for 
REFRESH-INTERVAL;VALUE=DURATION:PT1H
X-Robots-Tag:noindex
X-PUBLISHED-TTL:PT1H
BEGIN:VTIMEZONE
TZID:UTC
BEGIN:STANDARD
TZOFFSETFROM:+0000
TZOFFSETTO:+0000
TZNAME:UTC
DTSTART:20260101T000000
END:STANDARD
END:VTIMEZONE
BEGIN:VEVENT
DTSTART;TZID=UTC:20271029T133000
DTEND;TZID=UTC:20271029T140000
DTSTAMP:20260421T160950
CREATED:20250717T211335Z
LAST-MODIFIED:20250717T211336Z
UID:10001531-1824816600-1824818400@wvmuslim.org
SUMMARY:Jumu'ah (Friday) Prayers @ LGIC
DESCRIPTION:Join us for Jumu’ah prayers every Friday at 1:30 PM at LGIC. The sermon (khutbah) begins promptly\, followed by the congregational prayer. Arrive early to find parking and settle in for a spiritually uplifting experience. All are welcome!
URL:https://wvmuslim.org/event/jummuah-friday-prayers-lgic-17-4/2027-10-29/
LOCATION:Los Gatos Islamic Center (LGIC)\, 16769 Farley Rd\, Los Gatos\, CA\, 95032\, United States
CATEGORIES:Friday Prayer
ORGANIZER;CN="West Valley Muslim Association":MAILTO:info@wvmuslim.org
END:VEVENT
BEGIN:VEVENT
DTSTART;TZID=UTC:20271105T123000
DTEND;TZID=UTC:20271105T140000
DTSTAMP:20260421T160950
CREATED:20250717T211412Z
LAST-MODIFIED:20250717T211412Z
UID:10001008-1825417800-1825423200@wvmuslim.org
SUMMARY:Jumu'ah (Friday) Prayers @ Prospect Center
DESCRIPTION:Join us every Friday for Jumu’ah prayer at the Prospect Center. We offer three prayer times: \n\n\nFirst Khutbah: 12:30 PM\, \n\n\nSecond Khutbah: 1:30 PM\, \n\n\n\n\n\nEach sermon is followed by the congregational prayer. Everyone is welcome to attend and benefit from the spiritual reminder. Please arrive early to find parking and settle in.
URL:https://wvmuslim.org/event/jummuah-friday-prayers-prospect-center-12-4/2027-11-05/
LOCATION:Prospect Center\, 19848 Prospect Rd\, Saratoga\, CA\, CA 95070\, United States
CATEGORIES:Friday Prayer
ORGANIZER;CN="West Valley Muslim Association":MAILTO:info@wvmuslim.org
END:VEVENT
BEGIN:VEVENT
DTSTART;TZID=UTC:20271105T133000
DTEND;TZID=UTC:20271105T140000
DTSTAMP:20260421T160950
CREATED:20250717T211335Z
LAST-MODIFIED:20250717T211336Z
UID:10001532-1825421400-1825423200@wvmuslim.org
SUMMARY:Jumu'ah (Friday) Prayers @ LGIC
DESCRIPTION:Join us for Jumu’ah prayers every Friday at 1:30 PM at LGIC. The sermon (khutbah) begins promptly\, followed by the congregational prayer. Arrive early to find parking and settle in for a spiritually uplifting experience. All are welcome!
URL:https://wvmuslim.org/event/jummuah-friday-prayers-lgic-17-4/2027-11-05/
LOCATION:Los Gatos Islamic Center (LGIC)\, 16769 Farley Rd\, Los Gatos\, CA\, 95032\, United States
CATEGORIES:Friday Prayer
ORGANIZER;CN="West Valley Muslim Association":MAILTO:info@wvmuslim.org
END:VEVENT
BEGIN:VEVENT
DTSTART;TZID=UTC:20271112T123000
DTEND;TZID=UTC:20271112T140000
DTSTAMP:20260421T160950
CREATED:20250717T211412Z
LAST-MODIFIED:20250717T211412Z
UID:10001009-1826022600-1826028000@wvmuslim.org
SUMMARY:Jumu'ah (Friday) Prayers @ Prospect Center
DESCRIPTION:Join us every Friday for Jumu’ah prayer at the Prospect Center. We offer three prayer times: \n\n\nFirst Khutbah: 12:30 PM\, \n\n\nSecond Khutbah: 1:30 PM\, \n\n\n\n\n\nEach sermon is followed by the congregational prayer. Everyone is welcome to attend and benefit from the spiritual reminder. Please arrive early to find parking and settle in.
URL:https://wvmuslim.org/event/jummuah-friday-prayers-prospect-center-12-4/2027-11-12/
LOCATION:Prospect Center\, 19848 Prospect Rd\, Saratoga\, CA\, CA 95070\, United States
CATEGORIES:Friday Prayer
ORGANIZER;CN="West Valley Muslim Association":MAILTO:info@wvmuslim.org
END:VEVENT
BEGIN:VEVENT
DTSTART;TZID=UTC:20271112T133000
DTEND;TZID=UTC:20271112T140000
DTSTAMP:20260421T160950
CREATED:20250717T211335Z
LAST-MODIFIED:20250717T211336Z
UID:10001533-1826026200-1826028000@wvmuslim.org
SUMMARY:Jumu'ah (Friday) Prayers @ LGIC
DESCRIPTION:Join us for Jumu’ah prayers every Friday at 1:30 PM at LGIC. The sermon (khutbah) begins promptly\, followed by the congregational prayer. Arrive early to find parking and settle in for a spiritually uplifting experience. All are welcome!
URL:https://wvmuslim.org/event/jummuah-friday-prayers-lgic-17-4/2027-11-12/
LOCATION:Los Gatos Islamic Center (LGIC)\, 16769 Farley Rd\, Los Gatos\, CA\, 95032\, United States
CATEGORIES:Friday Prayer
ORGANIZER;CN="West Valley Muslim Association":MAILTO:info@wvmuslim.org
END:VEVENT
BEGIN:VEVENT
DTSTART;TZID=UTC:20271119T123000
DTEND;TZID=UTC:20271119T140000
DTSTAMP:20260421T160950
CREATED:20250717T211412Z
LAST-MODIFIED:20250717T211412Z
UID:10001010-1826627400-1826632800@wvmuslim.org
SUMMARY:Jumu'ah (Friday) Prayers @ Prospect Center
DESCRIPTION:Join us every Friday for Jumu’ah prayer at the Prospect Center. We offer three prayer times: \n\n\nFirst Khutbah: 12:30 PM\, \n\n\nSecond Khutbah: 1:30 PM\, \n\n\n\n\n\nEach sermon is followed by the congregational prayer. Everyone is welcome to attend and benefit from the spiritual reminder. Please arrive early to find parking and settle in.
URL:https://wvmuslim.org/event/jummuah-friday-prayers-prospect-center-12-4/2027-11-19/
LOCATION:Prospect Center\, 19848 Prospect Rd\, Saratoga\, CA\, CA 95070\, United States
CATEGORIES:Friday Prayer
ORGANIZER;CN="West Valley Muslim Association":MAILTO:info@wvmuslim.org
END:VEVENT
BEGIN:VEVENT
DTSTART;TZID=UTC:20271119T133000
DTEND;TZID=UTC:20271119T140000
DTSTAMP:20260421T160950
CREATED:20250717T211335Z
LAST-MODIFIED:20250717T211336Z
UID:10001534-1826631000-1826632800@wvmuslim.org
SUMMARY:Jumu'ah (Friday) Prayers @ LGIC
DESCRIPTION:Join us for Jumu’ah prayers every Friday at 1:30 PM at LGIC. The sermon (khutbah) begins promptly\, followed by the congregational prayer. Arrive early to find parking and settle in for a spiritually uplifting experience. All are welcome!
URL:https://wvmuslim.org/event/jummuah-friday-prayers-lgic-17-4/2027-11-19/
LOCATION:Los Gatos Islamic Center (LGIC)\, 16769 Farley Rd\, Los Gatos\, CA\, 95032\, United States
CATEGORIES:Friday Prayer
ORGANIZER;CN="West Valley Muslim Association":MAILTO:info@wvmuslim.org
END:VEVENT
BEGIN:VEVENT
DTSTART;TZID=UTC:20271126T123000
DTEND;TZID=UTC:20271126T140000
DTSTAMP:20260421T160950
CREATED:20250717T211412Z
LAST-MODIFIED:20250717T211412Z
UID:10001011-1827232200-1827237600@wvmuslim.org
SUMMARY:Jumu'ah (Friday) Prayers @ Prospect Center
DESCRIPTION:Join us every Friday for Jumu’ah prayer at the Prospect Center. We offer three prayer times: \n\n\nFirst Khutbah: 12:30 PM\, \n\n\nSecond Khutbah: 1:30 PM\, \n\n\n\n\n\nEach sermon is followed by the congregational prayer. Everyone is welcome to attend and benefit from the spiritual reminder. Please arrive early to find parking and settle in.
URL:https://wvmuslim.org/event/jummuah-friday-prayers-prospect-center-12-4/2027-11-26/
LOCATION:Prospect Center\, 19848 Prospect Rd\, Saratoga\, CA\, CA 95070\, United States
CATEGORIES:Friday Prayer
ORGANIZER;CN="West Valley Muslim Association":MAILTO:info@wvmuslim.org
END:VEVENT
BEGIN:VEVENT
DTSTART;TZID=UTC:20271126T133000
DTEND;TZID=UTC:20271126T140000
DTSTAMP:20260421T160950
CREATED:20250717T211335Z
LAST-MODIFIED:20250717T211336Z
UID:10001535-1827235800-1827237600@wvmuslim.org
SUMMARY:Jumu'ah (Friday) Prayers @ LGIC
DESCRIPTION:Join us for Jumu’ah prayers every Friday at 1:30 PM at LGIC. The sermon (khutbah) begins promptly\, followed by the congregational prayer. Arrive early to find parking and settle in for a spiritually uplifting experience. All are welcome!
URL:https://wvmuslim.org/event/jummuah-friday-prayers-lgic-17-4/2027-11-26/
LOCATION:Los Gatos Islamic Center (LGIC)\, 16769 Farley Rd\, Los Gatos\, CA\, 95032\, United States
CATEGORIES:Friday Prayer
ORGANIZER;CN="West Valley Muslim Association":MAILTO:info@wvmuslim.org
END:VEVENT
BEGIN:VEVENT
DTSTART;TZID=UTC:20271203T123000
DTEND;TZID=UTC:20271203T140000
DTSTAMP:20260421T160950
CREATED:20250717T211412Z
LAST-MODIFIED:20250717T211412Z
UID:10001012-1827837000-1827842400@wvmuslim.org
SUMMARY:Jumu'ah (Friday) Prayers @ Prospect Center
DESCRIPTION:Join us every Friday for Jumu’ah prayer at the Prospect Center. We offer three prayer times: \n\n\nFirst Khutbah: 12:30 PM\, \n\n\nSecond Khutbah: 1:30 PM\, \n\n\n\n\n\nEach sermon is followed by the congregational prayer. Everyone is welcome to attend and benefit from the spiritual reminder. Please arrive early to find parking and settle in.
URL:https://wvmuslim.org/event/jummuah-friday-prayers-prospect-center-12-4/2027-12-03/
LOCATION:Prospect Center\, 19848 Prospect Rd\, Saratoga\, CA\, CA 95070\, United States
CATEGORIES:Friday Prayer
ORGANIZER;CN="West Valley Muslim Association":MAILTO:info@wvmuslim.org
END:VEVENT
BEGIN:VEVENT
DTSTART;TZID=UTC:20271203T133000
DTEND;TZID=UTC:20271203T140000
DTSTAMP:20260421T160950
CREATED:20250717T211335Z
LAST-MODIFIED:20250717T211336Z
UID:10001536-1827840600-1827842400@wvmuslim.org
SUMMARY:Jumu'ah (Friday) Prayers @ LGIC
DESCRIPTION:Join us for Jumu’ah prayers every Friday at 1:30 PM at LGIC. The sermon (khutbah) begins promptly\, followed by the congregational prayer. Arrive early to find parking and settle in for a spiritually uplifting experience. All are welcome!
URL:https://wvmuslim.org/event/jummuah-friday-prayers-lgic-17-4/2027-12-03/
LOCATION:Los Gatos Islamic Center (LGIC)\, 16769 Farley Rd\, Los Gatos\, CA\, 95032\, United States
CATEGORIES:Friday Prayer
ORGANIZER;CN="West Valley Muslim Association":MAILTO:info@wvmuslim.org
END:VEVENT
BEGIN:VEVENT
DTSTART;TZID=UTC:20271210T123000
DTEND;TZID=UTC:20271210T140000
DTSTAMP:20260421T160950
CREATED:20250717T211412Z
LAST-MODIFIED:20250717T211412Z
UID:10001013-1828441800-1828447200@wvmuslim.org
SUMMARY:Jumu'ah (Friday) Prayers @ Prospect Center
DESCRIPTION:Join us every Friday for Jumu’ah prayer at the Prospect Center. We offer three prayer times: \n\n\nFirst Khutbah: 12:30 PM\, \n\n\nSecond Khutbah: 1:30 PM\, \n\n\n\n\n\nEach sermon is followed by the congregational prayer. Everyone is welcome to attend and benefit from the spiritual reminder. Please arrive early to find parking and settle in.
URL:https://wvmuslim.org/event/jummuah-friday-prayers-prospect-center-12-4/2027-12-10/
LOCATION:Prospect Center\, 19848 Prospect Rd\, Saratoga\, CA\, CA 95070\, United States
CATEGORIES:Friday Prayer
ORGANIZER;CN="West Valley Muslim Association":MAILTO:info@wvmuslim.org
END:VEVENT
BEGIN:VEVENT
DTSTART;TZID=UTC:20271210T133000
DTEND;TZID=UTC:20271210T140000
DTSTAMP:20260421T160950
CREATED:20250717T211335Z
LAST-MODIFIED:20250717T211336Z
UID:10001537-1828445400-1828447200@wvmuslim.org
SUMMARY:Jumu'ah (Friday) Prayers @ LGIC
DESCRIPTION:Join us for Jumu’ah prayers every Friday at 1:30 PM at LGIC. The sermon (khutbah) begins promptly\, followed by the congregational prayer. Arrive early to find parking and settle in for a spiritually uplifting experience. All are welcome!
URL:https://wvmuslim.org/event/jummuah-friday-prayers-lgic-17-4/2027-12-10/
LOCATION:Los Gatos Islamic Center (LGIC)\, 16769 Farley Rd\, Los Gatos\, CA\, 95032\, United States
CATEGORIES:Friday Prayer
ORGANIZER;CN="West Valley Muslim Association":MAILTO:info@wvmuslim.org
END:VEVENT
BEGIN:VEVENT
DTSTART;TZID=UTC:20271217T123000
DTEND;TZID=UTC:20271217T140000
DTSTAMP:20260421T160950
CREATED:20250717T211412Z
LAST-MODIFIED:20250717T211412Z
UID:10001014-1829046600-1829052000@wvmuslim.org
SUMMARY:Jumu'ah (Friday) Prayers @ Prospect Center
DESCRIPTION:Join us every Friday for Jumu’ah prayer at the Prospect Center. We offer three prayer times: \n\n\nFirst Khutbah: 12:30 PM\, \n\n\nSecond Khutbah: 1:30 PM\, \n\n\n\n\n\nEach sermon is followed by the congregational prayer. Everyone is welcome to attend and benefit from the spiritual reminder. Please arrive early to find parking and settle in.
URL:https://wvmuslim.org/event/jummuah-friday-prayers-prospect-center-12-4/2027-12-17/
LOCATION:Prospect Center\, 19848 Prospect Rd\, Saratoga\, CA\, CA 95070\, United States
CATEGORIES:Friday Prayer
ORGANIZER;CN="West Valley Muslim Association":MAILTO:info@wvmuslim.org
END:VEVENT
BEGIN:VEVENT
DTSTART;TZID=UTC:20271217T133000
DTEND;TZID=UTC:20271217T140000
DTSTAMP:20260421T160950
CREATED:20250717T211335Z
LAST-MODIFIED:20250717T211336Z
UID:10001538-1829050200-1829052000@wvmuslim.org
SUMMARY:Jumu'ah (Friday) Prayers @ LGIC
DESCRIPTION:Join us for Jumu’ah prayers every Friday at 1:30 PM at LGIC. The sermon (khutbah) begins promptly\, followed by the congregational prayer. Arrive early to find parking and settle in for a spiritually uplifting experience. All are welcome!
URL:https://wvmuslim.org/event/jummuah-friday-prayers-lgic-17-4/2027-12-17/
LOCATION:Los Gatos Islamic Center (LGIC)\, 16769 Farley Rd\, Los Gatos\, CA\, 95032\, United States
CATEGORIES:Friday Prayer
ORGANIZER;CN="West Valley Muslim Association":MAILTO:info@wvmuslim.org
END:VEVENT
BEGIN:VEVENT
DTSTART;TZID=UTC:20271224T123000
DTEND;TZID=UTC:20271224T140000
DTSTAMP:20260421T160950
CREATED:20250717T211412Z
LAST-MODIFIED:20250717T211412Z
UID:10001015-1829651400-1829656800@wvmuslim.org
SUMMARY:Jumu'ah (Friday) Prayers @ Prospect Center
DESCRIPTION:Join us every Friday for Jumu’ah prayer at the Prospect Center. We offer three prayer times: \n\n\nFirst Khutbah: 12:30 PM\, \n\n\nSecond Khutbah: 1:30 PM\, \n\n\n\n\n\nEach sermon is followed by the congregational prayer. Everyone is welcome to attend and benefit from the spiritual reminder. Please arrive early to find parking and settle in.
URL:https://wvmuslim.org/event/jummuah-friday-prayers-prospect-center-12-4/2027-12-24/
LOCATION:Prospect Center\, 19848 Prospect Rd\, Saratoga\, CA\, CA 95070\, United States
CATEGORIES:Friday Prayer
ORGANIZER;CN="West Valley Muslim Association":MAILTO:info@wvmuslim.org
END:VEVENT
BEGIN:VEVENT
DTSTART;TZID=UTC:20271224T133000
DTEND;TZID=UTC:20271224T140000
DTSTAMP:20260421T160950
CREATED:20250717T211335Z
LAST-MODIFIED:20250717T211336Z
UID:10001539-1829655000-1829656800@wvmuslim.org
SUMMARY:Jumu'ah (Friday) Prayers @ LGIC
DESCRIPTION:Join us for Jumu’ah prayers every Friday at 1:30 PM at LGIC. The sermon (khutbah) begins promptly\, followed by the congregational prayer. Arrive early to find parking and settle in for a spiritually uplifting experience. All are welcome!
URL:https://wvmuslim.org/event/jummuah-friday-prayers-lgic-17-4/2027-12-24/
LOCATION:Los Gatos Islamic Center (LGIC)\, 16769 Farley Rd\, Los Gatos\, CA\, 95032\, United States
CATEGORIES:Friday Prayer
ORGANIZER;CN="West Valley Muslim Association":MAILTO:info@wvmuslim.org
END:VEVENT
BEGIN:VEVENT
DTSTART;TZID=UTC:20271231T123000
DTEND;TZID=UTC:20271231T140000
DTSTAMP:20260421T160950
CREATED:20250717T211412Z
LAST-MODIFIED:20250717T211412Z
UID:10001016-1830256200-1830261600@wvmuslim.org
SUMMARY:Jumu'ah (Friday) Prayers @ Prospect Center
DESCRIPTION:Join us every Friday for Jumu’ah prayer at the Prospect Center. We offer three prayer times: \n\n\nFirst Khutbah: 12:30 PM\, \n\n\nSecond Khutbah: 1:30 PM\, \n\n\n\n\n\nEach sermon is followed by the congregational prayer. Everyone is welcome to attend and benefit from the spiritual reminder. Please arrive early to find parking and settle in.
URL:https://wvmuslim.org/event/jummuah-friday-prayers-prospect-center-12-4/2027-12-31/
LOCATION:Prospect Center\, 19848 Prospect Rd\, Saratoga\, CA\, CA 95070\, United States
CATEGORIES:Friday Prayer
ORGANIZER;CN="West Valley Muslim Association":MAILTO:info@wvmuslim.org
END:VEVENT
BEGIN:VEVENT
DTSTART;TZID=UTC:20271231T133000
DTEND;TZID=UTC:20271231T140000
DTSTAMP:20260421T160950
CREATED:20250717T211335Z
LAST-MODIFIED:20250717T211336Z
UID:10001540-1830259800-1830261600@wvmuslim.org
SUMMARY:Jumu'ah (Friday) Prayers @ LGIC
DESCRIPTION:Join us for Jumu’ah prayers every Friday at 1:30 PM at LGIC. The sermon (khutbah) begins promptly\, followed by the congregational prayer. Arrive early to find parking and settle in for a spiritually uplifting experience. All are welcome!
URL:https://wvmuslim.org/event/jummuah-friday-prayers-lgic-17-4/2027-12-31/
LOCATION:Los Gatos Islamic Center (LGIC)\, 16769 Farley Rd\, Los Gatos\, CA\, 95032\, United States
CATEGORIES:Friday Prayer
ORGANIZER;CN="West Valley Muslim Association":MAILTO:info@wvmuslim.org
END:VEVENT
BEGIN:VEVENT
DTSTART;TZID=UTC:20280107T123000
DTEND;TZID=UTC:20280107T140000
DTSTAMP:20260421T160950
CREATED:20250717T211412Z
LAST-MODIFIED:20250717T211412Z
UID:10001017-1830861000-1830866400@wvmuslim.org
SUMMARY:Jumu'ah (Friday) Prayers @ Prospect Center
DESCRIPTION:Join us every Friday for Jumu’ah prayer at the Prospect Center. We offer three prayer times: \n\n\nFirst Khutbah: 12:30 PM\, \n\n\nSecond Khutbah: 1:30 PM\, \n\n\n\n\n\nEach sermon is followed by the congregational prayer. Everyone is welcome to attend and benefit from the spiritual reminder. Please arrive early to find parking and settle in.
URL:https://wvmuslim.org/event/jummuah-friday-prayers-prospect-center-12-4/2028-01-07/
LOCATION:Prospect Center\, 19848 Prospect Rd\, Saratoga\, CA\, CA 95070\, United States
CATEGORIES:Friday Prayer
ORGANIZER;CN="West Valley Muslim Association":MAILTO:info@wvmuslim.org
END:VEVENT
BEGIN:VEVENT
DTSTART;TZID=UTC:20280107T133000
DTEND;TZID=UTC:20280107T140000
DTSTAMP:20260421T160950
CREATED:20250717T211335Z
LAST-MODIFIED:20250717T211336Z
UID:10001541-1830864600-1830866400@wvmuslim.org
SUMMARY:Jumu'ah (Friday) Prayers @ LGIC
DESCRIPTION:Join us for Jumu’ah prayers every Friday at 1:30 PM at LGIC. The sermon (khutbah) begins promptly\, followed by the congregational prayer. Arrive early to find parking and settle in for a spiritually uplifting experience. All are welcome!
URL:https://wvmuslim.org/event/jummuah-friday-prayers-lgic-17-4/2028-01-07/
LOCATION:Los Gatos Islamic Center (LGIC)\, 16769 Farley Rd\, Los Gatos\, CA\, 95032\, United States
CATEGORIES:Friday Prayer
ORGANIZER;CN="West Valley Muslim Association":MAILTO:info@wvmuslim.org
END:VEVENT
BEGIN:VEVENT
DTSTART;TZID=UTC:20280114T123000
DTEND;TZID=UTC:20280114T140000
DTSTAMP:20260421T160950
CREATED:20250717T211412Z
LAST-MODIFIED:20250717T211412Z
UID:10001018-1831465800-1831471200@wvmuslim.org
SUMMARY:Jumu'ah (Friday) Prayers @ Prospect Center
DESCRIPTION:Join us every Friday for Jumu’ah prayer at the Prospect Center. We offer three prayer times: \n\n\nFirst Khutbah: 12:30 PM\, \n\n\nSecond Khutbah: 1:30 PM\, \n\n\n\n\n\nEach sermon is followed by the congregational prayer. Everyone is welcome to attend and benefit from the spiritual reminder. Please arrive early to find parking and settle in.
URL:https://wvmuslim.org/event/jummuah-friday-prayers-prospect-center-12-4/2028-01-14/
LOCATION:Prospect Center\, 19848 Prospect Rd\, Saratoga\, CA\, CA 95070\, United States
CATEGORIES:Friday Prayer
ORGANIZER;CN="West Valley Muslim Association":MAILTO:info@wvmuslim.org
END:VEVENT
BEGIN:VEVENT
DTSTART;TZID=UTC:20280114T133000
DTEND;TZID=UTC:20280114T140000
DTSTAMP:20260421T160950
CREATED:20250717T211335Z
LAST-MODIFIED:20250717T211336Z
UID:10001542-1831469400-1831471200@wvmuslim.org
SUMMARY:Jumu'ah (Friday) Prayers @ LGIC
DESCRIPTION:Join us for Jumu’ah prayers every Friday at 1:30 PM at LGIC. The sermon (khutbah) begins promptly\, followed by the congregational prayer. Arrive early to find parking and settle in for a spiritually uplifting experience. All are welcome!
URL:https://wvmuslim.org/event/jummuah-friday-prayers-lgic-17-4/2028-01-14/
LOCATION:Los Gatos Islamic Center (LGIC)\, 16769 Farley Rd\, Los Gatos\, CA\, 95032\, United States
CATEGORIES:Friday Prayer
ORGANIZER;CN="West Valley Muslim Association":MAILTO:info@wvmuslim.org
END:VEVENT
BEGIN:VEVENT
DTSTART;TZID=UTC:20280121T123000
DTEND;TZID=UTC:20280121T140000
DTSTAMP:20260421T160950
CREATED:20250717T211412Z
LAST-MODIFIED:20250717T211412Z
UID:10001019-1832070600-1832076000@wvmuslim.org
SUMMARY:Jumu'ah (Friday) Prayers @ Prospect Center
DESCRIPTION:Join us every Friday for Jumu’ah prayer at the Prospect Center. We offer three prayer times: \n\n\nFirst Khutbah: 12:30 PM\, \n\n\nSecond Khutbah: 1:30 PM\, \n\n\n\n\n\nEach sermon is followed by the congregational prayer. Everyone is welcome to attend and benefit from the spiritual reminder. Please arrive early to find parking and settle in.
URL:https://wvmuslim.org/event/jummuah-friday-prayers-prospect-center-12-4/2028-01-21/
LOCATION:Prospect Center\, 19848 Prospect Rd\, Saratoga\, CA\, CA 95070\, United States
CATEGORIES:Friday Prayer
ORGANIZER;CN="West Valley Muslim Association":MAILTO:info@wvmuslim.org
END:VEVENT
BEGIN:VEVENT
DTSTART;TZID=UTC:20280121T133000
DTEND;TZID=UTC:20280121T140000
DTSTAMP:20260421T160950
CREATED:20250717T211335Z
LAST-MODIFIED:20250717T211336Z
UID:10001543-1832074200-1832076000@wvmuslim.org
SUMMARY:Jumu'ah (Friday) Prayers @ LGIC
DESCRIPTION:Join us for Jumu’ah prayers every Friday at 1:30 PM at LGIC. The sermon (khutbah) begins promptly\, followed by the congregational prayer. Arrive early to find parking and settle in for a spiritually uplifting experience. All are welcome!
URL:https://wvmuslim.org/event/jummuah-friday-prayers-lgic-17-4/2028-01-21/
LOCATION:Los Gatos Islamic Center (LGIC)\, 16769 Farley Rd\, Los Gatos\, CA\, 95032\, United States
CATEGORIES:Friday Prayer
ORGANIZER;CN="West Valley Muslim Association":MAILTO:info@wvmuslim.org
END:VEVENT
BEGIN:VEVENT
DTSTART;TZID=UTC:20280128T123000
DTEND;TZID=UTC:20280128T140000
DTSTAMP:20260421T160950
CREATED:20250717T211412Z
LAST-MODIFIED:20250717T211412Z
UID:10001020-1832675400-1832680800@wvmuslim.org
SUMMARY:Jumu'ah (Friday) Prayers @ Prospect Center
DESCRIPTION:Join us every Friday for Jumu’ah prayer at the Prospect Center. We offer three prayer times: \n\n\nFirst Khutbah: 12:30 PM\, \n\n\nSecond Khutbah: 1:30 PM\, \n\n\n\n\n\nEach sermon is followed by the congregational prayer. Everyone is welcome to attend and benefit from the spiritual reminder. Please arrive early to find parking and settle in.
URL:https://wvmuslim.org/event/jummuah-friday-prayers-prospect-center-12-4/2028-01-28/
LOCATION:Prospect Center\, 19848 Prospect Rd\, Saratoga\, CA\, CA 95070\, United States
CATEGORIES:Friday Prayer
ORGANIZER;CN="West Valley Muslim Association":MAILTO:info@wvmuslim.org
END:VEVENT
BEGIN:VEVENT
DTSTART;TZID=UTC:20280128T133000
DTEND;TZID=UTC:20280128T140000
DTSTAMP:20260421T160950
CREATED:20250717T211335Z
LAST-MODIFIED:20250717T211336Z
UID:10001544-1832679000-1832680800@wvmuslim.org
SUMMARY:Jumu'ah (Friday) Prayers @ LGIC
DESCRIPTION:Join us for Jumu’ah prayers every Friday at 1:30 PM at LGIC. The sermon (khutbah) begins promptly\, followed by the congregational prayer. Arrive early to find parking and settle in for a spiritually uplifting experience. All are welcome!
URL:https://wvmuslim.org/event/jummuah-friday-prayers-lgic-17-4/2028-01-28/
LOCATION:Los Gatos Islamic Center (LGIC)\, 16769 Farley Rd\, Los Gatos\, CA\, 95032\, United States
CATEGORIES:Friday Prayer
ORGANIZER;CN="West Valley Muslim Association":MAILTO:info@wvmuslim.org
END:VEVENT
BEGIN:VEVENT
DTSTART;TZID=UTC:20280204T123000
DTEND;TZID=UTC:20280204T140000
DTSTAMP:20260421T160950
CREATED:20250717T211412Z
LAST-MODIFIED:20250717T211412Z
UID:10001021-1833280200-1833285600@wvmuslim.org
SUMMARY:Jumu'ah (Friday) Prayers @ Prospect Center
DESCRIPTION:Join us every Friday for Jumu’ah prayer at the Prospect Center. We offer three prayer times: \n\n\nFirst Khutbah: 12:30 PM\, \n\n\nSecond Khutbah: 1:30 PM\, \n\n\n\n\n\nEach sermon is followed by the congregational prayer. Everyone is welcome to attend and benefit from the spiritual reminder. Please arrive early to find parking and settle in.
URL:https://wvmuslim.org/event/jummuah-friday-prayers-prospect-center-12-4/2028-02-04/
LOCATION:Prospect Center\, 19848 Prospect Rd\, Saratoga\, CA\, CA 95070\, United States
CATEGORIES:Friday Prayer
ORGANIZER;CN="West Valley Muslim Association":MAILTO:info@wvmuslim.org
END:VEVENT
BEGIN:VEVENT
DTSTART;TZID=UTC:20280204T133000
DTEND;TZID=UTC:20280204T140000
DTSTAMP:20260421T160950
CREATED:20250717T211335Z
LAST-MODIFIED:20250717T211336Z
UID:10001545-1833283800-1833285600@wvmuslim.org
SUMMARY:Jumu'ah (Friday) Prayers @ LGIC
DESCRIPTION:Join us for Jumu’ah prayers every Friday at 1:30 PM at LGIC. The sermon (khutbah) begins promptly\, followed by the congregational prayer. Arrive early to find parking and settle in for a spiritually uplifting experience. All are welcome!
URL:https://wvmuslim.org/event/jummuah-friday-prayers-lgic-17-4/2028-02-04/
LOCATION:Los Gatos Islamic Center (LGIC)\, 16769 Farley Rd\, Los Gatos\, CA\, 95032\, United States
CATEGORIES:Friday Prayer
ORGANIZER;CN="West Valley Muslim Association":MAILTO:info@wvmuslim.org
END:VEVENT
BEGIN:VEVENT
DTSTART;TZID=UTC:20280211T123000
DTEND;TZID=UTC:20280211T140000
DTSTAMP:20260421T160950
CREATED:20250717T211412Z
LAST-MODIFIED:20250717T211412Z
UID:10001022-1833885000-1833890400@wvmuslim.org
SUMMARY:Jumu'ah (Friday) Prayers @ Prospect Center
DESCRIPTION:Join us every Friday for Jumu’ah prayer at the Prospect Center. We offer three prayer times: \n\n\nFirst Khutbah: 12:30 PM\, \n\n\nSecond Khutbah: 1:30 PM\, \n\n\n\n\n\nEach sermon is followed by the congregational prayer. Everyone is welcome to attend and benefit from the spiritual reminder. Please arrive early to find parking and settle in.
URL:https://wvmuslim.org/event/jummuah-friday-prayers-prospect-center-12-4/2028-02-11/
LOCATION:Prospect Center\, 19848 Prospect Rd\, Saratoga\, CA\, CA 95070\, United States
CATEGORIES:Friday Prayer
ORGANIZER;CN="West Valley Muslim Association":MAILTO:info@wvmuslim.org
END:VEVENT
END:VCALENDAR