BEGIN:VCALENDAR
VERSION:2.0
PRODID:-// - ECPv6.15.20//NONSGML v1.0//EN
CALSCALE:GREGORIAN
METHOD:PUBLISH
X-ORIGINAL-URL:https://wvmuslim.org
X-WR-CALDESC:Events for 
REFRESH-INTERVAL;VALUE=DURATION:PT1H
X-Robots-Tag:noindex
X-PUBLISHED-TTL:PT1H
BEGIN:VTIMEZONE
TZID:UTC
BEGIN:STANDARD
TZOFFSETFROM:+0000
TZOFFSETTO:+0000
TZNAME:UTC
DTSTART:20280101T000000
END:STANDARD
END:VTIMEZONE
BEGIN:VEVENT
DTSTART;TZID=UTC:20290601T133000
DTEND;TZID=UTC:20290601T140000
DTSTAMP:20260425T124124
CREATED:20260424T194028Z
LAST-MODIFIED:20260424T194141Z
UID:10019548-1875015000-1875016800@wvmuslim.org
SUMMARY:Jumu’ah (1:30 PM) @ LGIC – TBA
DESCRIPTION:Join us for Jumu’ah prayers every Friday at 1:30 PM at LGIC. The sermon (khutbah) begins promptly\, followed by the congregational prayer. Arrive early to find parking and settle in for a spiritually uplifting experience. All are welcome!
URL:https://wvmuslim.org/event/jumuah-130-pm-tba/2029-06-01/
LOCATION:Los Gatos Islamic Center (LGIC)\, 16769 Farley Rd\, Los Gatos\, CA\, 95032\, United States
CATEGORIES:Friday Prayer
ATTACH;FMTTYPE=image/png:https://wvmuslim.org/wp-content/uploads/2025/03/Screenshot-2025-03-27-at-2.48.12 PM.png
ORGANIZER;CN="West Valley Muslim Association":MAILTO:info@wvmuslim.org
END:VEVENT
BEGIN:VEVENT
DTSTART;TZID=UTC:20290608T133000
DTEND;TZID=UTC:20290608T140000
DTSTAMP:20260425T124124
CREATED:20260424T194028Z
LAST-MODIFIED:20260424T194141Z
UID:10019549-1875619800-1875621600@wvmuslim.org
SUMMARY:Jumu’ah (1:30 PM) @ LGIC – TBA
DESCRIPTION:Join us for Jumu’ah prayers every Friday at 1:30 PM at LGIC. The sermon (khutbah) begins promptly\, followed by the congregational prayer. Arrive early to find parking and settle in for a spiritually uplifting experience. All are welcome!
URL:https://wvmuslim.org/event/jumuah-130-pm-tba/2029-06-08/
LOCATION:Los Gatos Islamic Center (LGIC)\, 16769 Farley Rd\, Los Gatos\, CA\, 95032\, United States
CATEGORIES:Friday Prayer
ATTACH;FMTTYPE=image/png:https://wvmuslim.org/wp-content/uploads/2025/03/Screenshot-2025-03-27-at-2.48.12 PM.png
ORGANIZER;CN="West Valley Muslim Association":MAILTO:info@wvmuslim.org
END:VEVENT
BEGIN:VEVENT
DTSTART;TZID=UTC:20290615T133000
DTEND;TZID=UTC:20290615T140000
DTSTAMP:20260425T124124
CREATED:20260424T194028Z
LAST-MODIFIED:20260424T194141Z
UID:10019550-1876224600-1876226400@wvmuslim.org
SUMMARY:Jumu’ah (1:30 PM) @ LGIC – TBA
DESCRIPTION:Join us for Jumu’ah prayers every Friday at 1:30 PM at LGIC. The sermon (khutbah) begins promptly\, followed by the congregational prayer. Arrive early to find parking and settle in for a spiritually uplifting experience. All are welcome!
URL:https://wvmuslim.org/event/jumuah-130-pm-tba/2029-06-15/
LOCATION:Los Gatos Islamic Center (LGIC)\, 16769 Farley Rd\, Los Gatos\, CA\, 95032\, United States
CATEGORIES:Friday Prayer
ATTACH;FMTTYPE=image/png:https://wvmuslim.org/wp-content/uploads/2025/03/Screenshot-2025-03-27-at-2.48.12 PM.png
ORGANIZER;CN="West Valley Muslim Association":MAILTO:info@wvmuslim.org
END:VEVENT
BEGIN:VEVENT
DTSTART;TZID=UTC:20290622T133000
DTEND;TZID=UTC:20290622T140000
DTSTAMP:20260425T124124
CREATED:20260424T194028Z
LAST-MODIFIED:20260424T194141Z
UID:10019551-1876829400-1876831200@wvmuslim.org
SUMMARY:Jumu’ah (1:30 PM) @ LGIC – TBA
DESCRIPTION:Join us for Jumu’ah prayers every Friday at 1:30 PM at LGIC. The sermon (khutbah) begins promptly\, followed by the congregational prayer. Arrive early to find parking and settle in for a spiritually uplifting experience. All are welcome!
URL:https://wvmuslim.org/event/jumuah-130-pm-tba/2029-06-22/
LOCATION:Los Gatos Islamic Center (LGIC)\, 16769 Farley Rd\, Los Gatos\, CA\, 95032\, United States
CATEGORIES:Friday Prayer
ATTACH;FMTTYPE=image/png:https://wvmuslim.org/wp-content/uploads/2025/03/Screenshot-2025-03-27-at-2.48.12 PM.png
ORGANIZER;CN="West Valley Muslim Association":MAILTO:info@wvmuslim.org
END:VEVENT
BEGIN:VEVENT
DTSTART;TZID=UTC:20290629T133000
DTEND;TZID=UTC:20290629T140000
DTSTAMP:20260425T124124
CREATED:20260424T194028Z
LAST-MODIFIED:20260424T194141Z
UID:10019552-1877434200-1877436000@wvmuslim.org
SUMMARY:Jumu’ah (1:30 PM) @ LGIC – TBA
DESCRIPTION:Join us for Jumu’ah prayers every Friday at 1:30 PM at LGIC. The sermon (khutbah) begins promptly\, followed by the congregational prayer. Arrive early to find parking and settle in for a spiritually uplifting experience. All are welcome!
URL:https://wvmuslim.org/event/jumuah-130-pm-tba/2029-06-29/
LOCATION:Los Gatos Islamic Center (LGIC)\, 16769 Farley Rd\, Los Gatos\, CA\, 95032\, United States
CATEGORIES:Friday Prayer
ATTACH;FMTTYPE=image/png:https://wvmuslim.org/wp-content/uploads/2025/03/Screenshot-2025-03-27-at-2.48.12 PM.png
ORGANIZER;CN="West Valley Muslim Association":MAILTO:info@wvmuslim.org
END:VEVENT
BEGIN:VEVENT
DTSTART;TZID=UTC:20290706T133000
DTEND;TZID=UTC:20290706T140000
DTSTAMP:20260425T124124
CREATED:20260424T194028Z
LAST-MODIFIED:20260424T194141Z
UID:10019553-1878039000-1878040800@wvmuslim.org
SUMMARY:Jumu’ah (1:30 PM) @ LGIC – TBA
DESCRIPTION:Join us for Jumu’ah prayers every Friday at 1:30 PM at LGIC. The sermon (khutbah) begins promptly\, followed by the congregational prayer. Arrive early to find parking and settle in for a spiritually uplifting experience. All are welcome!
URL:https://wvmuslim.org/event/jumuah-130-pm-tba/2029-07-06/
LOCATION:Los Gatos Islamic Center (LGIC)\, 16769 Farley Rd\, Los Gatos\, CA\, 95032\, United States
CATEGORIES:Friday Prayer
ATTACH;FMTTYPE=image/png:https://wvmuslim.org/wp-content/uploads/2025/03/Screenshot-2025-03-27-at-2.48.12 PM.png
ORGANIZER;CN="West Valley Muslim Association":MAILTO:info@wvmuslim.org
END:VEVENT
BEGIN:VEVENT
DTSTART;TZID=UTC:20290713T133000
DTEND;TZID=UTC:20290713T140000
DTSTAMP:20260425T124124
CREATED:20260424T194028Z
LAST-MODIFIED:20260424T194141Z
UID:10019554-1878643800-1878645600@wvmuslim.org
SUMMARY:Jumu’ah (1:30 PM) @ LGIC – TBA
DESCRIPTION:Join us for Jumu’ah prayers every Friday at 1:30 PM at LGIC. The sermon (khutbah) begins promptly\, followed by the congregational prayer. Arrive early to find parking and settle in for a spiritually uplifting experience. All are welcome!
URL:https://wvmuslim.org/event/jumuah-130-pm-tba/2029-07-13/
LOCATION:Los Gatos Islamic Center (LGIC)\, 16769 Farley Rd\, Los Gatos\, CA\, 95032\, United States
CATEGORIES:Friday Prayer
ATTACH;FMTTYPE=image/png:https://wvmuslim.org/wp-content/uploads/2025/03/Screenshot-2025-03-27-at-2.48.12 PM.png
ORGANIZER;CN="West Valley Muslim Association":MAILTO:info@wvmuslim.org
END:VEVENT
BEGIN:VEVENT
DTSTART;TZID=UTC:20290720T133000
DTEND;TZID=UTC:20290720T140000
DTSTAMP:20260425T124124
CREATED:20260424T194028Z
LAST-MODIFIED:20260424T194141Z
UID:10019555-1879248600-1879250400@wvmuslim.org
SUMMARY:Jumu’ah (1:30 PM) @ LGIC – TBA
DESCRIPTION:Join us for Jumu’ah prayers every Friday at 1:30 PM at LGIC. The sermon (khutbah) begins promptly\, followed by the congregational prayer. Arrive early to find parking and settle in for a spiritually uplifting experience. All are welcome!
URL:https://wvmuslim.org/event/jumuah-130-pm-tba/2029-07-20/
LOCATION:Los Gatos Islamic Center (LGIC)\, 16769 Farley Rd\, Los Gatos\, CA\, 95032\, United States
CATEGORIES:Friday Prayer
ATTACH;FMTTYPE=image/png:https://wvmuslim.org/wp-content/uploads/2025/03/Screenshot-2025-03-27-at-2.48.12 PM.png
ORGANIZER;CN="West Valley Muslim Association":MAILTO:info@wvmuslim.org
END:VEVENT
BEGIN:VEVENT
DTSTART;TZID=UTC:20290727T133000
DTEND;TZID=UTC:20290727T140000
DTSTAMP:20260425T124124
CREATED:20260424T194028Z
LAST-MODIFIED:20260424T194141Z
UID:10019556-1879853400-1879855200@wvmuslim.org
SUMMARY:Jumu’ah (1:30 PM) @ LGIC – TBA
DESCRIPTION:Join us for Jumu’ah prayers every Friday at 1:30 PM at LGIC. The sermon (khutbah) begins promptly\, followed by the congregational prayer. Arrive early to find parking and settle in for a spiritually uplifting experience. All are welcome!
URL:https://wvmuslim.org/event/jumuah-130-pm-tba/2029-07-27/
LOCATION:Los Gatos Islamic Center (LGIC)\, 16769 Farley Rd\, Los Gatos\, CA\, 95032\, United States
CATEGORIES:Friday Prayer
ATTACH;FMTTYPE=image/png:https://wvmuslim.org/wp-content/uploads/2025/03/Screenshot-2025-03-27-at-2.48.12 PM.png
ORGANIZER;CN="West Valley Muslim Association":MAILTO:info@wvmuslim.org
END:VEVENT
BEGIN:VEVENT
DTSTART;TZID=UTC:20290803T133000
DTEND;TZID=UTC:20290803T140000
DTSTAMP:20260425T124124
CREATED:20260424T194028Z
LAST-MODIFIED:20260424T194141Z
UID:10019557-1880458200-1880460000@wvmuslim.org
SUMMARY:Jumu’ah (1:30 PM) @ LGIC – TBA
DESCRIPTION:Join us for Jumu’ah prayers every Friday at 1:30 PM at LGIC. The sermon (khutbah) begins promptly\, followed by the congregational prayer. Arrive early to find parking and settle in for a spiritually uplifting experience. All are welcome!
URL:https://wvmuslim.org/event/jumuah-130-pm-tba/2029-08-03/
LOCATION:Los Gatos Islamic Center (LGIC)\, 16769 Farley Rd\, Los Gatos\, CA\, 95032\, United States
CATEGORIES:Friday Prayer
ATTACH;FMTTYPE=image/png:https://wvmuslim.org/wp-content/uploads/2025/03/Screenshot-2025-03-27-at-2.48.12 PM.png
ORGANIZER;CN="West Valley Muslim Association":MAILTO:info@wvmuslim.org
END:VEVENT
BEGIN:VEVENT
DTSTART;TZID=UTC:20290810T133000
DTEND;TZID=UTC:20290810T140000
DTSTAMP:20260425T124124
CREATED:20260424T194028Z
LAST-MODIFIED:20260424T194141Z
UID:10019558-1881063000-1881064800@wvmuslim.org
SUMMARY:Jumu’ah (1:30 PM) @ LGIC – TBA
DESCRIPTION:Join us for Jumu’ah prayers every Friday at 1:30 PM at LGIC. The sermon (khutbah) begins promptly\, followed by the congregational prayer. Arrive early to find parking and settle in for a spiritually uplifting experience. All are welcome!
URL:https://wvmuslim.org/event/jumuah-130-pm-tba/2029-08-10/
LOCATION:Los Gatos Islamic Center (LGIC)\, 16769 Farley Rd\, Los Gatos\, CA\, 95032\, United States
CATEGORIES:Friday Prayer
ATTACH;FMTTYPE=image/png:https://wvmuslim.org/wp-content/uploads/2025/03/Screenshot-2025-03-27-at-2.48.12 PM.png
ORGANIZER;CN="West Valley Muslim Association":MAILTO:info@wvmuslim.org
END:VEVENT
BEGIN:VEVENT
DTSTART;TZID=UTC:20290817T133000
DTEND;TZID=UTC:20290817T140000
DTSTAMP:20260425T124124
CREATED:20260424T194028Z
LAST-MODIFIED:20260424T194141Z
UID:10019559-1881667800-1881669600@wvmuslim.org
SUMMARY:Jumu’ah (1:30 PM) @ LGIC – TBA
DESCRIPTION:Join us for Jumu’ah prayers every Friday at 1:30 PM at LGIC. The sermon (khutbah) begins promptly\, followed by the congregational prayer. Arrive early to find parking and settle in for a spiritually uplifting experience. All are welcome!
URL:https://wvmuslim.org/event/jumuah-130-pm-tba/2029-08-17/
LOCATION:Los Gatos Islamic Center (LGIC)\, 16769 Farley Rd\, Los Gatos\, CA\, 95032\, United States
CATEGORIES:Friday Prayer
ATTACH;FMTTYPE=image/png:https://wvmuslim.org/wp-content/uploads/2025/03/Screenshot-2025-03-27-at-2.48.12 PM.png
ORGANIZER;CN="West Valley Muslim Association":MAILTO:info@wvmuslim.org
END:VEVENT
BEGIN:VEVENT
DTSTART;TZID=UTC:20290824T133000
DTEND;TZID=UTC:20290824T140000
DTSTAMP:20260425T124124
CREATED:20260424T194028Z
LAST-MODIFIED:20260424T194141Z
UID:10019560-1882272600-1882274400@wvmuslim.org
SUMMARY:Jumu’ah (1:30 PM) @ LGIC – TBA
DESCRIPTION:Join us for Jumu’ah prayers every Friday at 1:30 PM at LGIC. The sermon (khutbah) begins promptly\, followed by the congregational prayer. Arrive early to find parking and settle in for a spiritually uplifting experience. All are welcome!
URL:https://wvmuslim.org/event/jumuah-130-pm-tba/2029-08-24/
LOCATION:Los Gatos Islamic Center (LGIC)\, 16769 Farley Rd\, Los Gatos\, CA\, 95032\, United States
CATEGORIES:Friday Prayer
ATTACH;FMTTYPE=image/png:https://wvmuslim.org/wp-content/uploads/2025/03/Screenshot-2025-03-27-at-2.48.12 PM.png
ORGANIZER;CN="West Valley Muslim Association":MAILTO:info@wvmuslim.org
END:VEVENT
BEGIN:VEVENT
DTSTART;TZID=UTC:20290831T133000
DTEND;TZID=UTC:20290831T140000
DTSTAMP:20260425T124124
CREATED:20260424T194028Z
LAST-MODIFIED:20260424T194141Z
UID:10019561-1882877400-1882879200@wvmuslim.org
SUMMARY:Jumu’ah (1:30 PM) @ LGIC – TBA
DESCRIPTION:Join us for Jumu’ah prayers every Friday at 1:30 PM at LGIC. The sermon (khutbah) begins promptly\, followed by the congregational prayer. Arrive early to find parking and settle in for a spiritually uplifting experience. All are welcome!
URL:https://wvmuslim.org/event/jumuah-130-pm-tba/2029-08-31/
LOCATION:Los Gatos Islamic Center (LGIC)\, 16769 Farley Rd\, Los Gatos\, CA\, 95032\, United States
CATEGORIES:Friday Prayer
ATTACH;FMTTYPE=image/png:https://wvmuslim.org/wp-content/uploads/2025/03/Screenshot-2025-03-27-at-2.48.12 PM.png
ORGANIZER;CN="West Valley Muslim Association":MAILTO:info@wvmuslim.org
END:VEVENT
BEGIN:VEVENT
DTSTART;TZID=UTC:20290907T133000
DTEND;TZID=UTC:20290907T140000
DTSTAMP:20260425T124124
CREATED:20260424T194028Z
LAST-MODIFIED:20260424T194141Z
UID:10019562-1883482200-1883484000@wvmuslim.org
SUMMARY:Jumu’ah (1:30 PM) @ LGIC – TBA
DESCRIPTION:Join us for Jumu’ah prayers every Friday at 1:30 PM at LGIC. The sermon (khutbah) begins promptly\, followed by the congregational prayer. Arrive early to find parking and settle in for a spiritually uplifting experience. All are welcome!
URL:https://wvmuslim.org/event/jumuah-130-pm-tba/2029-09-07/
LOCATION:Los Gatos Islamic Center (LGIC)\, 16769 Farley Rd\, Los Gatos\, CA\, 95032\, United States
CATEGORIES:Friday Prayer
ATTACH;FMTTYPE=image/png:https://wvmuslim.org/wp-content/uploads/2025/03/Screenshot-2025-03-27-at-2.48.12 PM.png
ORGANIZER;CN="West Valley Muslim Association":MAILTO:info@wvmuslim.org
END:VEVENT
BEGIN:VEVENT
DTSTART;TZID=UTC:20290914T133000
DTEND;TZID=UTC:20290914T140000
DTSTAMP:20260425T124124
CREATED:20260424T194028Z
LAST-MODIFIED:20260424T194141Z
UID:10019563-1884087000-1884088800@wvmuslim.org
SUMMARY:Jumu’ah (1:30 PM) @ LGIC – TBA
DESCRIPTION:Join us for Jumu’ah prayers every Friday at 1:30 PM at LGIC. The sermon (khutbah) begins promptly\, followed by the congregational prayer. Arrive early to find parking and settle in for a spiritually uplifting experience. All are welcome!
URL:https://wvmuslim.org/event/jumuah-130-pm-tba/2029-09-14/
LOCATION:Los Gatos Islamic Center (LGIC)\, 16769 Farley Rd\, Los Gatos\, CA\, 95032\, United States
CATEGORIES:Friday Prayer
ATTACH;FMTTYPE=image/png:https://wvmuslim.org/wp-content/uploads/2025/03/Screenshot-2025-03-27-at-2.48.12 PM.png
ORGANIZER;CN="West Valley Muslim Association":MAILTO:info@wvmuslim.org
END:VEVENT
BEGIN:VEVENT
DTSTART;TZID=UTC:20290921T133000
DTEND;TZID=UTC:20290921T140000
DTSTAMP:20260425T124124
CREATED:20260424T194028Z
LAST-MODIFIED:20260424T194141Z
UID:10019564-1884691800-1884693600@wvmuslim.org
SUMMARY:Jumu’ah (1:30 PM) @ LGIC – TBA
DESCRIPTION:Join us for Jumu’ah prayers every Friday at 1:30 PM at LGIC. The sermon (khutbah) begins promptly\, followed by the congregational prayer. Arrive early to find parking and settle in for a spiritually uplifting experience. All are welcome!
URL:https://wvmuslim.org/event/jumuah-130-pm-tba/2029-09-21/
LOCATION:Los Gatos Islamic Center (LGIC)\, 16769 Farley Rd\, Los Gatos\, CA\, 95032\, United States
CATEGORIES:Friday Prayer
ATTACH;FMTTYPE=image/png:https://wvmuslim.org/wp-content/uploads/2025/03/Screenshot-2025-03-27-at-2.48.12 PM.png
ORGANIZER;CN="West Valley Muslim Association":MAILTO:info@wvmuslim.org
END:VEVENT
BEGIN:VEVENT
DTSTART;TZID=UTC:20290928T133000
DTEND;TZID=UTC:20290928T140000
DTSTAMP:20260425T124124
CREATED:20260424T194028Z
LAST-MODIFIED:20260424T194141Z
UID:10019565-1885296600-1885298400@wvmuslim.org
SUMMARY:Jumu’ah (1:30 PM) @ LGIC – TBA
DESCRIPTION:Join us for Jumu’ah prayers every Friday at 1:30 PM at LGIC. The sermon (khutbah) begins promptly\, followed by the congregational prayer. Arrive early to find parking and settle in for a spiritually uplifting experience. All are welcome!
URL:https://wvmuslim.org/event/jumuah-130-pm-tba/2029-09-28/
LOCATION:Los Gatos Islamic Center (LGIC)\, 16769 Farley Rd\, Los Gatos\, CA\, 95032\, United States
CATEGORIES:Friday Prayer
ATTACH;FMTTYPE=image/png:https://wvmuslim.org/wp-content/uploads/2025/03/Screenshot-2025-03-27-at-2.48.12 PM.png
ORGANIZER;CN="West Valley Muslim Association":MAILTO:info@wvmuslim.org
END:VEVENT
BEGIN:VEVENT
DTSTART;TZID=UTC:20291005T133000
DTEND;TZID=UTC:20291005T140000
DTSTAMP:20260425T124124
CREATED:20260424T194028Z
LAST-MODIFIED:20260424T194141Z
UID:10019566-1885901400-1885903200@wvmuslim.org
SUMMARY:Jumu’ah (1:30 PM) @ LGIC – TBA
DESCRIPTION:Join us for Jumu’ah prayers every Friday at 1:30 PM at LGIC. The sermon (khutbah) begins promptly\, followed by the congregational prayer. Arrive early to find parking and settle in for a spiritually uplifting experience. All are welcome!
URL:https://wvmuslim.org/event/jumuah-130-pm-tba/2029-10-05/
LOCATION:Los Gatos Islamic Center (LGIC)\, 16769 Farley Rd\, Los Gatos\, CA\, 95032\, United States
CATEGORIES:Friday Prayer
ATTACH;FMTTYPE=image/png:https://wvmuslim.org/wp-content/uploads/2025/03/Screenshot-2025-03-27-at-2.48.12 PM.png
ORGANIZER;CN="West Valley Muslim Association":MAILTO:info@wvmuslim.org
END:VEVENT
BEGIN:VEVENT
DTSTART;TZID=UTC:20291012T133000
DTEND;TZID=UTC:20291012T140000
DTSTAMP:20260425T124124
CREATED:20260424T194028Z
LAST-MODIFIED:20260424T194141Z
UID:10019567-1886506200-1886508000@wvmuslim.org
SUMMARY:Jumu’ah (1:30 PM) @ LGIC – TBA
DESCRIPTION:Join us for Jumu’ah prayers every Friday at 1:30 PM at LGIC. The sermon (khutbah) begins promptly\, followed by the congregational prayer. Arrive early to find parking and settle in for a spiritually uplifting experience. All are welcome!
URL:https://wvmuslim.org/event/jumuah-130-pm-tba/2029-10-12/
LOCATION:Los Gatos Islamic Center (LGIC)\, 16769 Farley Rd\, Los Gatos\, CA\, 95032\, United States
CATEGORIES:Friday Prayer
ATTACH;FMTTYPE=image/png:https://wvmuslim.org/wp-content/uploads/2025/03/Screenshot-2025-03-27-at-2.48.12 PM.png
ORGANIZER;CN="West Valley Muslim Association":MAILTO:info@wvmuslim.org
END:VEVENT
BEGIN:VEVENT
DTSTART;TZID=UTC:20291019T133000
DTEND;TZID=UTC:20291019T140000
DTSTAMP:20260425T124124
CREATED:20260424T194028Z
LAST-MODIFIED:20260424T194141Z
UID:10019568-1887111000-1887112800@wvmuslim.org
SUMMARY:Jumu’ah (1:30 PM) @ LGIC – TBA
DESCRIPTION:Join us for Jumu’ah prayers every Friday at 1:30 PM at LGIC. The sermon (khutbah) begins promptly\, followed by the congregational prayer. Arrive early to find parking and settle in for a spiritually uplifting experience. All are welcome!
URL:https://wvmuslim.org/event/jumuah-130-pm-tba/2029-10-19/
LOCATION:Los Gatos Islamic Center (LGIC)\, 16769 Farley Rd\, Los Gatos\, CA\, 95032\, United States
CATEGORIES:Friday Prayer
ATTACH;FMTTYPE=image/png:https://wvmuslim.org/wp-content/uploads/2025/03/Screenshot-2025-03-27-at-2.48.12 PM.png
ORGANIZER;CN="West Valley Muslim Association":MAILTO:info@wvmuslim.org
END:VEVENT
BEGIN:VEVENT
DTSTART;TZID=UTC:20291026T133000
DTEND;TZID=UTC:20291026T140000
DTSTAMP:20260425T124124
CREATED:20260424T194028Z
LAST-MODIFIED:20260424T194141Z
UID:10019569-1887715800-1887717600@wvmuslim.org
SUMMARY:Jumu’ah (1:30 PM) @ LGIC – TBA
DESCRIPTION:Join us for Jumu’ah prayers every Friday at 1:30 PM at LGIC. The sermon (khutbah) begins promptly\, followed by the congregational prayer. Arrive early to find parking and settle in for a spiritually uplifting experience. All are welcome!
URL:https://wvmuslim.org/event/jumuah-130-pm-tba/2029-10-26/
LOCATION:Los Gatos Islamic Center (LGIC)\, 16769 Farley Rd\, Los Gatos\, CA\, 95032\, United States
CATEGORIES:Friday Prayer
ATTACH;FMTTYPE=image/png:https://wvmuslim.org/wp-content/uploads/2025/03/Screenshot-2025-03-27-at-2.48.12 PM.png
ORGANIZER;CN="West Valley Muslim Association":MAILTO:info@wvmuslim.org
END:VEVENT
BEGIN:VEVENT
DTSTART;TZID=UTC:20291102T133000
DTEND;TZID=UTC:20291102T140000
DTSTAMP:20260425T124124
CREATED:20260424T194028Z
LAST-MODIFIED:20260424T194141Z
UID:10019570-1888320600-1888322400@wvmuslim.org
SUMMARY:Jumu’ah (1:30 PM) @ LGIC – TBA
DESCRIPTION:Join us for Jumu’ah prayers every Friday at 1:30 PM at LGIC. The sermon (khutbah) begins promptly\, followed by the congregational prayer. Arrive early to find parking and settle in for a spiritually uplifting experience. All are welcome!
URL:https://wvmuslim.org/event/jumuah-130-pm-tba/2029-11-02/
LOCATION:Los Gatos Islamic Center (LGIC)\, 16769 Farley Rd\, Los Gatos\, CA\, 95032\, United States
CATEGORIES:Friday Prayer
ATTACH;FMTTYPE=image/png:https://wvmuslim.org/wp-content/uploads/2025/03/Screenshot-2025-03-27-at-2.48.12 PM.png
ORGANIZER;CN="West Valley Muslim Association":MAILTO:info@wvmuslim.org
END:VEVENT
BEGIN:VEVENT
DTSTART;TZID=UTC:20291109T133000
DTEND;TZID=UTC:20291109T140000
DTSTAMP:20260425T124124
CREATED:20260424T194028Z
LAST-MODIFIED:20260424T194141Z
UID:10019571-1888925400-1888927200@wvmuslim.org
SUMMARY:Jumu’ah (1:30 PM) @ LGIC – TBA
DESCRIPTION:Join us for Jumu’ah prayers every Friday at 1:30 PM at LGIC. The sermon (khutbah) begins promptly\, followed by the congregational prayer. Arrive early to find parking and settle in for a spiritually uplifting experience. All are welcome!
URL:https://wvmuslim.org/event/jumuah-130-pm-tba/2029-11-09/
LOCATION:Los Gatos Islamic Center (LGIC)\, 16769 Farley Rd\, Los Gatos\, CA\, 95032\, United States
CATEGORIES:Friday Prayer
ATTACH;FMTTYPE=image/png:https://wvmuslim.org/wp-content/uploads/2025/03/Screenshot-2025-03-27-at-2.48.12 PM.png
ORGANIZER;CN="West Valley Muslim Association":MAILTO:info@wvmuslim.org
END:VEVENT
BEGIN:VEVENT
DTSTART;TZID=UTC:20291116T133000
DTEND;TZID=UTC:20291116T140000
DTSTAMP:20260425T124124
CREATED:20260424T194028Z
LAST-MODIFIED:20260424T194141Z
UID:10019572-1889530200-1889532000@wvmuslim.org
SUMMARY:Jumu’ah (1:30 PM) @ LGIC – TBA
DESCRIPTION:Join us for Jumu’ah prayers every Friday at 1:30 PM at LGIC. The sermon (khutbah) begins promptly\, followed by the congregational prayer. Arrive early to find parking and settle in for a spiritually uplifting experience. All are welcome!
URL:https://wvmuslim.org/event/jumuah-130-pm-tba/2029-11-16/
LOCATION:Los Gatos Islamic Center (LGIC)\, 16769 Farley Rd\, Los Gatos\, CA\, 95032\, United States
CATEGORIES:Friday Prayer
ATTACH;FMTTYPE=image/png:https://wvmuslim.org/wp-content/uploads/2025/03/Screenshot-2025-03-27-at-2.48.12 PM.png
ORGANIZER;CN="West Valley Muslim Association":MAILTO:info@wvmuslim.org
END:VEVENT
BEGIN:VEVENT
DTSTART;TZID=UTC:20291123T133000
DTEND;TZID=UTC:20291123T140000
DTSTAMP:20260425T124124
CREATED:20260424T194028Z
LAST-MODIFIED:20260424T194141Z
UID:10019573-1890135000-1890136800@wvmuslim.org
SUMMARY:Jumu’ah (1:30 PM) @ LGIC – TBA
DESCRIPTION:Join us for Jumu’ah prayers every Friday at 1:30 PM at LGIC. The sermon (khutbah) begins promptly\, followed by the congregational prayer. Arrive early to find parking and settle in for a spiritually uplifting experience. All are welcome!
URL:https://wvmuslim.org/event/jumuah-130-pm-tba/2029-11-23/
LOCATION:Los Gatos Islamic Center (LGIC)\, 16769 Farley Rd\, Los Gatos\, CA\, 95032\, United States
CATEGORIES:Friday Prayer
ATTACH;FMTTYPE=image/png:https://wvmuslim.org/wp-content/uploads/2025/03/Screenshot-2025-03-27-at-2.48.12 PM.png
ORGANIZER;CN="West Valley Muslim Association":MAILTO:info@wvmuslim.org
END:VEVENT
BEGIN:VEVENT
DTSTART;TZID=UTC:20291130T133000
DTEND;TZID=UTC:20291130T140000
DTSTAMP:20260425T124124
CREATED:20260424T194028Z
LAST-MODIFIED:20260424T194141Z
UID:10019574-1890739800-1890741600@wvmuslim.org
SUMMARY:Jumu’ah (1:30 PM) @ LGIC – TBA
DESCRIPTION:Join us for Jumu’ah prayers every Friday at 1:30 PM at LGIC. The sermon (khutbah) begins promptly\, followed by the congregational prayer. Arrive early to find parking and settle in for a spiritually uplifting experience. All are welcome!
URL:https://wvmuslim.org/event/jumuah-130-pm-tba/2029-11-30/
LOCATION:Los Gatos Islamic Center (LGIC)\, 16769 Farley Rd\, Los Gatos\, CA\, 95032\, United States
CATEGORIES:Friday Prayer
ATTACH;FMTTYPE=image/png:https://wvmuslim.org/wp-content/uploads/2025/03/Screenshot-2025-03-27-at-2.48.12 PM.png
ORGANIZER;CN="West Valley Muslim Association":MAILTO:info@wvmuslim.org
END:VEVENT
BEGIN:VEVENT
DTSTART;TZID=UTC:20291207T133000
DTEND;TZID=UTC:20291207T140000
DTSTAMP:20260425T124124
CREATED:20260424T194028Z
LAST-MODIFIED:20260424T194141Z
UID:10019575-1891344600-1891346400@wvmuslim.org
SUMMARY:Jumu’ah (1:30 PM) @ LGIC – TBA
DESCRIPTION:Join us for Jumu’ah prayers every Friday at 1:30 PM at LGIC. The sermon (khutbah) begins promptly\, followed by the congregational prayer. Arrive early to find parking and settle in for a spiritually uplifting experience. All are welcome!
URL:https://wvmuslim.org/event/jumuah-130-pm-tba/2029-12-07/
LOCATION:Los Gatos Islamic Center (LGIC)\, 16769 Farley Rd\, Los Gatos\, CA\, 95032\, United States
CATEGORIES:Friday Prayer
ATTACH;FMTTYPE=image/png:https://wvmuslim.org/wp-content/uploads/2025/03/Screenshot-2025-03-27-at-2.48.12 PM.png
ORGANIZER;CN="West Valley Muslim Association":MAILTO:info@wvmuslim.org
END:VEVENT
BEGIN:VEVENT
DTSTART;TZID=UTC:20291214T133000
DTEND;TZID=UTC:20291214T140000
DTSTAMP:20260425T124124
CREATED:20260424T194028Z
LAST-MODIFIED:20260424T194141Z
UID:10019576-1891949400-1891951200@wvmuslim.org
SUMMARY:Jumu’ah (1:30 PM) @ LGIC – TBA
DESCRIPTION:Join us for Jumu’ah prayers every Friday at 1:30 PM at LGIC. The sermon (khutbah) begins promptly\, followed by the congregational prayer. Arrive early to find parking and settle in for a spiritually uplifting experience. All are welcome!
URL:https://wvmuslim.org/event/jumuah-130-pm-tba/2029-12-14/
LOCATION:Los Gatos Islamic Center (LGIC)\, 16769 Farley Rd\, Los Gatos\, CA\, 95032\, United States
CATEGORIES:Friday Prayer
ATTACH;FMTTYPE=image/png:https://wvmuslim.org/wp-content/uploads/2025/03/Screenshot-2025-03-27-at-2.48.12 PM.png
ORGANIZER;CN="West Valley Muslim Association":MAILTO:info@wvmuslim.org
END:VEVENT
BEGIN:VEVENT
DTSTART;TZID=UTC:20291221T133000
DTEND;TZID=UTC:20291221T140000
DTSTAMP:20260425T124124
CREATED:20260424T194028Z
LAST-MODIFIED:20260424T194141Z
UID:10019577-1892554200-1892556000@wvmuslim.org
SUMMARY:Jumu’ah (1:30 PM) @ LGIC – TBA
DESCRIPTION:Join us for Jumu’ah prayers every Friday at 1:30 PM at LGIC. The sermon (khutbah) begins promptly\, followed by the congregational prayer. Arrive early to find parking and settle in for a spiritually uplifting experience. All are welcome!
URL:https://wvmuslim.org/event/jumuah-130-pm-tba/2029-12-21/
LOCATION:Los Gatos Islamic Center (LGIC)\, 16769 Farley Rd\, Los Gatos\, CA\, 95032\, United States
CATEGORIES:Friday Prayer
ATTACH;FMTTYPE=image/png:https://wvmuslim.org/wp-content/uploads/2025/03/Screenshot-2025-03-27-at-2.48.12 PM.png
ORGANIZER;CN="West Valley Muslim Association":MAILTO:info@wvmuslim.org
END:VEVENT
END:VCALENDAR