BEGIN:VCALENDAR
VERSION:2.0
PRODID:-// - ECPv6.15.20//NONSGML v1.0//EN
CALSCALE:GREGORIAN
METHOD:PUBLISH
X-ORIGINAL-URL:https://wvmuslim.org
X-WR-CALDESC:Events for 
REFRESH-INTERVAL;VALUE=DURATION:PT1H
X-Robots-Tag:noindex
X-PUBLISHED-TTL:PT1H
BEGIN:VTIMEZONE
TZID:UTC
BEGIN:STANDARD
TZOFFSETFROM:+0000
TZOFFSETTO:+0000
TZNAME:UTC
DTSTART:20290101T000000
END:STANDARD
END:VTIMEZONE
BEGIN:VEVENT
DTSTART;TZID=UTC:20300208T133000
DTEND;TZID=UTC:20300208T140000
DTSTAMP:20260424T211358
CREATED:20260424T194028Z
LAST-MODIFIED:20260424T194141Z
UID:10019584-1896787800-1896789600@wvmuslim.org
SUMMARY:Jumu’ah (1:30 PM) @ LGIC – TBA
DESCRIPTION:Join us for Jumu’ah prayers every Friday at 1:30 PM at LGIC. The sermon (khutbah) begins promptly\, followed by the congregational prayer. Arrive early to find parking and settle in for a spiritually uplifting experience. All are welcome!
URL:https://wvmuslim.org/event/jumuah-130-pm-tba/2030-02-08/
LOCATION:Los Gatos Islamic Center (LGIC)\, 16769 Farley Rd\, Los Gatos\, CA\, 95032\, United States
CATEGORIES:Friday Prayer
ATTACH;FMTTYPE=image/png:https://wvmuslim.org/wp-content/uploads/2025/03/Screenshot-2025-03-27-at-2.48.12 PM.png
ORGANIZER;CN="West Valley Muslim Association":MAILTO:info@wvmuslim.org
END:VEVENT
BEGIN:VEVENT
DTSTART;TZID=UTC:20300215T133000
DTEND;TZID=UTC:20300215T140000
DTSTAMP:20260424T211358
CREATED:20260424T194028Z
LAST-MODIFIED:20260424T194141Z
UID:10019585-1897392600-1897394400@wvmuslim.org
SUMMARY:Jumu’ah (1:30 PM) @ LGIC – TBA
DESCRIPTION:Join us for Jumu’ah prayers every Friday at 1:30 PM at LGIC. The sermon (khutbah) begins promptly\, followed by the congregational prayer. Arrive early to find parking and settle in for a spiritually uplifting experience. All are welcome!
URL:https://wvmuslim.org/event/jumuah-130-pm-tba/2030-02-15/
LOCATION:Los Gatos Islamic Center (LGIC)\, 16769 Farley Rd\, Los Gatos\, CA\, 95032\, United States
CATEGORIES:Friday Prayer
ATTACH;FMTTYPE=image/png:https://wvmuslim.org/wp-content/uploads/2025/03/Screenshot-2025-03-27-at-2.48.12 PM.png
ORGANIZER;CN="West Valley Muslim Association":MAILTO:info@wvmuslim.org
END:VEVENT
BEGIN:VEVENT
DTSTART;TZID=UTC:20300222T133000
DTEND;TZID=UTC:20300222T140000
DTSTAMP:20260424T211358
CREATED:20260424T194028Z
LAST-MODIFIED:20260424T194141Z
UID:10019586-1897997400-1897999200@wvmuslim.org
SUMMARY:Jumu’ah (1:30 PM) @ LGIC – TBA
DESCRIPTION:Join us for Jumu’ah prayers every Friday at 1:30 PM at LGIC. The sermon (khutbah) begins promptly\, followed by the congregational prayer. Arrive early to find parking and settle in for a spiritually uplifting experience. All are welcome!
URL:https://wvmuslim.org/event/jumuah-130-pm-tba/2030-02-22/
LOCATION:Los Gatos Islamic Center (LGIC)\, 16769 Farley Rd\, Los Gatos\, CA\, 95032\, United States
CATEGORIES:Friday Prayer
ATTACH;FMTTYPE=image/png:https://wvmuslim.org/wp-content/uploads/2025/03/Screenshot-2025-03-27-at-2.48.12 PM.png
ORGANIZER;CN="West Valley Muslim Association":MAILTO:info@wvmuslim.org
END:VEVENT
BEGIN:VEVENT
DTSTART;TZID=UTC:20300301T133000
DTEND;TZID=UTC:20300301T140000
DTSTAMP:20260424T211358
CREATED:20260424T194028Z
LAST-MODIFIED:20260424T194141Z
UID:10019587-1898602200-1898604000@wvmuslim.org
SUMMARY:Jumu’ah (1:30 PM) @ LGIC – TBA
DESCRIPTION:Join us for Jumu’ah prayers every Friday at 1:30 PM at LGIC. The sermon (khutbah) begins promptly\, followed by the congregational prayer. Arrive early to find parking and settle in for a spiritually uplifting experience. All are welcome!
URL:https://wvmuslim.org/event/jumuah-130-pm-tba/2030-03-01/
LOCATION:Los Gatos Islamic Center (LGIC)\, 16769 Farley Rd\, Los Gatos\, CA\, 95032\, United States
CATEGORIES:Friday Prayer
ATTACH;FMTTYPE=image/png:https://wvmuslim.org/wp-content/uploads/2025/03/Screenshot-2025-03-27-at-2.48.12 PM.png
ORGANIZER;CN="West Valley Muslim Association":MAILTO:info@wvmuslim.org
END:VEVENT
BEGIN:VEVENT
DTSTART;TZID=UTC:20300308T133000
DTEND;TZID=UTC:20300308T140000
DTSTAMP:20260424T211358
CREATED:20260424T194028Z
LAST-MODIFIED:20260424T194141Z
UID:10019588-1899207000-1899208800@wvmuslim.org
SUMMARY:Jumu’ah (1:30 PM) @ LGIC – TBA
DESCRIPTION:Join us for Jumu’ah prayers every Friday at 1:30 PM at LGIC. The sermon (khutbah) begins promptly\, followed by the congregational prayer. Arrive early to find parking and settle in for a spiritually uplifting experience. All are welcome!
URL:https://wvmuslim.org/event/jumuah-130-pm-tba/2030-03-08/
LOCATION:Los Gatos Islamic Center (LGIC)\, 16769 Farley Rd\, Los Gatos\, CA\, 95032\, United States
CATEGORIES:Friday Prayer
ATTACH;FMTTYPE=image/png:https://wvmuslim.org/wp-content/uploads/2025/03/Screenshot-2025-03-27-at-2.48.12 PM.png
ORGANIZER;CN="West Valley Muslim Association":MAILTO:info@wvmuslim.org
END:VEVENT
BEGIN:VEVENT
DTSTART;TZID=UTC:20300315T133000
DTEND;TZID=UTC:20300315T140000
DTSTAMP:20260424T211358
CREATED:20260424T194028Z
LAST-MODIFIED:20260424T194141Z
UID:10019589-1899811800-1899813600@wvmuslim.org
SUMMARY:Jumu’ah (1:30 PM) @ LGIC – TBA
DESCRIPTION:Join us for Jumu’ah prayers every Friday at 1:30 PM at LGIC. The sermon (khutbah) begins promptly\, followed by the congregational prayer. Arrive early to find parking and settle in for a spiritually uplifting experience. All are welcome!
URL:https://wvmuslim.org/event/jumuah-130-pm-tba/2030-03-15/
LOCATION:Los Gatos Islamic Center (LGIC)\, 16769 Farley Rd\, Los Gatos\, CA\, 95032\, United States
CATEGORIES:Friday Prayer
ATTACH;FMTTYPE=image/png:https://wvmuslim.org/wp-content/uploads/2025/03/Screenshot-2025-03-27-at-2.48.12 PM.png
ORGANIZER;CN="West Valley Muslim Association":MAILTO:info@wvmuslim.org
END:VEVENT
BEGIN:VEVENT
DTSTART;TZID=UTC:20300322T133000
DTEND;TZID=UTC:20300322T140000
DTSTAMP:20260424T211358
CREATED:20260424T194028Z
LAST-MODIFIED:20260424T194141Z
UID:10019590-1900416600-1900418400@wvmuslim.org
SUMMARY:Jumu’ah (1:30 PM) @ LGIC – TBA
DESCRIPTION:Join us for Jumu’ah prayers every Friday at 1:30 PM at LGIC. The sermon (khutbah) begins promptly\, followed by the congregational prayer. Arrive early to find parking and settle in for a spiritually uplifting experience. All are welcome!
URL:https://wvmuslim.org/event/jumuah-130-pm-tba/2030-03-22/
LOCATION:Los Gatos Islamic Center (LGIC)\, 16769 Farley Rd\, Los Gatos\, CA\, 95032\, United States
CATEGORIES:Friday Prayer
ATTACH;FMTTYPE=image/png:https://wvmuslim.org/wp-content/uploads/2025/03/Screenshot-2025-03-27-at-2.48.12 PM.png
ORGANIZER;CN="West Valley Muslim Association":MAILTO:info@wvmuslim.org
END:VEVENT
BEGIN:VEVENT
DTSTART;TZID=UTC:20300329T133000
DTEND;TZID=UTC:20300329T140000
DTSTAMP:20260424T211358
CREATED:20260424T194028Z
LAST-MODIFIED:20260424T194141Z
UID:10019591-1901021400-1901023200@wvmuslim.org
SUMMARY:Jumu’ah (1:30 PM) @ LGIC – TBA
DESCRIPTION:Join us for Jumu’ah prayers every Friday at 1:30 PM at LGIC. The sermon (khutbah) begins promptly\, followed by the congregational prayer. Arrive early to find parking and settle in for a spiritually uplifting experience. All are welcome!
URL:https://wvmuslim.org/event/jumuah-130-pm-tba/2030-03-29/
LOCATION:Los Gatos Islamic Center (LGIC)\, 16769 Farley Rd\, Los Gatos\, CA\, 95032\, United States
CATEGORIES:Friday Prayer
ATTACH;FMTTYPE=image/png:https://wvmuslim.org/wp-content/uploads/2025/03/Screenshot-2025-03-27-at-2.48.12 PM.png
ORGANIZER;CN="West Valley Muslim Association":MAILTO:info@wvmuslim.org
END:VEVENT
BEGIN:VEVENT
DTSTART;TZID=UTC:20300405T133000
DTEND;TZID=UTC:20300405T140000
DTSTAMP:20260424T211358
CREATED:20260424T194028Z
LAST-MODIFIED:20260424T194141Z
UID:10019592-1901626200-1901628000@wvmuslim.org
SUMMARY:Jumu’ah (1:30 PM) @ LGIC – TBA
DESCRIPTION:Join us for Jumu’ah prayers every Friday at 1:30 PM at LGIC. The sermon (khutbah) begins promptly\, followed by the congregational prayer. Arrive early to find parking and settle in for a spiritually uplifting experience. All are welcome!
URL:https://wvmuslim.org/event/jumuah-130-pm-tba/2030-04-05/
LOCATION:Los Gatos Islamic Center (LGIC)\, 16769 Farley Rd\, Los Gatos\, CA\, 95032\, United States
CATEGORIES:Friday Prayer
ATTACH;FMTTYPE=image/png:https://wvmuslim.org/wp-content/uploads/2025/03/Screenshot-2025-03-27-at-2.48.12 PM.png
ORGANIZER;CN="West Valley Muslim Association":MAILTO:info@wvmuslim.org
END:VEVENT
BEGIN:VEVENT
DTSTART;TZID=UTC:20300412T133000
DTEND;TZID=UTC:20300412T140000
DTSTAMP:20260424T211358
CREATED:20260424T194028Z
LAST-MODIFIED:20260424T194141Z
UID:10019593-1902231000-1902232800@wvmuslim.org
SUMMARY:Jumu’ah (1:30 PM) @ LGIC – TBA
DESCRIPTION:Join us for Jumu’ah prayers every Friday at 1:30 PM at LGIC. The sermon (khutbah) begins promptly\, followed by the congregational prayer. Arrive early to find parking and settle in for a spiritually uplifting experience. All are welcome!
URL:https://wvmuslim.org/event/jumuah-130-pm-tba/2030-04-12/
LOCATION:Los Gatos Islamic Center (LGIC)\, 16769 Farley Rd\, Los Gatos\, CA\, 95032\, United States
CATEGORIES:Friday Prayer
ATTACH;FMTTYPE=image/png:https://wvmuslim.org/wp-content/uploads/2025/03/Screenshot-2025-03-27-at-2.48.12 PM.png
ORGANIZER;CN="West Valley Muslim Association":MAILTO:info@wvmuslim.org
END:VEVENT
BEGIN:VEVENT
DTSTART;TZID=UTC:20300419T133000
DTEND;TZID=UTC:20300419T140000
DTSTAMP:20260424T211358
CREATED:20260424T194028Z
LAST-MODIFIED:20260424T194141Z
UID:10019594-1902835800-1902837600@wvmuslim.org
SUMMARY:Jumu’ah (1:30 PM) @ LGIC – TBA
DESCRIPTION:Join us for Jumu’ah prayers every Friday at 1:30 PM at LGIC. The sermon (khutbah) begins promptly\, followed by the congregational prayer. Arrive early to find parking and settle in for a spiritually uplifting experience. All are welcome!
URL:https://wvmuslim.org/event/jumuah-130-pm-tba/2030-04-19/
LOCATION:Los Gatos Islamic Center (LGIC)\, 16769 Farley Rd\, Los Gatos\, CA\, 95032\, United States
CATEGORIES:Friday Prayer
ATTACH;FMTTYPE=image/png:https://wvmuslim.org/wp-content/uploads/2025/03/Screenshot-2025-03-27-at-2.48.12 PM.png
ORGANIZER;CN="West Valley Muslim Association":MAILTO:info@wvmuslim.org
END:VEVENT
BEGIN:VEVENT
DTSTART;TZID=UTC:20300426T133000
DTEND;TZID=UTC:20300426T140000
DTSTAMP:20260424T211358
CREATED:20260424T194028Z
LAST-MODIFIED:20260424T194141Z
UID:10019595-1903440600-1903442400@wvmuslim.org
SUMMARY:Jumu’ah (1:30 PM) @ LGIC – TBA
DESCRIPTION:Join us for Jumu’ah prayers every Friday at 1:30 PM at LGIC. The sermon (khutbah) begins promptly\, followed by the congregational prayer. Arrive early to find parking and settle in for a spiritually uplifting experience. All are welcome!
URL:https://wvmuslim.org/event/jumuah-130-pm-tba/2030-04-26/
LOCATION:Los Gatos Islamic Center (LGIC)\, 16769 Farley Rd\, Los Gatos\, CA\, 95032\, United States
CATEGORIES:Friday Prayer
ATTACH;FMTTYPE=image/png:https://wvmuslim.org/wp-content/uploads/2025/03/Screenshot-2025-03-27-at-2.48.12 PM.png
ORGANIZER;CN="West Valley Muslim Association":MAILTO:info@wvmuslim.org
END:VEVENT
BEGIN:VEVENT
DTSTART;TZID=UTC:20300503T133000
DTEND;TZID=UTC:20300503T140000
DTSTAMP:20260424T211358
CREATED:20260424T194028Z
LAST-MODIFIED:20260424T194141Z
UID:10019596-1904045400-1904047200@wvmuslim.org
SUMMARY:Jumu’ah (1:30 PM) @ LGIC – TBA
DESCRIPTION:Join us for Jumu’ah prayers every Friday at 1:30 PM at LGIC. The sermon (khutbah) begins promptly\, followed by the congregational prayer. Arrive early to find parking and settle in for a spiritually uplifting experience. All are welcome!
URL:https://wvmuslim.org/event/jumuah-130-pm-tba/2030-05-03/
LOCATION:Los Gatos Islamic Center (LGIC)\, 16769 Farley Rd\, Los Gatos\, CA\, 95032\, United States
CATEGORIES:Friday Prayer
ATTACH;FMTTYPE=image/png:https://wvmuslim.org/wp-content/uploads/2025/03/Screenshot-2025-03-27-at-2.48.12 PM.png
ORGANIZER;CN="West Valley Muslim Association":MAILTO:info@wvmuslim.org
END:VEVENT
BEGIN:VEVENT
DTSTART;TZID=UTC:20300510T133000
DTEND;TZID=UTC:20300510T140000
DTSTAMP:20260424T211358
CREATED:20260424T194028Z
LAST-MODIFIED:20260424T194141Z
UID:10019597-1904650200-1904652000@wvmuslim.org
SUMMARY:Jumu’ah (1:30 PM) @ LGIC – TBA
DESCRIPTION:Join us for Jumu’ah prayers every Friday at 1:30 PM at LGIC. The sermon (khutbah) begins promptly\, followed by the congregational prayer. Arrive early to find parking and settle in for a spiritually uplifting experience. All are welcome!
URL:https://wvmuslim.org/event/jumuah-130-pm-tba/2030-05-10/
LOCATION:Los Gatos Islamic Center (LGIC)\, 16769 Farley Rd\, Los Gatos\, CA\, 95032\, United States
CATEGORIES:Friday Prayer
ATTACH;FMTTYPE=image/png:https://wvmuslim.org/wp-content/uploads/2025/03/Screenshot-2025-03-27-at-2.48.12 PM.png
ORGANIZER;CN="West Valley Muslim Association":MAILTO:info@wvmuslim.org
END:VEVENT
BEGIN:VEVENT
DTSTART;TZID=UTC:20300517T133000
DTEND;TZID=UTC:20300517T140000
DTSTAMP:20260424T211358
CREATED:20260424T194028Z
LAST-MODIFIED:20260424T194141Z
UID:10019598-1905255000-1905256800@wvmuslim.org
SUMMARY:Jumu’ah (1:30 PM) @ LGIC – TBA
DESCRIPTION:Join us for Jumu’ah prayers every Friday at 1:30 PM at LGIC. The sermon (khutbah) begins promptly\, followed by the congregational prayer. Arrive early to find parking and settle in for a spiritually uplifting experience. All are welcome!
URL:https://wvmuslim.org/event/jumuah-130-pm-tba/2030-05-17/
LOCATION:Los Gatos Islamic Center (LGIC)\, 16769 Farley Rd\, Los Gatos\, CA\, 95032\, United States
CATEGORIES:Friday Prayer
ATTACH;FMTTYPE=image/png:https://wvmuslim.org/wp-content/uploads/2025/03/Screenshot-2025-03-27-at-2.48.12 PM.png
ORGANIZER;CN="West Valley Muslim Association":MAILTO:info@wvmuslim.org
END:VEVENT
BEGIN:VEVENT
DTSTART;TZID=UTC:20300524T133000
DTEND;TZID=UTC:20300524T140000
DTSTAMP:20260424T211358
CREATED:20260424T194028Z
LAST-MODIFIED:20260424T194141Z
UID:10019599-1905859800-1905861600@wvmuslim.org
SUMMARY:Jumu’ah (1:30 PM) @ LGIC – TBA
DESCRIPTION:Join us for Jumu’ah prayers every Friday at 1:30 PM at LGIC. The sermon (khutbah) begins promptly\, followed by the congregational prayer. Arrive early to find parking and settle in for a spiritually uplifting experience. All are welcome!
URL:https://wvmuslim.org/event/jumuah-130-pm-tba/2030-05-24/
LOCATION:Los Gatos Islamic Center (LGIC)\, 16769 Farley Rd\, Los Gatos\, CA\, 95032\, United States
CATEGORIES:Friday Prayer
ATTACH;FMTTYPE=image/png:https://wvmuslim.org/wp-content/uploads/2025/03/Screenshot-2025-03-27-at-2.48.12 PM.png
ORGANIZER;CN="West Valley Muslim Association":MAILTO:info@wvmuslim.org
END:VEVENT
BEGIN:VEVENT
DTSTART;TZID=UTC:20300531T133000
DTEND;TZID=UTC:20300531T140000
DTSTAMP:20260424T211358
CREATED:20260424T194028Z
LAST-MODIFIED:20260424T194141Z
UID:10019600-1906464600-1906466400@wvmuslim.org
SUMMARY:Jumu’ah (1:30 PM) @ LGIC – TBA
DESCRIPTION:Join us for Jumu’ah prayers every Friday at 1:30 PM at LGIC. The sermon (khutbah) begins promptly\, followed by the congregational prayer. Arrive early to find parking and settle in for a spiritually uplifting experience. All are welcome!
URL:https://wvmuslim.org/event/jumuah-130-pm-tba/2030-05-31/
LOCATION:Los Gatos Islamic Center (LGIC)\, 16769 Farley Rd\, Los Gatos\, CA\, 95032\, United States
CATEGORIES:Friday Prayer
ATTACH;FMTTYPE=image/png:https://wvmuslim.org/wp-content/uploads/2025/03/Screenshot-2025-03-27-at-2.48.12 PM.png
ORGANIZER;CN="West Valley Muslim Association":MAILTO:info@wvmuslim.org
END:VEVENT
BEGIN:VEVENT
DTSTART;TZID=UTC:20300607T133000
DTEND;TZID=UTC:20300607T140000
DTSTAMP:20260424T211358
CREATED:20260424T194028Z
LAST-MODIFIED:20260424T194141Z
UID:10019601-1907069400-1907071200@wvmuslim.org
SUMMARY:Jumu’ah (1:30 PM) @ LGIC – TBA
DESCRIPTION:Join us for Jumu’ah prayers every Friday at 1:30 PM at LGIC. The sermon (khutbah) begins promptly\, followed by the congregational prayer. Arrive early to find parking and settle in for a spiritually uplifting experience. All are welcome!
URL:https://wvmuslim.org/event/jumuah-130-pm-tba/2030-06-07/
LOCATION:Los Gatos Islamic Center (LGIC)\, 16769 Farley Rd\, Los Gatos\, CA\, 95032\, United States
CATEGORIES:Friday Prayer
ATTACH;FMTTYPE=image/png:https://wvmuslim.org/wp-content/uploads/2025/03/Screenshot-2025-03-27-at-2.48.12 PM.png
ORGANIZER;CN="West Valley Muslim Association":MAILTO:info@wvmuslim.org
END:VEVENT
BEGIN:VEVENT
DTSTART;TZID=UTC:20300614T133000
DTEND;TZID=UTC:20300614T140000
DTSTAMP:20260424T211358
CREATED:20260424T194028Z
LAST-MODIFIED:20260424T194141Z
UID:10019602-1907674200-1907676000@wvmuslim.org
SUMMARY:Jumu’ah (1:30 PM) @ LGIC – TBA
DESCRIPTION:Join us for Jumu’ah prayers every Friday at 1:30 PM at LGIC. The sermon (khutbah) begins promptly\, followed by the congregational prayer. Arrive early to find parking and settle in for a spiritually uplifting experience. All are welcome!
URL:https://wvmuslim.org/event/jumuah-130-pm-tba/2030-06-14/
LOCATION:Los Gatos Islamic Center (LGIC)\, 16769 Farley Rd\, Los Gatos\, CA\, 95032\, United States
CATEGORIES:Friday Prayer
ATTACH;FMTTYPE=image/png:https://wvmuslim.org/wp-content/uploads/2025/03/Screenshot-2025-03-27-at-2.48.12 PM.png
ORGANIZER;CN="West Valley Muslim Association":MAILTO:info@wvmuslim.org
END:VEVENT
BEGIN:VEVENT
DTSTART;TZID=UTC:20300621T133000
DTEND;TZID=UTC:20300621T140000
DTSTAMP:20260424T211358
CREATED:20260424T194028Z
LAST-MODIFIED:20260424T194141Z
UID:10019603-1908279000-1908280800@wvmuslim.org
SUMMARY:Jumu’ah (1:30 PM) @ LGIC – TBA
DESCRIPTION:Join us for Jumu’ah prayers every Friday at 1:30 PM at LGIC. The sermon (khutbah) begins promptly\, followed by the congregational prayer. Arrive early to find parking and settle in for a spiritually uplifting experience. All are welcome!
URL:https://wvmuslim.org/event/jumuah-130-pm-tba/2030-06-21/
LOCATION:Los Gatos Islamic Center (LGIC)\, 16769 Farley Rd\, Los Gatos\, CA\, 95032\, United States
CATEGORIES:Friday Prayer
ATTACH;FMTTYPE=image/png:https://wvmuslim.org/wp-content/uploads/2025/03/Screenshot-2025-03-27-at-2.48.12 PM.png
ORGANIZER;CN="West Valley Muslim Association":MAILTO:info@wvmuslim.org
END:VEVENT
BEGIN:VEVENT
DTSTART;TZID=UTC:20300628T133000
DTEND;TZID=UTC:20300628T140000
DTSTAMP:20260424T211358
CREATED:20260424T194028Z
LAST-MODIFIED:20260424T194141Z
UID:10019604-1908883800-1908885600@wvmuslim.org
SUMMARY:Jumu’ah (1:30 PM) @ LGIC – TBA
DESCRIPTION:Join us for Jumu’ah prayers every Friday at 1:30 PM at LGIC. The sermon (khutbah) begins promptly\, followed by the congregational prayer. Arrive early to find parking and settle in for a spiritually uplifting experience. All are welcome!
URL:https://wvmuslim.org/event/jumuah-130-pm-tba/2030-06-28/
LOCATION:Los Gatos Islamic Center (LGIC)\, 16769 Farley Rd\, Los Gatos\, CA\, 95032\, United States
CATEGORIES:Friday Prayer
ATTACH;FMTTYPE=image/png:https://wvmuslim.org/wp-content/uploads/2025/03/Screenshot-2025-03-27-at-2.48.12 PM.png
ORGANIZER;CN="West Valley Muslim Association":MAILTO:info@wvmuslim.org
END:VEVENT
BEGIN:VEVENT
DTSTART;TZID=UTC:20300705T133000
DTEND;TZID=UTC:20300705T140000
DTSTAMP:20260424T211358
CREATED:20260424T194028Z
LAST-MODIFIED:20260424T194141Z
UID:10019605-1909488600-1909490400@wvmuslim.org
SUMMARY:Jumu’ah (1:30 PM) @ LGIC – TBA
DESCRIPTION:Join us for Jumu’ah prayers every Friday at 1:30 PM at LGIC. The sermon (khutbah) begins promptly\, followed by the congregational prayer. Arrive early to find parking and settle in for a spiritually uplifting experience. All are welcome!
URL:https://wvmuslim.org/event/jumuah-130-pm-tba/2030-07-05/
LOCATION:Los Gatos Islamic Center (LGIC)\, 16769 Farley Rd\, Los Gatos\, CA\, 95032\, United States
CATEGORIES:Friday Prayer
ATTACH;FMTTYPE=image/png:https://wvmuslim.org/wp-content/uploads/2025/03/Screenshot-2025-03-27-at-2.48.12 PM.png
ORGANIZER;CN="West Valley Muslim Association":MAILTO:info@wvmuslim.org
END:VEVENT
BEGIN:VEVENT
DTSTART;TZID=UTC:20300712T133000
DTEND;TZID=UTC:20300712T140000
DTSTAMP:20260424T211358
CREATED:20260424T194028Z
LAST-MODIFIED:20260424T194141Z
UID:10019606-1910093400-1910095200@wvmuslim.org
SUMMARY:Jumu’ah (1:30 PM) @ LGIC – TBA
DESCRIPTION:Join us for Jumu’ah prayers every Friday at 1:30 PM at LGIC. The sermon (khutbah) begins promptly\, followed by the congregational prayer. Arrive early to find parking and settle in for a spiritually uplifting experience. All are welcome!
URL:https://wvmuslim.org/event/jumuah-130-pm-tba/2030-07-12/
LOCATION:Los Gatos Islamic Center (LGIC)\, 16769 Farley Rd\, Los Gatos\, CA\, 95032\, United States
CATEGORIES:Friday Prayer
ATTACH;FMTTYPE=image/png:https://wvmuslim.org/wp-content/uploads/2025/03/Screenshot-2025-03-27-at-2.48.12 PM.png
ORGANIZER;CN="West Valley Muslim Association":MAILTO:info@wvmuslim.org
END:VEVENT
BEGIN:VEVENT
DTSTART;TZID=UTC:20300719T133000
DTEND;TZID=UTC:20300719T140000
DTSTAMP:20260424T211358
CREATED:20260424T194028Z
LAST-MODIFIED:20260424T194141Z
UID:10019607-1910698200-1910700000@wvmuslim.org
SUMMARY:Jumu’ah (1:30 PM) @ LGIC – TBA
DESCRIPTION:Join us for Jumu’ah prayers every Friday at 1:30 PM at LGIC. The sermon (khutbah) begins promptly\, followed by the congregational prayer. Arrive early to find parking and settle in for a spiritually uplifting experience. All are welcome!
URL:https://wvmuslim.org/event/jumuah-130-pm-tba/2030-07-19/
LOCATION:Los Gatos Islamic Center (LGIC)\, 16769 Farley Rd\, Los Gatos\, CA\, 95032\, United States
CATEGORIES:Friday Prayer
ATTACH;FMTTYPE=image/png:https://wvmuslim.org/wp-content/uploads/2025/03/Screenshot-2025-03-27-at-2.48.12 PM.png
ORGANIZER;CN="West Valley Muslim Association":MAILTO:info@wvmuslim.org
END:VEVENT
BEGIN:VEVENT
DTSTART;TZID=UTC:20300726T133000
DTEND;TZID=UTC:20300726T140000
DTSTAMP:20260424T211358
CREATED:20260424T194028Z
LAST-MODIFIED:20260424T194141Z
UID:10019608-1911303000-1911304800@wvmuslim.org
SUMMARY:Jumu’ah (1:30 PM) @ LGIC – TBA
DESCRIPTION:Join us for Jumu’ah prayers every Friday at 1:30 PM at LGIC. The sermon (khutbah) begins promptly\, followed by the congregational prayer. Arrive early to find parking and settle in for a spiritually uplifting experience. All are welcome!
URL:https://wvmuslim.org/event/jumuah-130-pm-tba/2030-07-26/
LOCATION:Los Gatos Islamic Center (LGIC)\, 16769 Farley Rd\, Los Gatos\, CA\, 95032\, United States
CATEGORIES:Friday Prayer
ATTACH;FMTTYPE=image/png:https://wvmuslim.org/wp-content/uploads/2025/03/Screenshot-2025-03-27-at-2.48.12 PM.png
ORGANIZER;CN="West Valley Muslim Association":MAILTO:info@wvmuslim.org
END:VEVENT
BEGIN:VEVENT
DTSTART;TZID=UTC:20300802T133000
DTEND;TZID=UTC:20300802T140000
DTSTAMP:20260424T211358
CREATED:20260424T194028Z
LAST-MODIFIED:20260424T194141Z
UID:10019609-1911907800-1911909600@wvmuslim.org
SUMMARY:Jumu’ah (1:30 PM) @ LGIC – TBA
DESCRIPTION:Join us for Jumu’ah prayers every Friday at 1:30 PM at LGIC. The sermon (khutbah) begins promptly\, followed by the congregational prayer. Arrive early to find parking and settle in for a spiritually uplifting experience. All are welcome!
URL:https://wvmuslim.org/event/jumuah-130-pm-tba/2030-08-02/
LOCATION:Los Gatos Islamic Center (LGIC)\, 16769 Farley Rd\, Los Gatos\, CA\, 95032\, United States
CATEGORIES:Friday Prayer
ATTACH;FMTTYPE=image/png:https://wvmuslim.org/wp-content/uploads/2025/03/Screenshot-2025-03-27-at-2.48.12 PM.png
ORGANIZER;CN="West Valley Muslim Association":MAILTO:info@wvmuslim.org
END:VEVENT
BEGIN:VEVENT
DTSTART;TZID=UTC:20300809T133000
DTEND;TZID=UTC:20300809T140000
DTSTAMP:20260424T211358
CREATED:20260424T194028Z
LAST-MODIFIED:20260424T194141Z
UID:10019610-1912512600-1912514400@wvmuslim.org
SUMMARY:Jumu’ah (1:30 PM) @ LGIC – TBA
DESCRIPTION:Join us for Jumu’ah prayers every Friday at 1:30 PM at LGIC. The sermon (khutbah) begins promptly\, followed by the congregational prayer. Arrive early to find parking and settle in for a spiritually uplifting experience. All are welcome!
URL:https://wvmuslim.org/event/jumuah-130-pm-tba/2030-08-09/
LOCATION:Los Gatos Islamic Center (LGIC)\, 16769 Farley Rd\, Los Gatos\, CA\, 95032\, United States
CATEGORIES:Friday Prayer
ATTACH;FMTTYPE=image/png:https://wvmuslim.org/wp-content/uploads/2025/03/Screenshot-2025-03-27-at-2.48.12 PM.png
ORGANIZER;CN="West Valley Muslim Association":MAILTO:info@wvmuslim.org
END:VEVENT
BEGIN:VEVENT
DTSTART;TZID=UTC:20300816T133000
DTEND;TZID=UTC:20300816T140000
DTSTAMP:20260424T211358
CREATED:20260424T194028Z
LAST-MODIFIED:20260424T194141Z
UID:10019611-1913117400-1913119200@wvmuslim.org
SUMMARY:Jumu’ah (1:30 PM) @ LGIC – TBA
DESCRIPTION:Join us for Jumu’ah prayers every Friday at 1:30 PM at LGIC. The sermon (khutbah) begins promptly\, followed by the congregational prayer. Arrive early to find parking and settle in for a spiritually uplifting experience. All are welcome!
URL:https://wvmuslim.org/event/jumuah-130-pm-tba/2030-08-16/
LOCATION:Los Gatos Islamic Center (LGIC)\, 16769 Farley Rd\, Los Gatos\, CA\, 95032\, United States
CATEGORIES:Friday Prayer
ATTACH;FMTTYPE=image/png:https://wvmuslim.org/wp-content/uploads/2025/03/Screenshot-2025-03-27-at-2.48.12 PM.png
ORGANIZER;CN="West Valley Muslim Association":MAILTO:info@wvmuslim.org
END:VEVENT
BEGIN:VEVENT
DTSTART;TZID=UTC:20300823T133000
DTEND;TZID=UTC:20300823T140000
DTSTAMP:20260424T211358
CREATED:20260424T194028Z
LAST-MODIFIED:20260424T194141Z
UID:10019612-1913722200-1913724000@wvmuslim.org
SUMMARY:Jumu’ah (1:30 PM) @ LGIC – TBA
DESCRIPTION:Join us for Jumu’ah prayers every Friday at 1:30 PM at LGIC. The sermon (khutbah) begins promptly\, followed by the congregational prayer. Arrive early to find parking and settle in for a spiritually uplifting experience. All are welcome!
URL:https://wvmuslim.org/event/jumuah-130-pm-tba/2030-08-23/
LOCATION:Los Gatos Islamic Center (LGIC)\, 16769 Farley Rd\, Los Gatos\, CA\, 95032\, United States
CATEGORIES:Friday Prayer
ATTACH;FMTTYPE=image/png:https://wvmuslim.org/wp-content/uploads/2025/03/Screenshot-2025-03-27-at-2.48.12 PM.png
ORGANIZER;CN="West Valley Muslim Association":MAILTO:info@wvmuslim.org
END:VEVENT
BEGIN:VEVENT
DTSTART;TZID=UTC:20300830T133000
DTEND;TZID=UTC:20300830T140000
DTSTAMP:20260424T211358
CREATED:20260424T194028Z
LAST-MODIFIED:20260424T194141Z
UID:10019613-1914327000-1914328800@wvmuslim.org
SUMMARY:Jumu’ah (1:30 PM) @ LGIC – TBA
DESCRIPTION:Join us for Jumu’ah prayers every Friday at 1:30 PM at LGIC. The sermon (khutbah) begins promptly\, followed by the congregational prayer. Arrive early to find parking and settle in for a spiritually uplifting experience. All are welcome!
URL:https://wvmuslim.org/event/jumuah-130-pm-tba/2030-08-30/
LOCATION:Los Gatos Islamic Center (LGIC)\, 16769 Farley Rd\, Los Gatos\, CA\, 95032\, United States
CATEGORIES:Friday Prayer
ATTACH;FMTTYPE=image/png:https://wvmuslim.org/wp-content/uploads/2025/03/Screenshot-2025-03-27-at-2.48.12 PM.png
ORGANIZER;CN="West Valley Muslim Association":MAILTO:info@wvmuslim.org
END:VEVENT
END:VCALENDAR