BEGIN:VCALENDAR
VERSION:2.0
PRODID:-// - ECPv6.15.20//NONSGML v1.0//EN
CALSCALE:GREGORIAN
METHOD:PUBLISH
X-ORIGINAL-URL:https://wvmuslim.org
X-WR-CALDESC:Events for 
REFRESH-INTERVAL;VALUE=DURATION:PT1H
X-Robots-Tag:noindex
X-PUBLISHED-TTL:PT1H
BEGIN:VTIMEZONE
TZID:UTC
BEGIN:STANDARD
TZOFFSETFROM:+0000
TZOFFSETTO:+0000
TZNAME:UTC
DTSTART:20240101T000000
END:STANDARD
END:VTIMEZONE
BEGIN:VEVENT
DTSTART;TZID=UTC:20250725T123000
DTEND;TZID=UTC:20250725T133000
DTSTAMP:20260420T104731
CREATED:20250724T091710Z
LAST-MODIFIED:20250724T091710Z
UID:10000889-1753446600-1753450200@wvmuslim.org
SUMMARY:Jumu’ah (12:30 PM) - Taaha Chaudhry
DESCRIPTION:Join us every Friday for Jumu’ah prayer at the Prospect Center. \nEach sermon is followed by the congregational prayer. \nEveryone is welcome to attend and benefit from the spiritual reminder. \nPlease arrive early to find parking and settle in.
URL:https://wvmuslim.org/event/jummuah-friday-prayers-prospect-center-12-4-3/
LOCATION:Prospect Center\, 19848 Prospect Rd\, Saratoga\, CA\, CA 95070\, United States
CATEGORIES:Friday Prayer
ATTACH;FMTTYPE=image/png:https://wvmuslim.org/wp-content/uploads/2025/06/Screenshot-2025-07-09-at-10.51.12 AM.png
ORGANIZER;CN="West Valley Muslim Association":MAILTO:info@wvmuslim.org
END:VEVENT
BEGIN:VEVENT
DTSTART;TZID=UTC:20250725T133000
DTEND;TZID=UTC:20250725T140000
DTSTAMP:20260420T104731
CREATED:20250724T091510Z
LAST-MODIFIED:20250724T221742Z
UID:10001413-1753450200-1753452000@wvmuslim.org
SUMMARY:Jumu’ah (1:30 PM) – Ustadh Basil Farooq
DESCRIPTION:Join us for Jumu’ah prayers every Friday at 1:30 PM at LGIC. The sermon (khutbah) begins promptly\, followed by the congregational prayer. Arrive early to find parking and settle in for a spiritually uplifting experience. All are welcome!
URL:https://wvmuslim.org/event/jummuah-friday-prayers-lgic-17-4-3/
LOCATION:Los Gatos Islamic Center (LGIC)\, 16769 Farley Rd\, Los Gatos\, CA\, 95032\, United States
CATEGORIES:Friday Prayer
ATTACH;FMTTYPE=image/png:https://wvmuslim.org/wp-content/uploads/2025/03/Screenshot-2025-03-27-at-2.48.12 PM.png
ORGANIZER;CN="West Valley Muslim Association":MAILTO:info@wvmuslim.org
END:VEVENT
BEGIN:VEVENT
DTSTART;TZID=UTC:20250725T133000
DTEND;TZID=UTC:20250725T143000
DTSTAMP:20260420T104731
CREATED:20250724T092037Z
LAST-MODIFIED:20250724T092037Z
UID:10004125-1753450200-1753453800@wvmuslim.org
SUMMARY:Jumu’ah (1:30 PM) - Omair Kamil
DESCRIPTION:Join us every Friday for Jumu’ah prayer at the Prospect Center. \nEach sermon is followed by the congregational prayer. \nEveryone is welcome to attend and benefit from the spiritual reminder. \nPlease arrive early to find parking and settle in.
URL:https://wvmuslim.org/event/jumuah-130-pm-omair-kamil-2/
LOCATION:Prospect Center\, 19848 Prospect Rd\, Saratoga\, CA\, CA 95070\, United States
CATEGORIES:Friday Prayer
ATTACH;FMTTYPE=image/png:https://wvmuslim.org/wp-content/uploads/2025/06/Screenshot-2025-07-09-at-10.51.12 AM.png
ORGANIZER;CN="West Valley Muslim Association":MAILTO:info@wvmuslim.org
END:VEVENT
BEGIN:VEVENT
DTSTART;TZID=UTC:20250801T123000
DTEND;TZID=UTC:20250801T133000
DTSTAMP:20260420T104731
CREATED:20250801T050536Z
LAST-MODIFIED:20250801T050536Z
UID:10000890-1754051400-1754055000@wvmuslim.org
SUMMARY:Jumu’ah (12:30 PM) -  Saleh Saleh
DESCRIPTION:Join us every Friday for Jumu’ah prayer at the Prospect Center. \nEach sermon is followed by the congregational prayer. \nEveryone is welcome to attend and benefit from the spiritual reminder. \nPlease arrive early to find parking and settle in.
URL:https://wvmuslim.org/event/jummuah-friday-prayers-prospect-center-12-4-4/
LOCATION:Prospect Center\, 19848 Prospect Rd\, Saratoga\, CA\, CA 95070\, United States
CATEGORIES:Friday Prayer
ATTACH;FMTTYPE=image/png:https://wvmuslim.org/wp-content/uploads/2025/03/Screenshot-2025-03-23-at-3.30.07 PM.png
ORGANIZER;CN="West Valley Muslim Association":MAILTO:info@wvmuslim.org
END:VEVENT
BEGIN:VEVENT
DTSTART;TZID=UTC:20250801T133000
DTEND;TZID=UTC:20250801T140000
DTSTAMP:20260420T104731
CREATED:20250801T050312Z
LAST-MODIFIED:20250801T050633Z
UID:10001414-1754055000-1754056800@wvmuslim.org
SUMMARY:Jumu’ah (1:30 PM) – Shaykh Khalil Skafi
DESCRIPTION:Join us for Jumu’ah prayers every Friday at 1:30 PM at LGIC. The sermon (khutbah) begins promptly\, followed by the congregational prayer. Arrive early to find parking and settle in for a spiritually uplifting experience. All are welcome!
URL:https://wvmuslim.org/event/jummuah-friday-prayers-lgic-17-4-4/
LOCATION:Los Gatos Islamic Center (LGIC)\, 16769 Farley Rd\, Los Gatos\, CA\, 95032\, United States
CATEGORIES:Friday Prayer
ATTACH;FMTTYPE=image/png:https://wvmuslim.org/wp-content/uploads/2025/03/Screenshot-2025-03-27-at-2.48.12 PM.png
ORGANIZER;CN="West Valley Muslim Association":MAILTO:info@wvmuslim.org
END:VEVENT
BEGIN:VEVENT
DTSTART;TZID=UTC:20250822T133000
DTEND;TZID=UTC:20250822T140000
DTSTAMP:20260420T104731
CREATED:20250807T201755Z
LAST-MODIFIED:20250822T045702Z
UID:10004132-1755869400-1755871200@wvmuslim.org
SUMMARY:Jumu’ah (1:30 PM) -  Munir Qtaish
DESCRIPTION:Join us every Friday for Jumu’ah prayer at the Prospect Center. \nEach sermon is followed by the congregational prayer. \nEveryone is welcome to attend and benefit from the spiritual reminder. \nPlease arrive early to find parking and settle in.
URL:https://wvmuslim.org/event/jumuah-130-pm-ihab-badr/
LOCATION:Prospect Center\, 19848 Prospect Rd\, Saratoga\, CA\, CA 95070\, United States
CATEGORIES:Friday Prayer
ATTACH;FMTTYPE=image/png:https://wvmuslim.org/wp-content/uploads/2025/06/Screenshot-2025-07-09-at-10.51.12 AM.png
ORGANIZER;CN="West Valley Muslim Association":MAILTO:info@wvmuslim.org
END:VEVENT
BEGIN:VEVENT
DTSTART;TZID=UTC:20250829T153000
DTEND;TZID=UTC:20250829T160000
DTSTAMP:20260420T104731
CREATED:20250827T041010Z
LAST-MODIFIED:20250827T041010Z
UID:10005535-1756481400-1756483200@wvmuslim.org
SUMMARY:Jumu’ah (3:30 PM) – Saleh Saleh
DESCRIPTION:Join us for Jumu’ah prayers every Friday at 3:30 PM at LGIC. The sermon (khutbah) begins promptly\, followed by the congregational prayer. Arrive early to find parking and settle in for a spiritually uplifting experience. All are welcome!
URL:https://wvmuslim.org/event/jumuah-330-pm-saleh-saleh/
LOCATION:Los Gatos Islamic Center (LGIC)\, 16769 Farley Rd\, Los Gatos\, CA\, 95032\, United States
CATEGORIES:Friday Prayer
ATTACH;FMTTYPE=image/png:https://wvmuslim.org/wp-content/uploads/2025/03/Screenshot-2025-03-27-at-2.48.12 PM.png
ORGANIZER;CN="West Valley Muslim Association":MAILTO:info@wvmuslim.org
END:VEVENT
BEGIN:VEVENT
DTSTART;TZID=UTC:20251031T153000
DTEND;TZID=UTC:20251031T160000
DTSTAMP:20260420T104731
CREATED:20250819T054109Z
LAST-MODIFIED:20251028T183045Z
UID:10005263-1761924600-1761926400@wvmuslim.org
SUMMARY:Jumu’ah (3:30 PM) -  Imam Tahir Anwar
DESCRIPTION:Join us every Friday for Jumu’ah prayer at the Prospect Center. \nEach sermon is followed by the congregational prayer. \nEveryone is welcome to attend and benefit from the spiritual reminder. \nPlease arrive early to find parking and settle in.
URL:https://wvmuslim.org/event/jumuah-330-pm-tba/
LOCATION:Prospect Center\, 19848 Prospect Rd\, Saratoga\, CA\, CA 95070\, United States
CATEGORIES:Friday Prayer
ATTACH;FMTTYPE=image/png:https://wvmuslim.org/wp-content/uploads/2025/06/Screenshot-2025-07-09-at-10.51.12 AM.png
ORGANIZER;CN="West Valley Muslim Association":MAILTO:info@wvmuslim.org
END:VEVENT
BEGIN:VEVENT
DTSTART;TZID=UTC:20260213T123000
DTEND;TZID=UTC:20260213T133000
DTSTAMP:20260420T104731
CREATED:20250807T201427Z
LAST-MODIFIED:20260213T081102Z
UID:10000891-1770985800-1770989400@wvmuslim.org
SUMMARY:Jumu’ah (12:30 PM) -  Zaid Yousef
DESCRIPTION:Join us every Friday for Jumu’ah prayer at the Prospect Center. \nEach sermon is followed by the congregational prayer. \nEveryone is welcome to attend and benefit from the spiritual reminder. \nPlease arrive early to find parking and settle in.
URL:https://wvmuslim.org/event/jummuah-friday-prayers-prospect-center-12-4-5/
LOCATION:Prospect Center\, 19848 Prospect Rd\, Saratoga\, CA\, CA 95070\, United States
CATEGORIES:Friday Prayer
ATTACH;FMTTYPE=image/png:https://wvmuslim.org/wp-content/uploads/2025/06/Screenshot-2025-07-09-at-10.51.12 AM.png
ORGANIZER;CN="West Valley Muslim Association":MAILTO:info@wvmuslim.org
END:VEVENT
BEGIN:VEVENT
DTSTART;TZID=UTC:20260213T133000
DTEND;TZID=UTC:20260213T140000
DTSTAMP:20260420T104731
CREATED:20250905T013530Z
LAST-MODIFIED:20260213T081128Z
UID:10005264-1770989400-1770991200@wvmuslim.org
SUMMARY:Jumu’ah (1:30 PM) - Ihab Badr
DESCRIPTION:Join us every Friday for Jumu’ah prayer at the Prospect Center. \nEach sermon is followed by the congregational prayer. \nEveryone is welcome to attend and benefit from the spiritual reminder. \nPlease arrive early to find parking and settle in.
URL:https://wvmuslim.org/event/jumuah-130-pm-imam-basil-farooq/
LOCATION:Prospect Center\, 19848 Prospect Rd\, Saratoga\, CA\, CA 95070\, United States
CATEGORIES:Friday Prayer
ATTACH;FMTTYPE=image/png:https://wvmuslim.org/wp-content/uploads/2025/06/Screenshot-2025-07-09-at-10.51.12 AM.png
ORGANIZER;CN="West Valley Muslim Association":MAILTO:info@wvmuslim.org
END:VEVENT
BEGIN:VEVENT
DTSTART;TZID=UTC:20260213T133000
DTEND;TZID=UTC:20260213T140000
DTSTAMP:20260420T104731
CREATED:20250912T135246Z
LAST-MODIFIED:20260213T081031Z
UID:10001415-1770989400-1770991200@wvmuslim.org
SUMMARY:Jumu’ah (1:30 PM) – Hassan Shilby
DESCRIPTION:Join us for Jumu’ah prayers every Friday at 1:30 PM at LGIC. The sermon (khutbah) begins promptly\, followed by the congregational prayer. Arrive early to find parking and settle in for a spiritually uplifting experience. All are welcome!
URL:https://wvmuslim.org/event/jumuah-130-pm-samy-hilali/
LOCATION:Los Gatos Islamic Center (LGIC)\, 16769 Farley Rd\, Los Gatos\, CA\, 95032\, United States
CATEGORIES:Friday Prayer
ATTACH;FMTTYPE=image/png:https://wvmuslim.org/wp-content/uploads/2025/03/Screenshot-2025-03-27-at-2.48.12 PM.png
ORGANIZER;CN="West Valley Muslim Association":MAILTO:info@wvmuslim.org
END:VEVENT
BEGIN:VEVENT
DTSTART;TZID=UTC:20260410T123000
DTEND;TZID=UTC:20260410T133000
DTSTAMP:20260420T104731
CREATED:20260220T072803Z
LAST-MODIFIED:20260408T144856Z
UID:10015706-1775824200-1775827800@wvmuslim.org
SUMMARY:Jumu’ah (12:30 PM) -  Shaykh Suleiman Hani
DESCRIPTION:Join us every Friday for Jumu’ah prayer at the Prospect Center. \nEach sermon is followed by the congregational prayer. \nEveryone is welcome to attend and benefit from the spiritual reminder. \nPlease arrive early to find parking and settle in.
URL:https://wvmuslim.org/event/jumuah-1230-pm-shaykh-ahmed-billo/
LOCATION:Prospect Center\, 19848 Prospect Rd\, Saratoga\, CA\, CA 95070\, United States
CATEGORIES:Friday Prayer
ATTACH;FMTTYPE=image/png:https://wvmuslim.org/wp-content/uploads/2025/06/Screenshot-2025-07-09-at-10.51.12 AM.png
ORGANIZER;CN="West Valley Muslim Association":MAILTO:info@wvmuslim.org
END:VEVENT
BEGIN:VEVENT
DTSTART;TZID=UTC:20260417T133000
DTEND;TZID=UTC:20260417T140000
DTSTAMP:20260420T104731
CREATED:20260220T072540Z
LAST-MODIFIED:20260417T064110Z
UID:10015705-1776432600-1776434400@wvmuslim.org
SUMMARY:Jumu’ah (1:30 PM) – Mufti Abdul Wahab Waheed
DESCRIPTION:Join us for Jumu’ah prayers every Friday at 1:30 PM at LGIC. The sermon (khutbah) begins promptly\, followed by the congregational prayer. Arrive early to find parking and settle in for a spiritually uplifting experience. All are welcome!
URL:https://wvmuslim.org/event/jumuah-130-pm-imam-basil-farooq-2/
LOCATION:Los Gatos Islamic Center (LGIC)\, 16769 Farley Rd\, Los Gatos\, CA\, 95032\, United States
CATEGORIES:Friday Prayer
ATTACH;FMTTYPE=image/png:https://wvmuslim.org/wp-content/uploads/2025/03/Screenshot-2025-03-27-at-2.48.12 PM.png
ORGANIZER;CN="West Valley Muslim Association":MAILTO:info@wvmuslim.org
END:VEVENT
BEGIN:VEVENT
DTSTART;TZID=UTC:20260417T133000
DTEND;TZID=UTC:20260417T140000
DTSTAMP:20260420T104731
CREATED:20260220T072903Z
LAST-MODIFIED:20260417T064129Z
UID:10015707-1776432600-1776434400@wvmuslim.org
SUMMARY:Jumu’ah (1:30 PM) - Imam Basil Farooq
DESCRIPTION:Join us every Friday for Jumu’ah prayer at the Prospect Center. \nEach sermon is followed by the congregational prayer. \nEveryone is welcome to attend and benefit from the spiritual reminder. \nPlease arrive early to find parking and settle in.
URL:https://wvmuslim.org/event/jumuah-130-pm-shaykh-ahmed-billo/
LOCATION:Prospect Center\, 19848 Prospect Rd\, Saratoga\, CA\, CA 95070\, United States
CATEGORIES:Friday Prayer
ATTACH;FMTTYPE=image/png:https://wvmuslim.org/wp-content/uploads/2025/06/Screenshot-2025-07-09-at-10.51.12 AM.png
ORGANIZER;CN="West Valley Muslim Association":MAILTO:info@wvmuslim.org
END:VEVENT
BEGIN:VEVENT
DTSTART;TZID=UTC:20260424T123000
DTEND;TZID=UTC:20260424T140000
DTSTAMP:20260420T104731
CREATED:20250717T211412Z
LAST-MODIFIED:20250717T211412Z
UID:10000928-1777033800-1777039200@wvmuslim.org
SUMMARY:Jumu'ah (Friday) Prayers @ Prospect Center
DESCRIPTION:Join us every Friday for Jumu’ah prayer at the Prospect Center. We offer three prayer times: \n\n\nFirst Khutbah: 12:30 PM\, \n\n\nSecond Khutbah: 1:30 PM\, \n\n\n\n\n\nEach sermon is followed by the congregational prayer. Everyone is welcome to attend and benefit from the spiritual reminder. Please arrive early to find parking and settle in.
URL:https://wvmuslim.org/event/jummuah-friday-prayers-prospect-center-12-4/2026-04-24/
LOCATION:Prospect Center\, 19848 Prospect Rd\, Saratoga\, CA\, CA 95070\, United States
CATEGORIES:Friday Prayer
ORGANIZER;CN="West Valley Muslim Association":MAILTO:info@wvmuslim.org
END:VEVENT
BEGIN:VEVENT
DTSTART;TZID=UTC:20260424T133000
DTEND;TZID=UTC:20260424T140000
DTSTAMP:20260420T104731
CREATED:20250717T211335Z
LAST-MODIFIED:20250717T211336Z
UID:10001452-1777037400-1777039200@wvmuslim.org
SUMMARY:Jumu'ah (Friday) Prayers @ LGIC
DESCRIPTION:Join us for Jumu’ah prayers every Friday at 1:30 PM at LGIC. The sermon (khutbah) begins promptly\, followed by the congregational prayer. Arrive early to find parking and settle in for a spiritually uplifting experience. All are welcome!
URL:https://wvmuslim.org/event/jummuah-friday-prayers-lgic-17-4/2026-04-24/
LOCATION:Los Gatos Islamic Center (LGIC)\, 16769 Farley Rd\, Los Gatos\, CA\, 95032\, United States
CATEGORIES:Friday Prayer
ORGANIZER;CN="West Valley Muslim Association":MAILTO:info@wvmuslim.org
END:VEVENT
BEGIN:VEVENT
DTSTART;TZID=UTC:20260501T123000
DTEND;TZID=UTC:20260501T140000
DTSTAMP:20260420T104731
CREATED:20250717T211412Z
LAST-MODIFIED:20250717T211412Z
UID:10000929-1777638600-1777644000@wvmuslim.org
SUMMARY:Jumu'ah (Friday) Prayers @ Prospect Center
DESCRIPTION:Join us every Friday for Jumu’ah prayer at the Prospect Center. We offer three prayer times: \n\n\nFirst Khutbah: 12:30 PM\, \n\n\nSecond Khutbah: 1:30 PM\, \n\n\n\n\n\nEach sermon is followed by the congregational prayer. Everyone is welcome to attend and benefit from the spiritual reminder. Please arrive early to find parking and settle in.
URL:https://wvmuslim.org/event/jummuah-friday-prayers-prospect-center-12-4/2026-05-01/
LOCATION:Prospect Center\, 19848 Prospect Rd\, Saratoga\, CA\, CA 95070\, United States
CATEGORIES:Friday Prayer
ORGANIZER;CN="West Valley Muslim Association":MAILTO:info@wvmuslim.org
END:VEVENT
BEGIN:VEVENT
DTSTART;TZID=UTC:20260501T133000
DTEND;TZID=UTC:20260501T140000
DTSTAMP:20260420T104731
CREATED:20250717T211335Z
LAST-MODIFIED:20250717T211336Z
UID:10001453-1777642200-1777644000@wvmuslim.org
SUMMARY:Jumu'ah (Friday) Prayers @ LGIC
DESCRIPTION:Join us for Jumu’ah prayers every Friday at 1:30 PM at LGIC. The sermon (khutbah) begins promptly\, followed by the congregational prayer. Arrive early to find parking and settle in for a spiritually uplifting experience. All are welcome!
URL:https://wvmuslim.org/event/jummuah-friday-prayers-lgic-17-4/2026-05-01/
LOCATION:Los Gatos Islamic Center (LGIC)\, 16769 Farley Rd\, Los Gatos\, CA\, 95032\, United States
CATEGORIES:Friday Prayer
ORGANIZER;CN="West Valley Muslim Association":MAILTO:info@wvmuslim.org
END:VEVENT
BEGIN:VEVENT
DTSTART;TZID=UTC:20260508T123000
DTEND;TZID=UTC:20260508T140000
DTSTAMP:20260420T104731
CREATED:20250717T211412Z
LAST-MODIFIED:20250717T211412Z
UID:10000930-1778243400-1778248800@wvmuslim.org
SUMMARY:Jumu'ah (Friday) Prayers @ Prospect Center
DESCRIPTION:Join us every Friday for Jumu’ah prayer at the Prospect Center. We offer three prayer times: \n\n\nFirst Khutbah: 12:30 PM\, \n\n\nSecond Khutbah: 1:30 PM\, \n\n\n\n\n\nEach sermon is followed by the congregational prayer. Everyone is welcome to attend and benefit from the spiritual reminder. Please arrive early to find parking and settle in.
URL:https://wvmuslim.org/event/jummuah-friday-prayers-prospect-center-12-4/2026-05-08/
LOCATION:Prospect Center\, 19848 Prospect Rd\, Saratoga\, CA\, CA 95070\, United States
CATEGORIES:Friday Prayer
ORGANIZER;CN="West Valley Muslim Association":MAILTO:info@wvmuslim.org
END:VEVENT
BEGIN:VEVENT
DTSTART;TZID=UTC:20260508T133000
DTEND;TZID=UTC:20260508T140000
DTSTAMP:20260420T104731
CREATED:20250717T211335Z
LAST-MODIFIED:20250717T211336Z
UID:10001454-1778247000-1778248800@wvmuslim.org
SUMMARY:Jumu'ah (Friday) Prayers @ LGIC
DESCRIPTION:Join us for Jumu’ah prayers every Friday at 1:30 PM at LGIC. The sermon (khutbah) begins promptly\, followed by the congregational prayer. Arrive early to find parking and settle in for a spiritually uplifting experience. All are welcome!
URL:https://wvmuslim.org/event/jummuah-friday-prayers-lgic-17-4/2026-05-08/
LOCATION:Los Gatos Islamic Center (LGIC)\, 16769 Farley Rd\, Los Gatos\, CA\, 95032\, United States
CATEGORIES:Friday Prayer
ORGANIZER;CN="West Valley Muslim Association":MAILTO:info@wvmuslim.org
END:VEVENT
BEGIN:VEVENT
DTSTART;TZID=UTC:20260515T123000
DTEND;TZID=UTC:20260515T140000
DTSTAMP:20260420T104731
CREATED:20250717T211412Z
LAST-MODIFIED:20250717T211412Z
UID:10000931-1778848200-1778853600@wvmuslim.org
SUMMARY:Jumu'ah (Friday) Prayers @ Prospect Center
DESCRIPTION:Join us every Friday for Jumu’ah prayer at the Prospect Center. We offer three prayer times: \n\n\nFirst Khutbah: 12:30 PM\, \n\n\nSecond Khutbah: 1:30 PM\, \n\n\n\n\n\nEach sermon is followed by the congregational prayer. Everyone is welcome to attend and benefit from the spiritual reminder. Please arrive early to find parking and settle in.
URL:https://wvmuslim.org/event/jummuah-friday-prayers-prospect-center-12-4/2026-05-15/
LOCATION:Prospect Center\, 19848 Prospect Rd\, Saratoga\, CA\, CA 95070\, United States
CATEGORIES:Friday Prayer
ORGANIZER;CN="West Valley Muslim Association":MAILTO:info@wvmuslim.org
END:VEVENT
BEGIN:VEVENT
DTSTART;TZID=UTC:20260515T133000
DTEND;TZID=UTC:20260515T140000
DTSTAMP:20260420T104731
CREATED:20250717T211335Z
LAST-MODIFIED:20250717T211336Z
UID:10001455-1778851800-1778853600@wvmuslim.org
SUMMARY:Jumu'ah (Friday) Prayers @ LGIC
DESCRIPTION:Join us for Jumu’ah prayers every Friday at 1:30 PM at LGIC. The sermon (khutbah) begins promptly\, followed by the congregational prayer. Arrive early to find parking and settle in for a spiritually uplifting experience. All are welcome!
URL:https://wvmuslim.org/event/jummuah-friday-prayers-lgic-17-4/2026-05-15/
LOCATION:Los Gatos Islamic Center (LGIC)\, 16769 Farley Rd\, Los Gatos\, CA\, 95032\, United States
CATEGORIES:Friday Prayer
ORGANIZER;CN="West Valley Muslim Association":MAILTO:info@wvmuslim.org
END:VEVENT
BEGIN:VEVENT
DTSTART;TZID=UTC:20260522T123000
DTEND;TZID=UTC:20260522T140000
DTSTAMP:20260420T104731
CREATED:20250717T211412Z
LAST-MODIFIED:20250717T211412Z
UID:10000932-1779453000-1779458400@wvmuslim.org
SUMMARY:Jumu'ah (Friday) Prayers @ Prospect Center
DESCRIPTION:Join us every Friday for Jumu’ah prayer at the Prospect Center. We offer three prayer times: \n\n\nFirst Khutbah: 12:30 PM\, \n\n\nSecond Khutbah: 1:30 PM\, \n\n\n\n\n\nEach sermon is followed by the congregational prayer. Everyone is welcome to attend and benefit from the spiritual reminder. Please arrive early to find parking and settle in.
URL:https://wvmuslim.org/event/jummuah-friday-prayers-prospect-center-12-4/2026-05-22/
LOCATION:Prospect Center\, 19848 Prospect Rd\, Saratoga\, CA\, CA 95070\, United States
CATEGORIES:Friday Prayer
ORGANIZER;CN="West Valley Muslim Association":MAILTO:info@wvmuslim.org
END:VEVENT
BEGIN:VEVENT
DTSTART;TZID=UTC:20260522T133000
DTEND;TZID=UTC:20260522T140000
DTSTAMP:20260420T104731
CREATED:20250717T211335Z
LAST-MODIFIED:20250717T211336Z
UID:10001456-1779456600-1779458400@wvmuslim.org
SUMMARY:Jumu'ah (Friday) Prayers @ LGIC
DESCRIPTION:Join us for Jumu’ah prayers every Friday at 1:30 PM at LGIC. The sermon (khutbah) begins promptly\, followed by the congregational prayer. Arrive early to find parking and settle in for a spiritually uplifting experience. All are welcome!
URL:https://wvmuslim.org/event/jummuah-friday-prayers-lgic-17-4/2026-05-22/
LOCATION:Los Gatos Islamic Center (LGIC)\, 16769 Farley Rd\, Los Gatos\, CA\, 95032\, United States
CATEGORIES:Friday Prayer
ORGANIZER;CN="West Valley Muslim Association":MAILTO:info@wvmuslim.org
END:VEVENT
BEGIN:VEVENT
DTSTART;TZID=UTC:20260529T123000
DTEND;TZID=UTC:20260529T140000
DTSTAMP:20260420T104731
CREATED:20250717T211412Z
LAST-MODIFIED:20250717T211412Z
UID:10000933-1780057800-1780063200@wvmuslim.org
SUMMARY:Jumu'ah (Friday) Prayers @ Prospect Center
DESCRIPTION:Join us every Friday for Jumu’ah prayer at the Prospect Center. We offer three prayer times: \n\n\nFirst Khutbah: 12:30 PM\, \n\n\nSecond Khutbah: 1:30 PM\, \n\n\n\n\n\nEach sermon is followed by the congregational prayer. Everyone is welcome to attend and benefit from the spiritual reminder. Please arrive early to find parking and settle in.
URL:https://wvmuslim.org/event/jummuah-friday-prayers-prospect-center-12-4/2026-05-29/
LOCATION:Prospect Center\, 19848 Prospect Rd\, Saratoga\, CA\, CA 95070\, United States
CATEGORIES:Friday Prayer
ORGANIZER;CN="West Valley Muslim Association":MAILTO:info@wvmuslim.org
END:VEVENT
BEGIN:VEVENT
DTSTART;TZID=UTC:20260529T133000
DTEND;TZID=UTC:20260529T140000
DTSTAMP:20260420T104731
CREATED:20250717T211335Z
LAST-MODIFIED:20250717T211336Z
UID:10001457-1780061400-1780063200@wvmuslim.org
SUMMARY:Jumu'ah (Friday) Prayers @ LGIC
DESCRIPTION:Join us for Jumu’ah prayers every Friday at 1:30 PM at LGIC. The sermon (khutbah) begins promptly\, followed by the congregational prayer. Arrive early to find parking and settle in for a spiritually uplifting experience. All are welcome!
URL:https://wvmuslim.org/event/jummuah-friday-prayers-lgic-17-4/2026-05-29/
LOCATION:Los Gatos Islamic Center (LGIC)\, 16769 Farley Rd\, Los Gatos\, CA\, 95032\, United States
CATEGORIES:Friday Prayer
ORGANIZER;CN="West Valley Muslim Association":MAILTO:info@wvmuslim.org
END:VEVENT
BEGIN:VEVENT
DTSTART;TZID=UTC:20260605T123000
DTEND;TZID=UTC:20260605T140000
DTSTAMP:20260420T104731
CREATED:20250717T211412Z
LAST-MODIFIED:20250717T211412Z
UID:10000934-1780662600-1780668000@wvmuslim.org
SUMMARY:Jumu'ah (Friday) Prayers @ Prospect Center
DESCRIPTION:Join us every Friday for Jumu’ah prayer at the Prospect Center. We offer three prayer times: \n\n\nFirst Khutbah: 12:30 PM\, \n\n\nSecond Khutbah: 1:30 PM\, \n\n\n\n\n\nEach sermon is followed by the congregational prayer. Everyone is welcome to attend and benefit from the spiritual reminder. Please arrive early to find parking and settle in.
URL:https://wvmuslim.org/event/jummuah-friday-prayers-prospect-center-12-4/2026-06-05/
LOCATION:Prospect Center\, 19848 Prospect Rd\, Saratoga\, CA\, CA 95070\, United States
CATEGORIES:Friday Prayer
ORGANIZER;CN="West Valley Muslim Association":MAILTO:info@wvmuslim.org
END:VEVENT
BEGIN:VEVENT
DTSTART;TZID=UTC:20260605T133000
DTEND;TZID=UTC:20260605T140000
DTSTAMP:20260420T104731
CREATED:20250717T211335Z
LAST-MODIFIED:20250717T211336Z
UID:10001458-1780666200-1780668000@wvmuslim.org
SUMMARY:Jumu'ah (Friday) Prayers @ LGIC
DESCRIPTION:Join us for Jumu’ah prayers every Friday at 1:30 PM at LGIC. The sermon (khutbah) begins promptly\, followed by the congregational prayer. Arrive early to find parking and settle in for a spiritually uplifting experience. All are welcome!
URL:https://wvmuslim.org/event/jummuah-friday-prayers-lgic-17-4/2026-06-05/
LOCATION:Los Gatos Islamic Center (LGIC)\, 16769 Farley Rd\, Los Gatos\, CA\, 95032\, United States
CATEGORIES:Friday Prayer
ORGANIZER;CN="West Valley Muslim Association":MAILTO:info@wvmuslim.org
END:VEVENT
BEGIN:VEVENT
DTSTART;TZID=UTC:20260612T123000
DTEND;TZID=UTC:20260612T140000
DTSTAMP:20260420T104731
CREATED:20250717T211412Z
LAST-MODIFIED:20250717T211412Z
UID:10000935-1781267400-1781272800@wvmuslim.org
SUMMARY:Jumu'ah (Friday) Prayers @ Prospect Center
DESCRIPTION:Join us every Friday for Jumu’ah prayer at the Prospect Center. We offer three prayer times: \n\n\nFirst Khutbah: 12:30 PM\, \n\n\nSecond Khutbah: 1:30 PM\, \n\n\n\n\n\nEach sermon is followed by the congregational prayer. Everyone is welcome to attend and benefit from the spiritual reminder. Please arrive early to find parking and settle in.
URL:https://wvmuslim.org/event/jummuah-friday-prayers-prospect-center-12-4/2026-06-12/
LOCATION:Prospect Center\, 19848 Prospect Rd\, Saratoga\, CA\, CA 95070\, United States
CATEGORIES:Friday Prayer
ORGANIZER;CN="West Valley Muslim Association":MAILTO:info@wvmuslim.org
END:VEVENT
BEGIN:VEVENT
DTSTART;TZID=UTC:20260612T133000
DTEND;TZID=UTC:20260612T140000
DTSTAMP:20260420T104731
CREATED:20250717T211335Z
LAST-MODIFIED:20250717T211336Z
UID:10001459-1781271000-1781272800@wvmuslim.org
SUMMARY:Jumu'ah (Friday) Prayers @ LGIC
DESCRIPTION:Join us for Jumu’ah prayers every Friday at 1:30 PM at LGIC. The sermon (khutbah) begins promptly\, followed by the congregational prayer. Arrive early to find parking and settle in for a spiritually uplifting experience. All are welcome!
URL:https://wvmuslim.org/event/jummuah-friday-prayers-lgic-17-4/2026-06-12/
LOCATION:Los Gatos Islamic Center (LGIC)\, 16769 Farley Rd\, Los Gatos\, CA\, 95032\, United States
CATEGORIES:Friday Prayer
ORGANIZER;CN="West Valley Muslim Association":MAILTO:info@wvmuslim.org
END:VEVENT
END:VCALENDAR