BEGIN:VCALENDAR
VERSION:2.0
PRODID:-// - ECPv6.15.20//NONSGML v1.0//EN
CALSCALE:GREGORIAN
METHOD:PUBLISH
X-ORIGINAL-URL:https://wvmuslim.org
X-WR-CALDESC:Events for 
REFRESH-INTERVAL;VALUE=DURATION:PT1H
X-Robots-Tag:noindex
X-PUBLISHED-TTL:PT1H
BEGIN:VTIMEZONE
TZID:UTC
BEGIN:STANDARD
TZOFFSETFROM:+0000
TZOFFSETTO:+0000
TZNAME:UTC
DTSTART:20250101T000000
END:STANDARD
END:VTIMEZONE
BEGIN:VEVENT
DTSTART;TZID=UTC:20261218T133000
DTEND;TZID=UTC:20261218T140000
DTSTAMP:20260425T042919
CREATED:20260424T194028Z
LAST-MODIFIED:20260424T194141Z
UID:10019420-1797600600-1797602400@wvmuslim.org
SUMMARY:Jumu’ah (1:30 PM) @ LGIC – TBA
DESCRIPTION:Join us for Jumu’ah prayers every Friday at 1:30 PM at LGIC. The sermon (khutbah) begins promptly\, followed by the congregational prayer. Arrive early to find parking and settle in for a spiritually uplifting experience. All are welcome!
URL:https://wvmuslim.org/event/jumuah-130-pm-tba/2026-12-18/
LOCATION:Los Gatos Islamic Center (LGIC)\, 16769 Farley Rd\, Los Gatos\, CA\, 95032\, United States
CATEGORIES:Friday Prayer
ATTACH;FMTTYPE=image/png:https://wvmuslim.org/wp-content/uploads/2025/03/Screenshot-2025-03-27-at-2.48.12 PM.png
ORGANIZER;CN="West Valley Muslim Association":MAILTO:info@wvmuslim.org
END:VEVENT
BEGIN:VEVENT
DTSTART;TZID=UTC:20261225T133000
DTEND;TZID=UTC:20261225T140000
DTSTAMP:20260425T042919
CREATED:20260424T194028Z
LAST-MODIFIED:20260424T194141Z
UID:10019421-1798205400-1798207200@wvmuslim.org
SUMMARY:Jumu’ah (1:30 PM) @ LGIC – TBA
DESCRIPTION:Join us for Jumu’ah prayers every Friday at 1:30 PM at LGIC. The sermon (khutbah) begins promptly\, followed by the congregational prayer. Arrive early to find parking and settle in for a spiritually uplifting experience. All are welcome!
URL:https://wvmuslim.org/event/jumuah-130-pm-tba/2026-12-25/
LOCATION:Los Gatos Islamic Center (LGIC)\, 16769 Farley Rd\, Los Gatos\, CA\, 95032\, United States
CATEGORIES:Friday Prayer
ATTACH;FMTTYPE=image/png:https://wvmuslim.org/wp-content/uploads/2025/03/Screenshot-2025-03-27-at-2.48.12 PM.png
ORGANIZER;CN="West Valley Muslim Association":MAILTO:info@wvmuslim.org
END:VEVENT
BEGIN:VEVENT
DTSTART;TZID=UTC:20270101T133000
DTEND;TZID=UTC:20270101T140000
DTSTAMP:20260425T042919
CREATED:20260424T194028Z
LAST-MODIFIED:20260424T194141Z
UID:10019422-1798810200-1798812000@wvmuslim.org
SUMMARY:Jumu’ah (1:30 PM) @ LGIC – TBA
DESCRIPTION:Join us for Jumu’ah prayers every Friday at 1:30 PM at LGIC. The sermon (khutbah) begins promptly\, followed by the congregational prayer. Arrive early to find parking and settle in for a spiritually uplifting experience. All are welcome!
URL:https://wvmuslim.org/event/jumuah-130-pm-tba/2027-01-01/
LOCATION:Los Gatos Islamic Center (LGIC)\, 16769 Farley Rd\, Los Gatos\, CA\, 95032\, United States
CATEGORIES:Friday Prayer
ATTACH;FMTTYPE=image/png:https://wvmuslim.org/wp-content/uploads/2025/03/Screenshot-2025-03-27-at-2.48.12 PM.png
ORGANIZER;CN="West Valley Muslim Association":MAILTO:info@wvmuslim.org
END:VEVENT
BEGIN:VEVENT
DTSTART;TZID=UTC:20270108T133000
DTEND;TZID=UTC:20270108T140000
DTSTAMP:20260425T042919
CREATED:20260424T194028Z
LAST-MODIFIED:20260424T194141Z
UID:10019423-1799415000-1799416800@wvmuslim.org
SUMMARY:Jumu’ah (1:30 PM) @ LGIC – TBA
DESCRIPTION:Join us for Jumu’ah prayers every Friday at 1:30 PM at LGIC. The sermon (khutbah) begins promptly\, followed by the congregational prayer. Arrive early to find parking and settle in for a spiritually uplifting experience. All are welcome!
URL:https://wvmuslim.org/event/jumuah-130-pm-tba/2027-01-08/
LOCATION:Los Gatos Islamic Center (LGIC)\, 16769 Farley Rd\, Los Gatos\, CA\, 95032\, United States
CATEGORIES:Friday Prayer
ATTACH;FMTTYPE=image/png:https://wvmuslim.org/wp-content/uploads/2025/03/Screenshot-2025-03-27-at-2.48.12 PM.png
ORGANIZER;CN="West Valley Muslim Association":MAILTO:info@wvmuslim.org
END:VEVENT
BEGIN:VEVENT
DTSTART;TZID=UTC:20270115T133000
DTEND;TZID=UTC:20270115T140000
DTSTAMP:20260425T042919
CREATED:20260424T194028Z
LAST-MODIFIED:20260424T194141Z
UID:10019424-1800019800-1800021600@wvmuslim.org
SUMMARY:Jumu’ah (1:30 PM) @ LGIC – TBA
DESCRIPTION:Join us for Jumu’ah prayers every Friday at 1:30 PM at LGIC. The sermon (khutbah) begins promptly\, followed by the congregational prayer. Arrive early to find parking and settle in for a spiritually uplifting experience. All are welcome!
URL:https://wvmuslim.org/event/jumuah-130-pm-tba/2027-01-15/
LOCATION:Los Gatos Islamic Center (LGIC)\, 16769 Farley Rd\, Los Gatos\, CA\, 95032\, United States
CATEGORIES:Friday Prayer
ATTACH;FMTTYPE=image/png:https://wvmuslim.org/wp-content/uploads/2025/03/Screenshot-2025-03-27-at-2.48.12 PM.png
ORGANIZER;CN="West Valley Muslim Association":MAILTO:info@wvmuslim.org
END:VEVENT
BEGIN:VEVENT
DTSTART;TZID=UTC:20270122T133000
DTEND;TZID=UTC:20270122T140000
DTSTAMP:20260425T042919
CREATED:20260424T194028Z
LAST-MODIFIED:20260424T194141Z
UID:10019425-1800624600-1800626400@wvmuslim.org
SUMMARY:Jumu’ah (1:30 PM) @ LGIC – TBA
DESCRIPTION:Join us for Jumu’ah prayers every Friday at 1:30 PM at LGIC. The sermon (khutbah) begins promptly\, followed by the congregational prayer. Arrive early to find parking and settle in for a spiritually uplifting experience. All are welcome!
URL:https://wvmuslim.org/event/jumuah-130-pm-tba/2027-01-22/
LOCATION:Los Gatos Islamic Center (LGIC)\, 16769 Farley Rd\, Los Gatos\, CA\, 95032\, United States
CATEGORIES:Friday Prayer
ATTACH;FMTTYPE=image/png:https://wvmuslim.org/wp-content/uploads/2025/03/Screenshot-2025-03-27-at-2.48.12 PM.png
ORGANIZER;CN="West Valley Muslim Association":MAILTO:info@wvmuslim.org
END:VEVENT
BEGIN:VEVENT
DTSTART;TZID=UTC:20270129T133000
DTEND;TZID=UTC:20270129T140000
DTSTAMP:20260425T042919
CREATED:20260424T194028Z
LAST-MODIFIED:20260424T194141Z
UID:10019426-1801229400-1801231200@wvmuslim.org
SUMMARY:Jumu’ah (1:30 PM) @ LGIC – TBA
DESCRIPTION:Join us for Jumu’ah prayers every Friday at 1:30 PM at LGIC. The sermon (khutbah) begins promptly\, followed by the congregational prayer. Arrive early to find parking and settle in for a spiritually uplifting experience. All are welcome!
URL:https://wvmuslim.org/event/jumuah-130-pm-tba/2027-01-29/
LOCATION:Los Gatos Islamic Center (LGIC)\, 16769 Farley Rd\, Los Gatos\, CA\, 95032\, United States
CATEGORIES:Friday Prayer
ATTACH;FMTTYPE=image/png:https://wvmuslim.org/wp-content/uploads/2025/03/Screenshot-2025-03-27-at-2.48.12 PM.png
ORGANIZER;CN="West Valley Muslim Association":MAILTO:info@wvmuslim.org
END:VEVENT
BEGIN:VEVENT
DTSTART;TZID=UTC:20270205T133000
DTEND;TZID=UTC:20270205T140000
DTSTAMP:20260425T042919
CREATED:20260424T194028Z
LAST-MODIFIED:20260424T194141Z
UID:10019427-1801834200-1801836000@wvmuslim.org
SUMMARY:Jumu’ah (1:30 PM) @ LGIC – TBA
DESCRIPTION:Join us for Jumu’ah prayers every Friday at 1:30 PM at LGIC. The sermon (khutbah) begins promptly\, followed by the congregational prayer. Arrive early to find parking and settle in for a spiritually uplifting experience. All are welcome!
URL:https://wvmuslim.org/event/jumuah-130-pm-tba/2027-02-05/
LOCATION:Los Gatos Islamic Center (LGIC)\, 16769 Farley Rd\, Los Gatos\, CA\, 95032\, United States
CATEGORIES:Friday Prayer
ATTACH;FMTTYPE=image/png:https://wvmuslim.org/wp-content/uploads/2025/03/Screenshot-2025-03-27-at-2.48.12 PM.png
ORGANIZER;CN="West Valley Muslim Association":MAILTO:info@wvmuslim.org
END:VEVENT
BEGIN:VEVENT
DTSTART;TZID=UTC:20270212T133000
DTEND;TZID=UTC:20270212T140000
DTSTAMP:20260425T042919
CREATED:20260424T194028Z
LAST-MODIFIED:20260424T194141Z
UID:10019428-1802439000-1802440800@wvmuslim.org
SUMMARY:Jumu’ah (1:30 PM) @ LGIC – TBA
DESCRIPTION:Join us for Jumu’ah prayers every Friday at 1:30 PM at LGIC. The sermon (khutbah) begins promptly\, followed by the congregational prayer. Arrive early to find parking and settle in for a spiritually uplifting experience. All are welcome!
URL:https://wvmuslim.org/event/jumuah-130-pm-tba/2027-02-12/
LOCATION:Los Gatos Islamic Center (LGIC)\, 16769 Farley Rd\, Los Gatos\, CA\, 95032\, United States
CATEGORIES:Friday Prayer
ATTACH;FMTTYPE=image/png:https://wvmuslim.org/wp-content/uploads/2025/03/Screenshot-2025-03-27-at-2.48.12 PM.png
ORGANIZER;CN="West Valley Muslim Association":MAILTO:info@wvmuslim.org
END:VEVENT
BEGIN:VEVENT
DTSTART;TZID=UTC:20270219T133000
DTEND;TZID=UTC:20270219T140000
DTSTAMP:20260425T042919
CREATED:20260424T194028Z
LAST-MODIFIED:20260424T194141Z
UID:10019429-1803043800-1803045600@wvmuslim.org
SUMMARY:Jumu’ah (1:30 PM) @ LGIC – TBA
DESCRIPTION:Join us for Jumu’ah prayers every Friday at 1:30 PM at LGIC. The sermon (khutbah) begins promptly\, followed by the congregational prayer. Arrive early to find parking and settle in for a spiritually uplifting experience. All are welcome!
URL:https://wvmuslim.org/event/jumuah-130-pm-tba/2027-02-19/
LOCATION:Los Gatos Islamic Center (LGIC)\, 16769 Farley Rd\, Los Gatos\, CA\, 95032\, United States
CATEGORIES:Friday Prayer
ATTACH;FMTTYPE=image/png:https://wvmuslim.org/wp-content/uploads/2025/03/Screenshot-2025-03-27-at-2.48.12 PM.png
ORGANIZER;CN="West Valley Muslim Association":MAILTO:info@wvmuslim.org
END:VEVENT
BEGIN:VEVENT
DTSTART;TZID=UTC:20270226T133000
DTEND;TZID=UTC:20270226T140000
DTSTAMP:20260425T042919
CREATED:20260424T194028Z
LAST-MODIFIED:20260424T194141Z
UID:10019430-1803648600-1803650400@wvmuslim.org
SUMMARY:Jumu’ah (1:30 PM) @ LGIC – TBA
DESCRIPTION:Join us for Jumu’ah prayers every Friday at 1:30 PM at LGIC. The sermon (khutbah) begins promptly\, followed by the congregational prayer. Arrive early to find parking and settle in for a spiritually uplifting experience. All are welcome!
URL:https://wvmuslim.org/event/jumuah-130-pm-tba/2027-02-26/
LOCATION:Los Gatos Islamic Center (LGIC)\, 16769 Farley Rd\, Los Gatos\, CA\, 95032\, United States
CATEGORIES:Friday Prayer
ATTACH;FMTTYPE=image/png:https://wvmuslim.org/wp-content/uploads/2025/03/Screenshot-2025-03-27-at-2.48.12 PM.png
ORGANIZER;CN="West Valley Muslim Association":MAILTO:info@wvmuslim.org
END:VEVENT
BEGIN:VEVENT
DTSTART;TZID=UTC:20270305T133000
DTEND;TZID=UTC:20270305T140000
DTSTAMP:20260425T042919
CREATED:20260424T194028Z
LAST-MODIFIED:20260424T194141Z
UID:10019431-1804253400-1804255200@wvmuslim.org
SUMMARY:Jumu’ah (1:30 PM) @ LGIC – TBA
DESCRIPTION:Join us for Jumu’ah prayers every Friday at 1:30 PM at LGIC. The sermon (khutbah) begins promptly\, followed by the congregational prayer. Arrive early to find parking and settle in for a spiritually uplifting experience. All are welcome!
URL:https://wvmuslim.org/event/jumuah-130-pm-tba/2027-03-05/
LOCATION:Los Gatos Islamic Center (LGIC)\, 16769 Farley Rd\, Los Gatos\, CA\, 95032\, United States
CATEGORIES:Friday Prayer
ATTACH;FMTTYPE=image/png:https://wvmuslim.org/wp-content/uploads/2025/03/Screenshot-2025-03-27-at-2.48.12 PM.png
ORGANIZER;CN="West Valley Muslim Association":MAILTO:info@wvmuslim.org
END:VEVENT
BEGIN:VEVENT
DTSTART;TZID=UTC:20270312T133000
DTEND;TZID=UTC:20270312T140000
DTSTAMP:20260425T042919
CREATED:20260424T194028Z
LAST-MODIFIED:20260424T194141Z
UID:10019432-1804858200-1804860000@wvmuslim.org
SUMMARY:Jumu’ah (1:30 PM) @ LGIC – TBA
DESCRIPTION:Join us for Jumu’ah prayers every Friday at 1:30 PM at LGIC. The sermon (khutbah) begins promptly\, followed by the congregational prayer. Arrive early to find parking and settle in for a spiritually uplifting experience. All are welcome!
URL:https://wvmuslim.org/event/jumuah-130-pm-tba/2027-03-12/
LOCATION:Los Gatos Islamic Center (LGIC)\, 16769 Farley Rd\, Los Gatos\, CA\, 95032\, United States
CATEGORIES:Friday Prayer
ATTACH;FMTTYPE=image/png:https://wvmuslim.org/wp-content/uploads/2025/03/Screenshot-2025-03-27-at-2.48.12 PM.png
ORGANIZER;CN="West Valley Muslim Association":MAILTO:info@wvmuslim.org
END:VEVENT
BEGIN:VEVENT
DTSTART;TZID=UTC:20270319T133000
DTEND;TZID=UTC:20270319T140000
DTSTAMP:20260425T042919
CREATED:20260424T194028Z
LAST-MODIFIED:20260424T194141Z
UID:10019433-1805463000-1805464800@wvmuslim.org
SUMMARY:Jumu’ah (1:30 PM) @ LGIC – TBA
DESCRIPTION:Join us for Jumu’ah prayers every Friday at 1:30 PM at LGIC. The sermon (khutbah) begins promptly\, followed by the congregational prayer. Arrive early to find parking and settle in for a spiritually uplifting experience. All are welcome!
URL:https://wvmuslim.org/event/jumuah-130-pm-tba/2027-03-19/
LOCATION:Los Gatos Islamic Center (LGIC)\, 16769 Farley Rd\, Los Gatos\, CA\, 95032\, United States
CATEGORIES:Friday Prayer
ATTACH;FMTTYPE=image/png:https://wvmuslim.org/wp-content/uploads/2025/03/Screenshot-2025-03-27-at-2.48.12 PM.png
ORGANIZER;CN="West Valley Muslim Association":MAILTO:info@wvmuslim.org
END:VEVENT
BEGIN:VEVENT
DTSTART;TZID=UTC:20270326T133000
DTEND;TZID=UTC:20270326T140000
DTSTAMP:20260425T042919
CREATED:20260424T194028Z
LAST-MODIFIED:20260424T194141Z
UID:10019434-1806067800-1806069600@wvmuslim.org
SUMMARY:Jumu’ah (1:30 PM) @ LGIC – TBA
DESCRIPTION:Join us for Jumu’ah prayers every Friday at 1:30 PM at LGIC. The sermon (khutbah) begins promptly\, followed by the congregational prayer. Arrive early to find parking and settle in for a spiritually uplifting experience. All are welcome!
URL:https://wvmuslim.org/event/jumuah-130-pm-tba/2027-03-26/
LOCATION:Los Gatos Islamic Center (LGIC)\, 16769 Farley Rd\, Los Gatos\, CA\, 95032\, United States
CATEGORIES:Friday Prayer
ATTACH;FMTTYPE=image/png:https://wvmuslim.org/wp-content/uploads/2025/03/Screenshot-2025-03-27-at-2.48.12 PM.png
ORGANIZER;CN="West Valley Muslim Association":MAILTO:info@wvmuslim.org
END:VEVENT
BEGIN:VEVENT
DTSTART;TZID=UTC:20270402T133000
DTEND;TZID=UTC:20270402T140000
DTSTAMP:20260425T042919
CREATED:20260424T194028Z
LAST-MODIFIED:20260424T194141Z
UID:10019435-1806672600-1806674400@wvmuslim.org
SUMMARY:Jumu’ah (1:30 PM) @ LGIC – TBA
DESCRIPTION:Join us for Jumu’ah prayers every Friday at 1:30 PM at LGIC. The sermon (khutbah) begins promptly\, followed by the congregational prayer. Arrive early to find parking and settle in for a spiritually uplifting experience. All are welcome!
URL:https://wvmuslim.org/event/jumuah-130-pm-tba/2027-04-02/
LOCATION:Los Gatos Islamic Center (LGIC)\, 16769 Farley Rd\, Los Gatos\, CA\, 95032\, United States
CATEGORIES:Friday Prayer
ATTACH;FMTTYPE=image/png:https://wvmuslim.org/wp-content/uploads/2025/03/Screenshot-2025-03-27-at-2.48.12 PM.png
ORGANIZER;CN="West Valley Muslim Association":MAILTO:info@wvmuslim.org
END:VEVENT
BEGIN:VEVENT
DTSTART;TZID=UTC:20270409T133000
DTEND;TZID=UTC:20270409T140000
DTSTAMP:20260425T042919
CREATED:20260424T194028Z
LAST-MODIFIED:20260424T194141Z
UID:10019436-1807277400-1807279200@wvmuslim.org
SUMMARY:Jumu’ah (1:30 PM) @ LGIC – TBA
DESCRIPTION:Join us for Jumu’ah prayers every Friday at 1:30 PM at LGIC. The sermon (khutbah) begins promptly\, followed by the congregational prayer. Arrive early to find parking and settle in for a spiritually uplifting experience. All are welcome!
URL:https://wvmuslim.org/event/jumuah-130-pm-tba/2027-04-09/
LOCATION:Los Gatos Islamic Center (LGIC)\, 16769 Farley Rd\, Los Gatos\, CA\, 95032\, United States
CATEGORIES:Friday Prayer
ATTACH;FMTTYPE=image/png:https://wvmuslim.org/wp-content/uploads/2025/03/Screenshot-2025-03-27-at-2.48.12 PM.png
ORGANIZER;CN="West Valley Muslim Association":MAILTO:info@wvmuslim.org
END:VEVENT
BEGIN:VEVENT
DTSTART;TZID=UTC:20270416T133000
DTEND;TZID=UTC:20270416T140000
DTSTAMP:20260425T042919
CREATED:20260424T194028Z
LAST-MODIFIED:20260424T194141Z
UID:10019437-1807882200-1807884000@wvmuslim.org
SUMMARY:Jumu’ah (1:30 PM) @ LGIC – TBA
DESCRIPTION:Join us for Jumu’ah prayers every Friday at 1:30 PM at LGIC. The sermon (khutbah) begins promptly\, followed by the congregational prayer. Arrive early to find parking and settle in for a spiritually uplifting experience. All are welcome!
URL:https://wvmuslim.org/event/jumuah-130-pm-tba/2027-04-16/
LOCATION:Los Gatos Islamic Center (LGIC)\, 16769 Farley Rd\, Los Gatos\, CA\, 95032\, United States
CATEGORIES:Friday Prayer
ATTACH;FMTTYPE=image/png:https://wvmuslim.org/wp-content/uploads/2025/03/Screenshot-2025-03-27-at-2.48.12 PM.png
ORGANIZER;CN="West Valley Muslim Association":MAILTO:info@wvmuslim.org
END:VEVENT
BEGIN:VEVENT
DTSTART;TZID=UTC:20270423T133000
DTEND;TZID=UTC:20270423T140000
DTSTAMP:20260425T042919
CREATED:20260424T194028Z
LAST-MODIFIED:20260424T194141Z
UID:10019438-1808487000-1808488800@wvmuslim.org
SUMMARY:Jumu’ah (1:30 PM) @ LGIC – TBA
DESCRIPTION:Join us for Jumu’ah prayers every Friday at 1:30 PM at LGIC. The sermon (khutbah) begins promptly\, followed by the congregational prayer. Arrive early to find parking and settle in for a spiritually uplifting experience. All are welcome!
URL:https://wvmuslim.org/event/jumuah-130-pm-tba/2027-04-23/
LOCATION:Los Gatos Islamic Center (LGIC)\, 16769 Farley Rd\, Los Gatos\, CA\, 95032\, United States
CATEGORIES:Friday Prayer
ATTACH;FMTTYPE=image/png:https://wvmuslim.org/wp-content/uploads/2025/03/Screenshot-2025-03-27-at-2.48.12 PM.png
ORGANIZER;CN="West Valley Muslim Association":MAILTO:info@wvmuslim.org
END:VEVENT
BEGIN:VEVENT
DTSTART;TZID=UTC:20270430T133000
DTEND;TZID=UTC:20270430T140000
DTSTAMP:20260425T042919
CREATED:20260424T194028Z
LAST-MODIFIED:20260424T194141Z
UID:10019439-1809091800-1809093600@wvmuslim.org
SUMMARY:Jumu’ah (1:30 PM) @ LGIC – TBA
DESCRIPTION:Join us for Jumu’ah prayers every Friday at 1:30 PM at LGIC. The sermon (khutbah) begins promptly\, followed by the congregational prayer. Arrive early to find parking and settle in for a spiritually uplifting experience. All are welcome!
URL:https://wvmuslim.org/event/jumuah-130-pm-tba/2027-04-30/
LOCATION:Los Gatos Islamic Center (LGIC)\, 16769 Farley Rd\, Los Gatos\, CA\, 95032\, United States
CATEGORIES:Friday Prayer
ATTACH;FMTTYPE=image/png:https://wvmuslim.org/wp-content/uploads/2025/03/Screenshot-2025-03-27-at-2.48.12 PM.png
ORGANIZER;CN="West Valley Muslim Association":MAILTO:info@wvmuslim.org
END:VEVENT
BEGIN:VEVENT
DTSTART;TZID=UTC:20270507T133000
DTEND;TZID=UTC:20270507T140000
DTSTAMP:20260425T042919
CREATED:20260424T194028Z
LAST-MODIFIED:20260424T194141Z
UID:10019440-1809696600-1809698400@wvmuslim.org
SUMMARY:Jumu’ah (1:30 PM) @ LGIC – TBA
DESCRIPTION:Join us for Jumu’ah prayers every Friday at 1:30 PM at LGIC. The sermon (khutbah) begins promptly\, followed by the congregational prayer. Arrive early to find parking and settle in for a spiritually uplifting experience. All are welcome!
URL:https://wvmuslim.org/event/jumuah-130-pm-tba/2027-05-07/
LOCATION:Los Gatos Islamic Center (LGIC)\, 16769 Farley Rd\, Los Gatos\, CA\, 95032\, United States
CATEGORIES:Friday Prayer
ATTACH;FMTTYPE=image/png:https://wvmuslim.org/wp-content/uploads/2025/03/Screenshot-2025-03-27-at-2.48.12 PM.png
ORGANIZER;CN="West Valley Muslim Association":MAILTO:info@wvmuslim.org
END:VEVENT
BEGIN:VEVENT
DTSTART;TZID=UTC:20270514T133000
DTEND;TZID=UTC:20270514T140000
DTSTAMP:20260425T042919
CREATED:20260424T194028Z
LAST-MODIFIED:20260424T194141Z
UID:10019441-1810301400-1810303200@wvmuslim.org
SUMMARY:Jumu’ah (1:30 PM) @ LGIC – TBA
DESCRIPTION:Join us for Jumu’ah prayers every Friday at 1:30 PM at LGIC. The sermon (khutbah) begins promptly\, followed by the congregational prayer. Arrive early to find parking and settle in for a spiritually uplifting experience. All are welcome!
URL:https://wvmuslim.org/event/jumuah-130-pm-tba/2027-05-14/
LOCATION:Los Gatos Islamic Center (LGIC)\, 16769 Farley Rd\, Los Gatos\, CA\, 95032\, United States
CATEGORIES:Friday Prayer
ATTACH;FMTTYPE=image/png:https://wvmuslim.org/wp-content/uploads/2025/03/Screenshot-2025-03-27-at-2.48.12 PM.png
ORGANIZER;CN="West Valley Muslim Association":MAILTO:info@wvmuslim.org
END:VEVENT
BEGIN:VEVENT
DTSTART;TZID=UTC:20270521T133000
DTEND;TZID=UTC:20270521T140000
DTSTAMP:20260425T042919
CREATED:20260424T194028Z
LAST-MODIFIED:20260424T194141Z
UID:10019442-1810906200-1810908000@wvmuslim.org
SUMMARY:Jumu’ah (1:30 PM) @ LGIC – TBA
DESCRIPTION:Join us for Jumu’ah prayers every Friday at 1:30 PM at LGIC. The sermon (khutbah) begins promptly\, followed by the congregational prayer. Arrive early to find parking and settle in for a spiritually uplifting experience. All are welcome!
URL:https://wvmuslim.org/event/jumuah-130-pm-tba/2027-05-21/
LOCATION:Los Gatos Islamic Center (LGIC)\, 16769 Farley Rd\, Los Gatos\, CA\, 95032\, United States
CATEGORIES:Friday Prayer
ATTACH;FMTTYPE=image/png:https://wvmuslim.org/wp-content/uploads/2025/03/Screenshot-2025-03-27-at-2.48.12 PM.png
ORGANIZER;CN="West Valley Muslim Association":MAILTO:info@wvmuslim.org
END:VEVENT
BEGIN:VEVENT
DTSTART;TZID=UTC:20270528T133000
DTEND;TZID=UTC:20270528T140000
DTSTAMP:20260425T042919
CREATED:20260424T194028Z
LAST-MODIFIED:20260424T194141Z
UID:10019443-1811511000-1811512800@wvmuslim.org
SUMMARY:Jumu’ah (1:30 PM) @ LGIC – TBA
DESCRIPTION:Join us for Jumu’ah prayers every Friday at 1:30 PM at LGIC. The sermon (khutbah) begins promptly\, followed by the congregational prayer. Arrive early to find parking and settle in for a spiritually uplifting experience. All are welcome!
URL:https://wvmuslim.org/event/jumuah-130-pm-tba/2027-05-28/
LOCATION:Los Gatos Islamic Center (LGIC)\, 16769 Farley Rd\, Los Gatos\, CA\, 95032\, United States
CATEGORIES:Friday Prayer
ATTACH;FMTTYPE=image/png:https://wvmuslim.org/wp-content/uploads/2025/03/Screenshot-2025-03-27-at-2.48.12 PM.png
ORGANIZER;CN="West Valley Muslim Association":MAILTO:info@wvmuslim.org
END:VEVENT
BEGIN:VEVENT
DTSTART;TZID=UTC:20270604T133000
DTEND;TZID=UTC:20270604T140000
DTSTAMP:20260425T042919
CREATED:20260424T194028Z
LAST-MODIFIED:20260424T194141Z
UID:10019444-1812115800-1812117600@wvmuslim.org
SUMMARY:Jumu’ah (1:30 PM) @ LGIC – TBA
DESCRIPTION:Join us for Jumu’ah prayers every Friday at 1:30 PM at LGIC. The sermon (khutbah) begins promptly\, followed by the congregational prayer. Arrive early to find parking and settle in for a spiritually uplifting experience. All are welcome!
URL:https://wvmuslim.org/event/jumuah-130-pm-tba/2027-06-04/
LOCATION:Los Gatos Islamic Center (LGIC)\, 16769 Farley Rd\, Los Gatos\, CA\, 95032\, United States
CATEGORIES:Friday Prayer
ATTACH;FMTTYPE=image/png:https://wvmuslim.org/wp-content/uploads/2025/03/Screenshot-2025-03-27-at-2.48.12 PM.png
ORGANIZER;CN="West Valley Muslim Association":MAILTO:info@wvmuslim.org
END:VEVENT
BEGIN:VEVENT
DTSTART;TZID=UTC:20270611T133000
DTEND;TZID=UTC:20270611T140000
DTSTAMP:20260425T042919
CREATED:20260424T194028Z
LAST-MODIFIED:20260424T194141Z
UID:10019445-1812720600-1812722400@wvmuslim.org
SUMMARY:Jumu’ah (1:30 PM) @ LGIC – TBA
DESCRIPTION:Join us for Jumu’ah prayers every Friday at 1:30 PM at LGIC. The sermon (khutbah) begins promptly\, followed by the congregational prayer. Arrive early to find parking and settle in for a spiritually uplifting experience. All are welcome!
URL:https://wvmuslim.org/event/jumuah-130-pm-tba/2027-06-11/
LOCATION:Los Gatos Islamic Center (LGIC)\, 16769 Farley Rd\, Los Gatos\, CA\, 95032\, United States
CATEGORIES:Friday Prayer
ATTACH;FMTTYPE=image/png:https://wvmuslim.org/wp-content/uploads/2025/03/Screenshot-2025-03-27-at-2.48.12 PM.png
ORGANIZER;CN="West Valley Muslim Association":MAILTO:info@wvmuslim.org
END:VEVENT
BEGIN:VEVENT
DTSTART;TZID=UTC:20270618T133000
DTEND;TZID=UTC:20270618T140000
DTSTAMP:20260425T042919
CREATED:20260424T194028Z
LAST-MODIFIED:20260424T194141Z
UID:10019446-1813325400-1813327200@wvmuslim.org
SUMMARY:Jumu’ah (1:30 PM) @ LGIC – TBA
DESCRIPTION:Join us for Jumu’ah prayers every Friday at 1:30 PM at LGIC. The sermon (khutbah) begins promptly\, followed by the congregational prayer. Arrive early to find parking and settle in for a spiritually uplifting experience. All are welcome!
URL:https://wvmuslim.org/event/jumuah-130-pm-tba/2027-06-18/
LOCATION:Los Gatos Islamic Center (LGIC)\, 16769 Farley Rd\, Los Gatos\, CA\, 95032\, United States
CATEGORIES:Friday Prayer
ATTACH;FMTTYPE=image/png:https://wvmuslim.org/wp-content/uploads/2025/03/Screenshot-2025-03-27-at-2.48.12 PM.png
ORGANIZER;CN="West Valley Muslim Association":MAILTO:info@wvmuslim.org
END:VEVENT
BEGIN:VEVENT
DTSTART;TZID=UTC:20270625T133000
DTEND;TZID=UTC:20270625T140000
DTSTAMP:20260425T042919
CREATED:20260424T194028Z
LAST-MODIFIED:20260424T194141Z
UID:10019447-1813930200-1813932000@wvmuslim.org
SUMMARY:Jumu’ah (1:30 PM) @ LGIC – TBA
DESCRIPTION:Join us for Jumu’ah prayers every Friday at 1:30 PM at LGIC. The sermon (khutbah) begins promptly\, followed by the congregational prayer. Arrive early to find parking and settle in for a spiritually uplifting experience. All are welcome!
URL:https://wvmuslim.org/event/jumuah-130-pm-tba/2027-06-25/
LOCATION:Los Gatos Islamic Center (LGIC)\, 16769 Farley Rd\, Los Gatos\, CA\, 95032\, United States
CATEGORIES:Friday Prayer
ATTACH;FMTTYPE=image/png:https://wvmuslim.org/wp-content/uploads/2025/03/Screenshot-2025-03-27-at-2.48.12 PM.png
ORGANIZER;CN="West Valley Muslim Association":MAILTO:info@wvmuslim.org
END:VEVENT
BEGIN:VEVENT
DTSTART;TZID=UTC:20270702T133000
DTEND;TZID=UTC:20270702T140000
DTSTAMP:20260425T042919
CREATED:20260424T194028Z
LAST-MODIFIED:20260424T194141Z
UID:10019448-1814535000-1814536800@wvmuslim.org
SUMMARY:Jumu’ah (1:30 PM) @ LGIC – TBA
DESCRIPTION:Join us for Jumu’ah prayers every Friday at 1:30 PM at LGIC. The sermon (khutbah) begins promptly\, followed by the congregational prayer. Arrive early to find parking and settle in for a spiritually uplifting experience. All are welcome!
URL:https://wvmuslim.org/event/jumuah-130-pm-tba/2027-07-02/
LOCATION:Los Gatos Islamic Center (LGIC)\, 16769 Farley Rd\, Los Gatos\, CA\, 95032\, United States
CATEGORIES:Friday Prayer
ATTACH;FMTTYPE=image/png:https://wvmuslim.org/wp-content/uploads/2025/03/Screenshot-2025-03-27-at-2.48.12 PM.png
ORGANIZER;CN="West Valley Muslim Association":MAILTO:info@wvmuslim.org
END:VEVENT
BEGIN:VEVENT
DTSTART;TZID=UTC:20270709T133000
DTEND;TZID=UTC:20270709T140000
DTSTAMP:20260425T042919
CREATED:20260424T194028Z
LAST-MODIFIED:20260424T194141Z
UID:10019449-1815139800-1815141600@wvmuslim.org
SUMMARY:Jumu’ah (1:30 PM) @ LGIC – TBA
DESCRIPTION:Join us for Jumu’ah prayers every Friday at 1:30 PM at LGIC. The sermon (khutbah) begins promptly\, followed by the congregational prayer. Arrive early to find parking and settle in for a spiritually uplifting experience. All are welcome!
URL:https://wvmuslim.org/event/jumuah-130-pm-tba/2027-07-09/
LOCATION:Los Gatos Islamic Center (LGIC)\, 16769 Farley Rd\, Los Gatos\, CA\, 95032\, United States
CATEGORIES:Friday Prayer
ATTACH;FMTTYPE=image/png:https://wvmuslim.org/wp-content/uploads/2025/03/Screenshot-2025-03-27-at-2.48.12 PM.png
ORGANIZER;CN="West Valley Muslim Association":MAILTO:info@wvmuslim.org
END:VEVENT
END:VCALENDAR