BEGIN:VCALENDAR
VERSION:2.0
PRODID:-// - ECPv6.15.20//NONSGML v1.0//EN
CALSCALE:GREGORIAN
METHOD:PUBLISH
X-ORIGINAL-URL:https://wvmuslim.org
X-WR-CALDESC:Events for 
REFRESH-INTERVAL;VALUE=DURATION:PT1H
X-Robots-Tag:noindex
X-PUBLISHED-TTL:PT1H
BEGIN:VTIMEZONE
TZID:UTC
BEGIN:STANDARD
TZOFFSETFROM:+0000
TZOFFSETTO:+0000
TZNAME:UTC
DTSTART:20240101T000000
END:STANDARD
END:VTIMEZONE
BEGIN:VEVENT
DTSTART;TZID=UTC:20250325T100000
DTEND;TZID=UTC:20250325T130000
DTSTAMP:20260422T062049
CREATED:20250324T051917Z
LAST-MODIFIED:20250324T051956Z
UID:10000870-1742896800-1742907600@wvmuslim.org
SUMMARY:Arabic Playgroup
DESCRIPTION:We are excited to announce the start of an Arabic playgroup at WVMA for children ages 3-6. The playgroup will meet every Tuesday and Thursday. We will utilize different methods to teach children how to read and write Arabic while taking care of other developmental needs. Register at bit.ly/wvma-playgroup
URL:https://wvmuslim.org/event/arabic-playgroup/
LOCATION:Los Gatos Islamic Center (LGIC)\, 16769 Farley Rd\, Los Gatos\, CA\, 95032\, United States
CATEGORIES:Kids
ATTACH;FMTTYPE=image/png:https://wvmuslim.org/wp-content/uploads/2025/03/ArabicPlaygroup.png
ORGANIZER;CN="West Valley Muslim Association":MAILTO:info@wvmuslim.org
END:VEVENT
END:VCALENDAR