BEGIN:VCALENDAR
VERSION:2.0
PRODID:-// - ECPv6.15.20//NONSGML v1.0//EN
CALSCALE:GREGORIAN
METHOD:PUBLISH
X-ORIGINAL-URL:https://wvmuslim.org
X-WR-CALDESC:Events for 
REFRESH-INTERVAL;VALUE=DURATION:PT1H
X-Robots-Tag:noindex
X-PUBLISHED-TTL:PT1H
BEGIN:VTIMEZONE
TZID:America/Los_Angeles
BEGIN:DAYLIGHT
TZOFFSETFROM:-0800
TZOFFSETTO:-0700
TZNAME:PDT
DTSTART:20240310T100000
END:DAYLIGHT
BEGIN:STANDARD
TZOFFSETFROM:-0700
TZOFFSETTO:-0800
TZNAME:PST
DTSTART:20241103T090000
END:STANDARD
BEGIN:DAYLIGHT
TZOFFSETFROM:-0800
TZOFFSETTO:-0700
TZNAME:PDT
DTSTART:20250309T100000
END:DAYLIGHT
BEGIN:STANDARD
TZOFFSETFROM:-0700
TZOFFSETTO:-0800
TZNAME:PST
DTSTART:20251102T090000
END:STANDARD
BEGIN:DAYLIGHT
TZOFFSETFROM:-0800
TZOFFSETTO:-0700
TZNAME:PDT
DTSTART:20260308T100000
END:DAYLIGHT
BEGIN:STANDARD
TZOFFSETFROM:-0700
TZOFFSETTO:-0800
TZNAME:PST
DTSTART:20261101T090000
END:STANDARD
END:VTIMEZONE
BEGIN:VTIMEZONE
TZID:UTC
BEGIN:STANDARD
TZOFFSETFROM:+0000
TZOFFSETTO:+0000
TZNAME:UTC
DTSTART:20240101T000000
END:STANDARD
END:VTIMEZONE
BEGIN:VEVENT
DTSTART;TZID=America/Los_Angeles:20251015T200000
DTEND;TZID=America/Los_Angeles:20251015T203000
DTSTAMP:20260421T230614
CREATED:20251016T014839Z
LAST-MODIFIED:20251016T014916Z
UID:10012595-1760558400-1760560200@wvmuslim.org
SUMMARY:Quran Reflections with Samy Hilali
DESCRIPTION:Join us for a Wednesday biweekly Qur’an reflection class at Saratoga Musalla\, as Br. Samy Hilali guides us through the meanings and messages of the short surahs.Together\, we’ll explore the beauty\, depth\, and relevance of these chapters — uncovering lessons that nurture our hearts\, strengthen our faith\, and inspire us to live by the Qur’an. \nAll are welcome. No prior background required — just an open heart and a desire to connect with the words of Allah ﷻ.
URL:https://wvmuslim.org/event/quran-reflections-with-samy-hilali/2025-10-15/
LOCATION:Saratoga Musalla\, 12370 Saratoga-Sunnyvale Rd.\,\, Saratoga\, CA\, 95070\, United States
ATTACH;FMTTYPE=image/png:https://wvmuslim.org/wp-content/uploads/2025/10/Short-Surah-Sami-Hilali.png
ORGANIZER;CN="West Valley Muslim Association":MAILTO:info@wvmuslim.org
END:VEVENT
BEGIN:VEVENT
DTSTART;TZID=America/Los_Angeles:20251012T200000
DTEND;TZID=America/Los_Angeles:20251012T203000
DTSTAMP:20260421T230614
CREATED:20251014T171632Z
LAST-MODIFIED:20251014T171647Z
UID:10012188-1760299200-1760301000@wvmuslim.org
SUMMARY:Tafseer Surah Al Mulk
DESCRIPTION:Starting this Sunday\, October 12\, join us after Isha at Saratoga Musalla for the Tafseer of Surah Al Mulk with Mufti Saad Khan. \nThis powerful surah protects and elevates those who recite it—don’t miss the chance to reflect on its timeless lessons.
URL:https://wvmuslim.org/event/tafseer-surah-al-mulk/2025-10-12/
LOCATION:Saratoga Musalla\, 12370 Saratoga-Sunnyvale Rd.\,\, Saratoga\, CA\, 95070\, United States
ATTACH;FMTTYPE=image/png:https://wvmuslim.org/wp-content/uploads/2025/10/Tafseer-surah-Al-mulk-1920-x-1080-px.png
ORGANIZER;CN="West Valley Muslim Association":MAILTO:info@wvmuslim.org
END:VEVENT
BEGIN:VEVENT
DTSTART;TZID=America/Los_Angeles:20251010T104500
DTEND;TZID=America/Los_Angeles:20251010T233000
DTSTAMP:20260421T230614
CREATED:20250819T052026Z
LAST-MODIFIED:20250904T034125Z
UID:10005006-1760093100-1760139000@wvmuslim.org
SUMMARY:Journey Through the Quran
DESCRIPTION:Join WVMA and ICNA sisters every Friday from 11am-12pm for a halaqa at Saratoga Musalla. There’s no better time to renew your relationship to the Quran. Hope to see you there!
URL:https://wvmuslim.org/event/journey-through-the-quran/2025-10-10/
LOCATION:Saratoga Musalla\, 12370 Saratoga-Sunnyvale Rd.\,\, Saratoga\, CA\, 95070\, United States
ATTACH;FMTTYPE=image/png:https://wvmuslim.org/wp-content/uploads/2025/08/Journey-with-the-Quran-1920-x-1080-px.png
ORGANIZER;CN="West Valley Muslim Association":MAILTO:info@wvmuslim.org
END:VEVENT
BEGIN:VEVENT
DTSTART;TZID=America/Los_Angeles:20251003T104500
DTEND;TZID=America/Los_Angeles:20251003T233000
DTSTAMP:20260421T230614
CREATED:20250819T052026Z
LAST-MODIFIED:20250904T034125Z
UID:10005005-1759488300-1759534200@wvmuslim.org
SUMMARY:Journey Through the Quran
DESCRIPTION:Join WVMA and ICNA sisters every Friday from 11am-12pm for a halaqa at Saratoga Musalla. There’s no better time to renew your relationship to the Quran. Hope to see you there!
URL:https://wvmuslim.org/event/journey-through-the-quran/2025-10-03/
LOCATION:Saratoga Musalla\, 12370 Saratoga-Sunnyvale Rd.\,\, Saratoga\, CA\, 95070\, United States
ATTACH;FMTTYPE=image/png:https://wvmuslim.org/wp-content/uploads/2025/08/Journey-with-the-Quran-1920-x-1080-px.png
ORGANIZER;CN="West Valley Muslim Association":MAILTO:info@wvmuslim.org
END:VEVENT
BEGIN:VEVENT
DTSTART;TZID=America/Los_Angeles:20251001T200000
DTEND;TZID=America/Los_Angeles:20251001T203000
DTSTAMP:20260421T230614
CREATED:20250819T045737Z
LAST-MODIFIED:20251014T165932Z
UID:10011253-1759348800-1759350600@wvmuslim.org
SUMMARY:The 40 Hadith of Imam Al Nawawi with Imam Tahir
DESCRIPTION:Join us at Saratoga Musalla for a new biweekly series with Imam Tahir on the 40 Hadith of Imam al-Nawawi — a timeless collection of foundational teachings. Khateeras will take place every other Wednesday after Isha\, starting August 6th. Come reflect\, learn\, and grow together in community.
URL:https://wvmuslim.org/event/the-40-hadith-of-imam-al-nawawi-with-imam-tahir-2-2/2025-10-01/
LOCATION:Saratoga Musalla\, 12370 Saratoga-Sunnyvale Rd.\,\, Saratoga\, CA\, 95070\, United States
ATTACH;FMTTYPE=image/png:https://wvmuslim.org/wp-content/uploads/2025/06/Reflections-from-Seerah-1920-x-1080-px.png
ORGANIZER;CN="West Valley Muslim Association":MAILTO:info@wvmuslim.org
END:VEVENT
BEGIN:VEVENT
DTSTART;TZID=America/Los_Angeles:20250926T104500
DTEND;TZID=America/Los_Angeles:20250926T233000
DTSTAMP:20260421T230615
CREATED:20250819T052026Z
LAST-MODIFIED:20250904T034125Z
UID:10005004-1758883500-1758929400@wvmuslim.org
SUMMARY:Journey Through the Quran
DESCRIPTION:Join WVMA and ICNA sisters every Friday from 11am-12pm for a halaqa at Saratoga Musalla. There’s no better time to renew your relationship to the Quran. Hope to see you there!
URL:https://wvmuslim.org/event/journey-through-the-quran/2025-09-26/
LOCATION:Saratoga Musalla\, 12370 Saratoga-Sunnyvale Rd.\,\, Saratoga\, CA\, 95070\, United States
ATTACH;FMTTYPE=image/png:https://wvmuslim.org/wp-content/uploads/2025/08/Journey-with-the-Quran-1920-x-1080-px.png
ORGANIZER;CN="West Valley Muslim Association":MAILTO:info@wvmuslim.org
END:VEVENT
BEGIN:VEVENT
DTSTART;TZID=America/Los_Angeles:20250919T104500
DTEND;TZID=America/Los_Angeles:20250919T233000
DTSTAMP:20260421T230615
CREATED:20250819T052026Z
LAST-MODIFIED:20250904T034125Z
UID:10005003-1758278700-1758324600@wvmuslim.org
SUMMARY:Journey Through the Quran
DESCRIPTION:Join WVMA and ICNA sisters every Friday from 11am-12pm for a halaqa at Saratoga Musalla. There’s no better time to renew your relationship to the Quran. Hope to see you there!
URL:https://wvmuslim.org/event/journey-through-the-quran/2025-09-19/
LOCATION:Saratoga Musalla\, 12370 Saratoga-Sunnyvale Rd.\,\, Saratoga\, CA\, 95070\, United States
ATTACH;FMTTYPE=image/png:https://wvmuslim.org/wp-content/uploads/2025/08/Journey-with-the-Quran-1920-x-1080-px.png
ORGANIZER;CN="West Valley Muslim Association":MAILTO:info@wvmuslim.org
END:VEVENT
BEGIN:VEVENT
DTSTART;TZID=America/Los_Angeles:20250917T200000
DTEND;TZID=America/Los_Angeles:20250917T203000
DTSTAMP:20260421T230615
CREATED:20250819T045737Z
LAST-MODIFIED:20251014T165932Z
UID:10011252-1758139200-1758141000@wvmuslim.org
SUMMARY:The 40 Hadith of Imam Al Nawawi with Imam Tahir
DESCRIPTION:Join us at Saratoga Musalla for a new biweekly series with Imam Tahir on the 40 Hadith of Imam al-Nawawi — a timeless collection of foundational teachings. Khateeras will take place every other Wednesday after Isha\, starting August 6th. Come reflect\, learn\, and grow together in community.
URL:https://wvmuslim.org/event/the-40-hadith-of-imam-al-nawawi-with-imam-tahir-2-2/2025-09-17/
LOCATION:Saratoga Musalla\, 12370 Saratoga-Sunnyvale Rd.\,\, Saratoga\, CA\, 95070\, United States
ATTACH;FMTTYPE=image/png:https://wvmuslim.org/wp-content/uploads/2025/06/Reflections-from-Seerah-1920-x-1080-px.png
ORGANIZER;CN="West Valley Muslim Association":MAILTO:info@wvmuslim.org
END:VEVENT
BEGIN:VEVENT
DTSTART;TZID=America/Los_Angeles:20250912T104500
DTEND;TZID=America/Los_Angeles:20250912T233000
DTSTAMP:20260421T230615
CREATED:20250819T052026Z
LAST-MODIFIED:20250904T034125Z
UID:10005002-1757673900-1757719800@wvmuslim.org
SUMMARY:Journey Through the Quran
DESCRIPTION:Join WVMA and ICNA sisters every Friday from 11am-12pm for a halaqa at Saratoga Musalla. There’s no better time to renew your relationship to the Quran. Hope to see you there!
URL:https://wvmuslim.org/event/journey-through-the-quran/2025-09-12/
LOCATION:Saratoga Musalla\, 12370 Saratoga-Sunnyvale Rd.\,\, Saratoga\, CA\, 95070\, United States
ATTACH;FMTTYPE=image/png:https://wvmuslim.org/wp-content/uploads/2025/08/Journey-with-the-Quran-1920-x-1080-px.png
ORGANIZER;CN="West Valley Muslim Association":MAILTO:info@wvmuslim.org
END:VEVENT
BEGIN:VEVENT
DTSTART;TZID=America/Los_Angeles:20250905T104500
DTEND;TZID=America/Los_Angeles:20250905T233000
DTSTAMP:20260421T230615
CREATED:20250819T052026Z
LAST-MODIFIED:20250904T034125Z
UID:10005001-1757069100-1757115000@wvmuslim.org
SUMMARY:Journey Through the Quran
DESCRIPTION:Join WVMA and ICNA sisters every Friday from 11am-12pm for a halaqa at Saratoga Musalla. There’s no better time to renew your relationship to the Quran. Hope to see you there!
URL:https://wvmuslim.org/event/journey-through-the-quran/2025-09-05/
LOCATION:Saratoga Musalla\, 12370 Saratoga-Sunnyvale Rd.\,\, Saratoga\, CA\, 95070\, United States
ATTACH;FMTTYPE=image/png:https://wvmuslim.org/wp-content/uploads/2025/08/Journey-with-the-Quran-1920-x-1080-px.png
ORGANIZER;CN="West Valley Muslim Association":MAILTO:info@wvmuslim.org
END:VEVENT
BEGIN:VEVENT
DTSTART;TZID=America/Los_Angeles:20250903T200000
DTEND;TZID=America/Los_Angeles:20250903T203000
DTSTAMP:20260421T230615
CREATED:20250819T045737Z
LAST-MODIFIED:20251014T165932Z
UID:10011251-1756929600-1756931400@wvmuslim.org
SUMMARY:The 40 Hadith of Imam Al Nawawi with Imam Tahir
DESCRIPTION:Join us at Saratoga Musalla for a new biweekly series with Imam Tahir on the 40 Hadith of Imam al-Nawawi — a timeless collection of foundational teachings. Khateeras will take place every other Wednesday after Isha\, starting August 6th. Come reflect\, learn\, and grow together in community.
URL:https://wvmuslim.org/event/the-40-hadith-of-imam-al-nawawi-with-imam-tahir-2-2/2025-09-03/
LOCATION:Saratoga Musalla\, 12370 Saratoga-Sunnyvale Rd.\,\, Saratoga\, CA\, 95070\, United States
ATTACH;FMTTYPE=image/png:https://wvmuslim.org/wp-content/uploads/2025/06/Reflections-from-Seerah-1920-x-1080-px.png
ORGANIZER;CN="West Valley Muslim Association":MAILTO:info@wvmuslim.org
END:VEVENT
BEGIN:VEVENT
DTSTART;TZID=America/Los_Angeles:20250829T104500
DTEND;TZID=America/Los_Angeles:20250829T233000
DTSTAMP:20260421T230615
CREATED:20250819T052026Z
LAST-MODIFIED:20250904T034125Z
UID:10005000-1756464300-1756510200@wvmuslim.org
SUMMARY:Journey Through the Quran
DESCRIPTION:Join WVMA and ICNA sisters every Friday from 11am-12pm for a halaqa at Saratoga Musalla. There’s no better time to renew your relationship to the Quran. Hope to see you there!
URL:https://wvmuslim.org/event/journey-through-the-quran/2025-08-29/
LOCATION:Saratoga Musalla\, 12370 Saratoga-Sunnyvale Rd.\,\, Saratoga\, CA\, 95070\, United States
ATTACH;FMTTYPE=image/png:https://wvmuslim.org/wp-content/uploads/2025/08/Journey-with-the-Quran-1920-x-1080-px.png
ORGANIZER;CN="West Valley Muslim Association":MAILTO:info@wvmuslim.org
END:VEVENT
BEGIN:VEVENT
DTSTART;TZID=America/Los_Angeles:20250822T104500
DTEND;TZID=America/Los_Angeles:20250822T233000
DTSTAMP:20260421T230615
CREATED:20250819T052026Z
LAST-MODIFIED:20250904T034125Z
UID:10004999-1755859500-1755905400@wvmuslim.org
SUMMARY:Journey Through the Quran
DESCRIPTION:Join WVMA and ICNA sisters every Friday from 11am-12pm for a halaqa at Saratoga Musalla. There’s no better time to renew your relationship to the Quran. Hope to see you there!
URL:https://wvmuslim.org/event/journey-through-the-quran/2025-08-22/
LOCATION:Saratoga Musalla\, 12370 Saratoga-Sunnyvale Rd.\,\, Saratoga\, CA\, 95070\, United States
ATTACH;FMTTYPE=image/png:https://wvmuslim.org/wp-content/uploads/2025/08/Journey-with-the-Quran-1920-x-1080-px.png
ORGANIZER;CN="West Valley Muslim Association":MAILTO:info@wvmuslim.org
END:VEVENT
BEGIN:VEVENT
DTSTART;TZID=America/Los_Angeles:20250820T200000
DTEND;TZID=America/Los_Angeles:20250820T203000
DTSTAMP:20260421T230615
CREATED:20250819T045737Z
LAST-MODIFIED:20251014T165932Z
UID:10011250-1755720000-1755721800@wvmuslim.org
SUMMARY:The 40 Hadith of Imam Al Nawawi with Imam Tahir
DESCRIPTION:Join us at Saratoga Musalla for a new biweekly series with Imam Tahir on the 40 Hadith of Imam al-Nawawi — a timeless collection of foundational teachings. Khateeras will take place every other Wednesday after Isha\, starting August 6th. Come reflect\, learn\, and grow together in community.
URL:https://wvmuslim.org/event/the-40-hadith-of-imam-al-nawawi-with-imam-tahir-2-2/2025-08-20/
LOCATION:Saratoga Musalla\, 12370 Saratoga-Sunnyvale Rd.\,\, Saratoga\, CA\, 95070\, United States
ATTACH;FMTTYPE=image/png:https://wvmuslim.org/wp-content/uploads/2025/06/Reflections-from-Seerah-1920-x-1080-px.png
ORGANIZER;CN="West Valley Muslim Association":MAILTO:info@wvmuslim.org
END:VEVENT
BEGIN:VEVENT
DTSTART;TZID=America/Los_Angeles:20250628T193000
DTEND;TZID=America/Los_Angeles:20250628T203000
DTSTAMP:20260421T230615
CREATED:20250612T022006Z
LAST-MODIFIED:20250612T022043Z
UID:10003898-1751139000-1751142600@wvmuslim.org
SUMMARY:Talk with Mufti Hussain Kamani
DESCRIPTION:We are excited to invite you to a special weekend with Mufti Hussain Kamani\, Director of Seminary and Instructor at The Qalam Seminary. \nOn Saturday\, June 28\, join us at Saratoga Musalla for a short\, inspiring talk with Mufti Kamani. \nThen on Sunday\, June 29\, come to LGIC for a community talk titled Prophetic Code: The Mannerisms\, Character\, and Description of the Prophet (ﷺ). \nThis is a beautiful opportunity to explore the character of our beloved Prophet (ﷺ) and learn how we can embody his example in our daily lives. \nPlease RSVP for Sunday’s talk at bit.ly/wvma-kamani. \nMark your calendars and bring your family and friends for this meaningful weekend!
URL:https://wvmuslim.org/event/talk-with-mufti-hussain-kamani/
LOCATION:Saratoga Musalla\, 12370 Saratoga-Sunnyvale Rd.\,\, Saratoga\, CA\, 95070\, United States
ATTACH;FMTTYPE=image/png:https://wvmuslim.org/wp-content/uploads/2025/06/Mufti-Hussain-Kamani.png
ORGANIZER;CN="West Valley Muslim Association":MAILTO:info@wvmuslim.org
END:VEVENT
BEGIN:VEVENT
DTSTART;TZID=America/Los_Angeles:20250604T220000
DTEND;TZID=America/Los_Angeles:20250604T233000
DTSTAMP:20260421T230615
CREATED:20250603T141310Z
LAST-MODIFIED:20250603T141310Z
UID:10003892-1749074400-1749079800@wvmuslim.org
SUMMARY:Dhul Hjjah Qiyam
DESCRIPTION:Join us for Dhul Hjjah Qiyam after isha with imam Albaraa at Saratoga musalla.
URL:https://wvmuslim.org/event/dhul-hjjah-qiyam/
LOCATION:Saratoga Musalla\, 12370 Saratoga-Sunnyvale Rd.\,\, Saratoga\, CA\, 95070\, United States
ATTACH;FMTTYPE=image/jpeg:https://wvmuslim.org/wp-content/uploads/2025/06/WhatsApp-Image-2025-06-01-at-13.56.07.jpeg
END:VEVENT
BEGIN:VEVENT
DTSTART;TZID=UTC:20250329T041500
DTEND;TZID=UTC:20250329T053000
DTSTAMP:20260421T230615
CREATED:20250323T133356Z
LAST-MODIFIED:20250323T133356Z
UID:10000868-1743221700-1743226200@wvmuslim.org
SUMMARY:Ramadan Community Qiyam
DESCRIPTION:Join us for a spiritually uplifting night at our Ramadan Community Qiyam at Saratoga Musalla! The Qiyam will be held every day for the last 10 days of Ramadan\, starting Friday\, March 21st at 4:15 am. This is a beautiful opportunity to come together as a community in worship and reflection during the blessed last ten nights of Ramadan. RSVP at bit.ly/Saratoga-qiyam.
URL:https://wvmuslim.org/event/ramadan-community-qiyam/2025-03-29/
LOCATION:Saratoga Musalla\, 12370 Saratoga-Sunnyvale Rd.\,\, Saratoga\, CA\, 95070\, United States
ATTACH;FMTTYPE=image/jpeg:https://wvmuslim.org/wp-content/uploads/2025/03/qiyyam-wvma.jpeg
END:VEVENT
BEGIN:VEVENT
DTSTART;TZID=UTC:20250328T041500
DTEND;TZID=UTC:20250328T053000
DTSTAMP:20260421T230615
CREATED:20250323T133356Z
LAST-MODIFIED:20250323T133356Z
UID:10000867-1743135300-1743139800@wvmuslim.org
SUMMARY:Ramadan Community Qiyam
DESCRIPTION:Join us for a spiritually uplifting night at our Ramadan Community Qiyam at Saratoga Musalla! The Qiyam will be held every day for the last 10 days of Ramadan\, starting Friday\, March 21st at 4:15 am. This is a beautiful opportunity to come together as a community in worship and reflection during the blessed last ten nights of Ramadan. RSVP at bit.ly/Saratoga-qiyam.
URL:https://wvmuslim.org/event/ramadan-community-qiyam/2025-03-28/
LOCATION:Saratoga Musalla\, 12370 Saratoga-Sunnyvale Rd.\,\, Saratoga\, CA\, 95070\, United States
ATTACH;FMTTYPE=image/jpeg:https://wvmuslim.org/wp-content/uploads/2025/03/qiyyam-wvma.jpeg
END:VEVENT
BEGIN:VEVENT
DTSTART;TZID=UTC:20250327T041500
DTEND;TZID=UTC:20250327T053000
DTSTAMP:20260421T230615
CREATED:20250323T133356Z
LAST-MODIFIED:20250323T133356Z
UID:10000866-1743048900-1743053400@wvmuslim.org
SUMMARY:Ramadan Community Qiyam
DESCRIPTION:Join us for a spiritually uplifting night at our Ramadan Community Qiyam at Saratoga Musalla! The Qiyam will be held every day for the last 10 days of Ramadan\, starting Friday\, March 21st at 4:15 am. This is a beautiful opportunity to come together as a community in worship and reflection during the blessed last ten nights of Ramadan. RSVP at bit.ly/Saratoga-qiyam.
URL:https://wvmuslim.org/event/ramadan-community-qiyam/2025-03-27/
LOCATION:Saratoga Musalla\, 12370 Saratoga-Sunnyvale Rd.\,\, Saratoga\, CA\, 95070\, United States
ATTACH;FMTTYPE=image/jpeg:https://wvmuslim.org/wp-content/uploads/2025/03/qiyyam-wvma.jpeg
END:VEVENT
BEGIN:VEVENT
DTSTART;TZID=UTC:20250326T041500
DTEND;TZID=UTC:20250326T053000
DTSTAMP:20260421T230615
CREATED:20250323T133356Z
LAST-MODIFIED:20250323T133356Z
UID:10000865-1742962500-1742967000@wvmuslim.org
SUMMARY:Ramadan Community Qiyam
DESCRIPTION:Join us for a spiritually uplifting night at our Ramadan Community Qiyam at Saratoga Musalla! The Qiyam will be held every day for the last 10 days of Ramadan\, starting Friday\, March 21st at 4:15 am. This is a beautiful opportunity to come together as a community in worship and reflection during the blessed last ten nights of Ramadan. RSVP at bit.ly/Saratoga-qiyam.
URL:https://wvmuslim.org/event/ramadan-community-qiyam/2025-03-26/
LOCATION:Saratoga Musalla\, 12370 Saratoga-Sunnyvale Rd.\,\, Saratoga\, CA\, 95070\, United States
ATTACH;FMTTYPE=image/jpeg:https://wvmuslim.org/wp-content/uploads/2025/03/qiyyam-wvma.jpeg
END:VEVENT
BEGIN:VEVENT
DTSTART;TZID=UTC:20250325T041500
DTEND;TZID=UTC:20250325T053000
DTSTAMP:20260421T230615
CREATED:20250323T133356Z
LAST-MODIFIED:20250323T133356Z
UID:10000864-1742876100-1742880600@wvmuslim.org
SUMMARY:Ramadan Community Qiyam
DESCRIPTION:Join us for a spiritually uplifting night at our Ramadan Community Qiyam at Saratoga Musalla! The Qiyam will be held every day for the last 10 days of Ramadan\, starting Friday\, March 21st at 4:15 am. This is a beautiful opportunity to come together as a community in worship and reflection during the blessed last ten nights of Ramadan. RSVP at bit.ly/Saratoga-qiyam.
URL:https://wvmuslim.org/event/ramadan-community-qiyam/2025-03-25/
LOCATION:Saratoga Musalla\, 12370 Saratoga-Sunnyvale Rd.\,\, Saratoga\, CA\, 95070\, United States
ATTACH;FMTTYPE=image/jpeg:https://wvmuslim.org/wp-content/uploads/2025/03/qiyyam-wvma.jpeg
END:VEVENT
BEGIN:VEVENT
DTSTART;TZID=UTC:20250324T041500
DTEND;TZID=UTC:20250324T053000
DTSTAMP:20260421T230615
CREATED:20250323T133356Z
LAST-MODIFIED:20250323T133356Z
UID:10000863-1742789700-1742794200@wvmuslim.org
SUMMARY:Ramadan Community Qiyam
DESCRIPTION:Join us for a spiritually uplifting night at our Ramadan Community Qiyam at Saratoga Musalla! The Qiyam will be held every day for the last 10 days of Ramadan\, starting Friday\, March 21st at 4:15 am. This is a beautiful opportunity to come together as a community in worship and reflection during the blessed last ten nights of Ramadan. RSVP at bit.ly/Saratoga-qiyam.
URL:https://wvmuslim.org/event/ramadan-community-qiyam/2025-03-24/
LOCATION:Saratoga Musalla\, 12370 Saratoga-Sunnyvale Rd.\,\, Saratoga\, CA\, 95070\, United States
ATTACH;FMTTYPE=image/jpeg:https://wvmuslim.org/wp-content/uploads/2025/03/qiyyam-wvma.jpeg
END:VEVENT
BEGIN:VEVENT
DTSTART;TZID=UTC:20250323T041500
DTEND;TZID=UTC:20250323T053000
DTSTAMP:20260421T230615
CREATED:20250323T133356Z
LAST-MODIFIED:20250323T133356Z
UID:10000862-1742703300-1742707800@wvmuslim.org
SUMMARY:Ramadan Community Qiyam
DESCRIPTION:Join us for a spiritually uplifting night at our Ramadan Community Qiyam at Saratoga Musalla! The Qiyam will be held every day for the last 10 days of Ramadan\, starting Friday\, March 21st at 4:15 am. This is a beautiful opportunity to come together as a community in worship and reflection during the blessed last ten nights of Ramadan. RSVP at bit.ly/Saratoga-qiyam.
URL:https://wvmuslim.org/event/ramadan-community-qiyam/2025-03-23/
LOCATION:Saratoga Musalla\, 12370 Saratoga-Sunnyvale Rd.\,\, Saratoga\, CA\, 95070\, United States
ATTACH;FMTTYPE=image/jpeg:https://wvmuslim.org/wp-content/uploads/2025/03/qiyyam-wvma.jpeg
END:VEVENT
BEGIN:VEVENT
DTSTART;TZID=UTC:20250322T041500
DTEND;TZID=UTC:20250322T053000
DTSTAMP:20260421T230615
CREATED:20250323T133356Z
LAST-MODIFIED:20250323T133356Z
UID:10000861-1742616900-1742621400@wvmuslim.org
SUMMARY:Ramadan Community Qiyam
DESCRIPTION:Join us for a spiritually uplifting night at our Ramadan Community Qiyam at Saratoga Musalla! The Qiyam will be held every day for the last 10 days of Ramadan\, starting Friday\, March 21st at 4:15 am. This is a beautiful opportunity to come together as a community in worship and reflection during the blessed last ten nights of Ramadan. RSVP at bit.ly/Saratoga-qiyam.
URL:https://wvmuslim.org/event/ramadan-community-qiyam/2025-03-22/
LOCATION:Saratoga Musalla\, 12370 Saratoga-Sunnyvale Rd.\,\, Saratoga\, CA\, 95070\, United States
ATTACH;FMTTYPE=image/jpeg:https://wvmuslim.org/wp-content/uploads/2025/03/qiyyam-wvma.jpeg
END:VEVENT
BEGIN:VEVENT
DTSTART;TZID=UTC:20250321T041500
DTEND;TZID=UTC:20250321T053000
DTSTAMP:20260421T230615
CREATED:20250323T133356Z
LAST-MODIFIED:20250323T133356Z
UID:10000860-1742530500-1742535000@wvmuslim.org
SUMMARY:Ramadan Community Qiyam
DESCRIPTION:Join us for a spiritually uplifting night at our Ramadan Community Qiyam at Saratoga Musalla! The Qiyam will be held every day for the last 10 days of Ramadan\, starting Friday\, March 21st at 4:15 am. This is a beautiful opportunity to come together as a community in worship and reflection during the blessed last ten nights of Ramadan. RSVP at bit.ly/Saratoga-qiyam.
URL:https://wvmuslim.org/event/ramadan-community-qiyam/2025-03-21/
LOCATION:Saratoga Musalla\, 12370 Saratoga-Sunnyvale Rd.\,\, Saratoga\, CA\, 95070\, United States
ATTACH;FMTTYPE=image/jpeg:https://wvmuslim.org/wp-content/uploads/2025/03/qiyyam-wvma.jpeg
END:VEVENT
BEGIN:VEVENT
DTSTART;TZID=UTC:20250315T230000
DTEND;TZID=UTC:20250316T060000
DTSTAMP:20260421T230615
CREATED:20250310T180850Z
LAST-MODIFIED:20250310T180850Z
UID:10000856-1742079600-1742104800@wvmuslim.org
SUMMARY:College Qiyam
DESCRIPTION:We are pleased to announce this year’s College Qiyam with the theme “Reflecting on the Days of Mercy” featuring Dr. Heba El-Haddad and Imam AlBaraa. Join us on Saturday\, March 15th at Saratoga Musalla for a night of spiritual reflection\, worship\, and connection as we embrace the spirit of Ramadan. This is for college students but high schoolers are also welcomed to join! Suhoor will be provided. RSVP now: .
URL:https://wvmuslim.org/event/college-qiyam/
LOCATION:Saratoga Musalla\, 12370 Saratoga-Sunnyvale Rd.\,\, Saratoga\, CA\, 95070\, United States
CATEGORIES:Special Event
ATTACH;FMTTYPE=image/png:https://wvmuslim.org/wp-content/uploads/2025/03/colllege-qiyam-square.png
END:VEVENT
END:VCALENDAR