BEGIN:VCALENDAR
VERSION:2.0
PRODID:-// - ECPv6.15.20//NONSGML v1.0//EN
CALSCALE:GREGORIAN
METHOD:PUBLISH
X-ORIGINAL-URL:https://wvmuslim.org
X-WR-CALDESC:Events for 
REFRESH-INTERVAL;VALUE=DURATION:PT1H
X-Robots-Tag:noindex
X-PUBLISHED-TTL:PT1H
BEGIN:VTIMEZONE
TZID:America/Los_Angeles
BEGIN:DAYLIGHT
TZOFFSETFROM:-0800
TZOFFSETTO:-0700
TZNAME:PDT
DTSTART:20240310T100000
END:DAYLIGHT
BEGIN:STANDARD
TZOFFSETFROM:-0700
TZOFFSETTO:-0800
TZNAME:PST
DTSTART:20241103T090000
END:STANDARD
BEGIN:DAYLIGHT
TZOFFSETFROM:-0800
TZOFFSETTO:-0700
TZNAME:PDT
DTSTART:20250309T100000
END:DAYLIGHT
BEGIN:STANDARD
TZOFFSETFROM:-0700
TZOFFSETTO:-0800
TZNAME:PST
DTSTART:20251102T090000
END:STANDARD
BEGIN:DAYLIGHT
TZOFFSETFROM:-0800
TZOFFSETTO:-0700
TZNAME:PDT
DTSTART:20260308T100000
END:DAYLIGHT
BEGIN:STANDARD
TZOFFSETFROM:-0700
TZOFFSETTO:-0800
TZNAME:PST
DTSTART:20261101T090000
END:STANDARD
END:VTIMEZONE
BEGIN:VTIMEZONE
TZID:UTC
BEGIN:STANDARD
TZOFFSETFROM:+0000
TZOFFSETTO:+0000
TZNAME:UTC
DTSTART:20240101T000000
END:STANDARD
END:VTIMEZONE
BEGIN:VEVENT
DTSTART;TZID=America/Los_Angeles:20250604T220000
DTEND;TZID=America/Los_Angeles:20250604T233000
DTSTAMP:20260422T031814
CREATED:20250603T141310Z
LAST-MODIFIED:20250603T141310Z
UID:10003892-1749074400-1749079800@wvmuslim.org
SUMMARY:Dhul Hjjah Qiyam
DESCRIPTION:Join us for Dhul Hjjah Qiyam after isha with imam Albaraa at Saratoga musalla.
URL:https://wvmuslim.org/event/dhul-hjjah-qiyam/
LOCATION:Saratoga Musalla\, 12370 Saratoga-Sunnyvale Rd.\,\, Saratoga\, CA\, 95070\, United States
ATTACH;FMTTYPE=image/jpeg:https://wvmuslim.org/wp-content/uploads/2025/06/WhatsApp-Image-2025-06-01-at-13.56.07.jpeg
END:VEVENT
BEGIN:VEVENT
DTSTART;TZID=UTC:20250329T041500
DTEND;TZID=UTC:20250329T053000
DTSTAMP:20260422T031814
CREATED:20250323T133356Z
LAST-MODIFIED:20250323T133356Z
UID:10000868-1743221700-1743226200@wvmuslim.org
SUMMARY:Ramadan Community Qiyam
DESCRIPTION:Join us for a spiritually uplifting night at our Ramadan Community Qiyam at Saratoga Musalla! The Qiyam will be held every day for the last 10 days of Ramadan\, starting Friday\, March 21st at 4:15 am. This is a beautiful opportunity to come together as a community in worship and reflection during the blessed last ten nights of Ramadan. RSVP at bit.ly/Saratoga-qiyam.
URL:https://wvmuslim.org/event/ramadan-community-qiyam/2025-03-29/
LOCATION:Saratoga Musalla\, 12370 Saratoga-Sunnyvale Rd.\,\, Saratoga\, CA\, 95070\, United States
ATTACH;FMTTYPE=image/jpeg:https://wvmuslim.org/wp-content/uploads/2025/03/qiyyam-wvma.jpeg
END:VEVENT
BEGIN:VEVENT
DTSTART;TZID=UTC:20250328T041500
DTEND;TZID=UTC:20250328T053000
DTSTAMP:20260422T031814
CREATED:20250323T133356Z
LAST-MODIFIED:20250323T133356Z
UID:10000867-1743135300-1743139800@wvmuslim.org
SUMMARY:Ramadan Community Qiyam
DESCRIPTION:Join us for a spiritually uplifting night at our Ramadan Community Qiyam at Saratoga Musalla! The Qiyam will be held every day for the last 10 days of Ramadan\, starting Friday\, March 21st at 4:15 am. This is a beautiful opportunity to come together as a community in worship and reflection during the blessed last ten nights of Ramadan. RSVP at bit.ly/Saratoga-qiyam.
URL:https://wvmuslim.org/event/ramadan-community-qiyam/2025-03-28/
LOCATION:Saratoga Musalla\, 12370 Saratoga-Sunnyvale Rd.\,\, Saratoga\, CA\, 95070\, United States
ATTACH;FMTTYPE=image/jpeg:https://wvmuslim.org/wp-content/uploads/2025/03/qiyyam-wvma.jpeg
END:VEVENT
BEGIN:VEVENT
DTSTART;TZID=UTC:20250327T041500
DTEND;TZID=UTC:20250327T053000
DTSTAMP:20260422T031814
CREATED:20250323T133356Z
LAST-MODIFIED:20250323T133356Z
UID:10000866-1743048900-1743053400@wvmuslim.org
SUMMARY:Ramadan Community Qiyam
DESCRIPTION:Join us for a spiritually uplifting night at our Ramadan Community Qiyam at Saratoga Musalla! The Qiyam will be held every day for the last 10 days of Ramadan\, starting Friday\, March 21st at 4:15 am. This is a beautiful opportunity to come together as a community in worship and reflection during the blessed last ten nights of Ramadan. RSVP at bit.ly/Saratoga-qiyam.
URL:https://wvmuslim.org/event/ramadan-community-qiyam/2025-03-27/
LOCATION:Saratoga Musalla\, 12370 Saratoga-Sunnyvale Rd.\,\, Saratoga\, CA\, 95070\, United States
ATTACH;FMTTYPE=image/jpeg:https://wvmuslim.org/wp-content/uploads/2025/03/qiyyam-wvma.jpeg
END:VEVENT
BEGIN:VEVENT
DTSTART;TZID=UTC:20250326T041500
DTEND;TZID=UTC:20250326T053000
DTSTAMP:20260422T031814
CREATED:20250323T133356Z
LAST-MODIFIED:20250323T133356Z
UID:10000865-1742962500-1742967000@wvmuslim.org
SUMMARY:Ramadan Community Qiyam
DESCRIPTION:Join us for a spiritually uplifting night at our Ramadan Community Qiyam at Saratoga Musalla! The Qiyam will be held every day for the last 10 days of Ramadan\, starting Friday\, March 21st at 4:15 am. This is a beautiful opportunity to come together as a community in worship and reflection during the blessed last ten nights of Ramadan. RSVP at bit.ly/Saratoga-qiyam.
URL:https://wvmuslim.org/event/ramadan-community-qiyam/2025-03-26/
LOCATION:Saratoga Musalla\, 12370 Saratoga-Sunnyvale Rd.\,\, Saratoga\, CA\, 95070\, United States
ATTACH;FMTTYPE=image/jpeg:https://wvmuslim.org/wp-content/uploads/2025/03/qiyyam-wvma.jpeg
END:VEVENT
BEGIN:VEVENT
DTSTART;TZID=UTC:20250325T041500
DTEND;TZID=UTC:20250325T053000
DTSTAMP:20260422T031814
CREATED:20250323T133356Z
LAST-MODIFIED:20250323T133356Z
UID:10000864-1742876100-1742880600@wvmuslim.org
SUMMARY:Ramadan Community Qiyam
DESCRIPTION:Join us for a spiritually uplifting night at our Ramadan Community Qiyam at Saratoga Musalla! The Qiyam will be held every day for the last 10 days of Ramadan\, starting Friday\, March 21st at 4:15 am. This is a beautiful opportunity to come together as a community in worship and reflection during the blessed last ten nights of Ramadan. RSVP at bit.ly/Saratoga-qiyam.
URL:https://wvmuslim.org/event/ramadan-community-qiyam/2025-03-25/
LOCATION:Saratoga Musalla\, 12370 Saratoga-Sunnyvale Rd.\,\, Saratoga\, CA\, 95070\, United States
ATTACH;FMTTYPE=image/jpeg:https://wvmuslim.org/wp-content/uploads/2025/03/qiyyam-wvma.jpeg
END:VEVENT
BEGIN:VEVENT
DTSTART;TZID=UTC:20250324T041500
DTEND;TZID=UTC:20250324T053000
DTSTAMP:20260422T031814
CREATED:20250323T133356Z
LAST-MODIFIED:20250323T133356Z
UID:10000863-1742789700-1742794200@wvmuslim.org
SUMMARY:Ramadan Community Qiyam
DESCRIPTION:Join us for a spiritually uplifting night at our Ramadan Community Qiyam at Saratoga Musalla! The Qiyam will be held every day for the last 10 days of Ramadan\, starting Friday\, March 21st at 4:15 am. This is a beautiful opportunity to come together as a community in worship and reflection during the blessed last ten nights of Ramadan. RSVP at bit.ly/Saratoga-qiyam.
URL:https://wvmuslim.org/event/ramadan-community-qiyam/2025-03-24/
LOCATION:Saratoga Musalla\, 12370 Saratoga-Sunnyvale Rd.\,\, Saratoga\, CA\, 95070\, United States
ATTACH;FMTTYPE=image/jpeg:https://wvmuslim.org/wp-content/uploads/2025/03/qiyyam-wvma.jpeg
END:VEVENT
BEGIN:VEVENT
DTSTART;TZID=UTC:20250323T041500
DTEND;TZID=UTC:20250323T053000
DTSTAMP:20260422T031814
CREATED:20250323T133356Z
LAST-MODIFIED:20250323T133356Z
UID:10000862-1742703300-1742707800@wvmuslim.org
SUMMARY:Ramadan Community Qiyam
DESCRIPTION:Join us for a spiritually uplifting night at our Ramadan Community Qiyam at Saratoga Musalla! The Qiyam will be held every day for the last 10 days of Ramadan\, starting Friday\, March 21st at 4:15 am. This is a beautiful opportunity to come together as a community in worship and reflection during the blessed last ten nights of Ramadan. RSVP at bit.ly/Saratoga-qiyam.
URL:https://wvmuslim.org/event/ramadan-community-qiyam/2025-03-23/
LOCATION:Saratoga Musalla\, 12370 Saratoga-Sunnyvale Rd.\,\, Saratoga\, CA\, 95070\, United States
ATTACH;FMTTYPE=image/jpeg:https://wvmuslim.org/wp-content/uploads/2025/03/qiyyam-wvma.jpeg
END:VEVENT
BEGIN:VEVENT
DTSTART;TZID=UTC:20250322T041500
DTEND;TZID=UTC:20250322T053000
DTSTAMP:20260422T031814
CREATED:20250323T133356Z
LAST-MODIFIED:20250323T133356Z
UID:10000861-1742616900-1742621400@wvmuslim.org
SUMMARY:Ramadan Community Qiyam
DESCRIPTION:Join us for a spiritually uplifting night at our Ramadan Community Qiyam at Saratoga Musalla! The Qiyam will be held every day for the last 10 days of Ramadan\, starting Friday\, March 21st at 4:15 am. This is a beautiful opportunity to come together as a community in worship and reflection during the blessed last ten nights of Ramadan. RSVP at bit.ly/Saratoga-qiyam.
URL:https://wvmuslim.org/event/ramadan-community-qiyam/2025-03-22/
LOCATION:Saratoga Musalla\, 12370 Saratoga-Sunnyvale Rd.\,\, Saratoga\, CA\, 95070\, United States
ATTACH;FMTTYPE=image/jpeg:https://wvmuslim.org/wp-content/uploads/2025/03/qiyyam-wvma.jpeg
END:VEVENT
BEGIN:VEVENT
DTSTART;TZID=UTC:20250321T041500
DTEND;TZID=UTC:20250321T053000
DTSTAMP:20260422T031814
CREATED:20250323T133356Z
LAST-MODIFIED:20250323T133356Z
UID:10000860-1742530500-1742535000@wvmuslim.org
SUMMARY:Ramadan Community Qiyam
DESCRIPTION:Join us for a spiritually uplifting night at our Ramadan Community Qiyam at Saratoga Musalla! The Qiyam will be held every day for the last 10 days of Ramadan\, starting Friday\, March 21st at 4:15 am. This is a beautiful opportunity to come together as a community in worship and reflection during the blessed last ten nights of Ramadan. RSVP at bit.ly/Saratoga-qiyam.
URL:https://wvmuslim.org/event/ramadan-community-qiyam/2025-03-21/
LOCATION:Saratoga Musalla\, 12370 Saratoga-Sunnyvale Rd.\,\, Saratoga\, CA\, 95070\, United States
ATTACH;FMTTYPE=image/jpeg:https://wvmuslim.org/wp-content/uploads/2025/03/qiyyam-wvma.jpeg
END:VEVENT
BEGIN:VEVENT
DTSTART;TZID=UTC:20250315T230000
DTEND;TZID=UTC:20250316T060000
DTSTAMP:20260422T031814
CREATED:20250310T180850Z
LAST-MODIFIED:20250310T180850Z
UID:10000856-1742079600-1742104800@wvmuslim.org
SUMMARY:College Qiyam
DESCRIPTION:We are pleased to announce this year’s College Qiyam with the theme “Reflecting on the Days of Mercy” featuring Dr. Heba El-Haddad and Imam AlBaraa. Join us on Saturday\, March 15th at Saratoga Musalla for a night of spiritual reflection\, worship\, and connection as we embrace the spirit of Ramadan. This is for college students but high schoolers are also welcomed to join! Suhoor will be provided. RSVP now: .
URL:https://wvmuslim.org/event/college-qiyam/
LOCATION:Saratoga Musalla\, 12370 Saratoga-Sunnyvale Rd.\,\, Saratoga\, CA\, 95070\, United States
CATEGORIES:Special Event
ATTACH;FMTTYPE=image/png:https://wvmuslim.org/wp-content/uploads/2025/03/colllege-qiyam-square.png
END:VEVENT
END:VCALENDAR