BEGIN:VCALENDAR
VERSION:2.0
PRODID:-// - ECPv6.15.20//NONSGML v1.0//EN
CALSCALE:GREGORIAN
METHOD:PUBLISH
X-ORIGINAL-URL:https://wvmuslim.org
X-WR-CALDESC:Events for 
REFRESH-INTERVAL;VALUE=DURATION:PT1H
X-Robots-Tag:noindex
X-PUBLISHED-TTL:PT1H
BEGIN:VTIMEZONE
TZID:America/Los_Angeles
BEGIN:DAYLIGHT
TZOFFSETFROM:-0800
TZOFFSETTO:-0700
TZNAME:PDT
DTSTART:20260308T100000
END:DAYLIGHT
BEGIN:STANDARD
TZOFFSETFROM:-0700
TZOFFSETTO:-0800
TZNAME:PST
DTSTART:20261101T090000
END:STANDARD
BEGIN:DAYLIGHT
TZOFFSETFROM:-0800
TZOFFSETTO:-0700
TZNAME:PDT
DTSTART:20270314T100000
END:DAYLIGHT
BEGIN:STANDARD
TZOFFSETFROM:-0700
TZOFFSETTO:-0800
TZNAME:PST
DTSTART:20271107T090000
END:STANDARD
BEGIN:DAYLIGHT
TZOFFSETFROM:-0800
TZOFFSETTO:-0700
TZNAME:PDT
DTSTART:20280312T100000
END:DAYLIGHT
BEGIN:STANDARD
TZOFFSETFROM:-0700
TZOFFSETTO:-0800
TZNAME:PST
DTSTART:20281105T090000
END:STANDARD
END:VTIMEZONE
BEGIN:VEVENT
DTSTART;TZID=America/Los_Angeles:20270305T104500
DTEND;TZID=America/Los_Angeles:20270305T233000
DTSTAMP:20260424T113846
CREATED:20250819T052026Z
LAST-MODIFIED:20250904T034125Z
UID:10005079-1804243500-1804289400@wvmuslim.org
SUMMARY:Journey Through the Quran
DESCRIPTION:Join WVMA and ICNA sisters every Friday from 11am-12pm for a halaqa at Saratoga Musalla. There’s no better time to renew your relationship to the Quran. Hope to see you there!
URL:https://wvmuslim.org/event/journey-through-the-quran/2027-03-05/
LOCATION:Saratoga Musalla\, 12370 Saratoga-Sunnyvale Rd.\,\, Saratoga\, CA\, 95070\, United States
ATTACH;FMTTYPE=image/png:https://wvmuslim.org/wp-content/uploads/2025/08/Journey-with-the-Quran-1920-x-1080-px.png
ORGANIZER;CN="West Valley Muslim Association":MAILTO:info@wvmuslim.org
END:VEVENT
BEGIN:VEVENT
DTSTART;TZID=America/Los_Angeles:20270310T210000
DTEND;TZID=America/Los_Angeles:20270310T213000
DTSTAMP:20260424T113846
CREATED:20260415T191438Z
LAST-MODIFIED:20260415T191440Z
UID:10018094-1804712400-1804714200@wvmuslim.org
SUMMARY:The Day of Judgement with Imam Tahir
DESCRIPTION:Join us at Saratoga Musalla for a new biweekly series with Imam Tahir on the Day of Judgement\, where every soul will stand and every deed will be known. Khateeras will take place every other Wednesday after Isha\, starting April 22nd.
URL:https://wvmuslim.org/event/the-day-of-judgement-with-imam-tahir/2027-03-10/
LOCATION:Saratoga Musalla\, 12370 Saratoga-Sunnyvale Rd.\,\, Saratoga\, CA\, 95070\, United States
ATTACH;FMTTYPE=image/png:https://wvmuslim.org/wp-content/uploads/2026/04/imamtahir.png
END:VEVENT
BEGIN:VEVENT
DTSTART;TZID=America/Los_Angeles:20270312T104500
DTEND;TZID=America/Los_Angeles:20270312T233000
DTSTAMP:20260424T113846
CREATED:20250819T052026Z
LAST-MODIFIED:20250904T034125Z
UID:10005080-1804848300-1804894200@wvmuslim.org
SUMMARY:Journey Through the Quran
DESCRIPTION:Join WVMA and ICNA sisters every Friday from 11am-12pm for a halaqa at Saratoga Musalla. There’s no better time to renew your relationship to the Quran. Hope to see you there!
URL:https://wvmuslim.org/event/journey-through-the-quran/2027-03-12/
LOCATION:Saratoga Musalla\, 12370 Saratoga-Sunnyvale Rd.\,\, Saratoga\, CA\, 95070\, United States
ATTACH;FMTTYPE=image/png:https://wvmuslim.org/wp-content/uploads/2025/08/Journey-with-the-Quran-1920-x-1080-px.png
ORGANIZER;CN="West Valley Muslim Association":MAILTO:info@wvmuslim.org
END:VEVENT
BEGIN:VEVENT
DTSTART;TZID=America/Los_Angeles:20270317T210000
DTEND;TZID=America/Los_Angeles:20270317T214500
DTSTAMP:20260424T113846
CREATED:20260416T044007Z
LAST-MODIFIED:20260416T044009Z
UID:10018486-1805317200-1805319900@wvmuslim.org
SUMMARY:Reflections from the Short Surahs
DESCRIPTION:
URL:https://wvmuslim.org/event/reflections-from-the-short-surahs/2027-03-17/
LOCATION:Saratoga Musalla\, 12370 Saratoga-Sunnyvale Rd.\,\, Saratoga\, CA\, 95070\, United States
ATTACH;FMTTYPE=image/png:https://wvmuslim.org/wp-content/uploads/2026/04/Short-Surah-Sami-Hilali.png
END:VEVENT
BEGIN:VEVENT
DTSTART;TZID=America/Los_Angeles:20270319T104500
DTEND;TZID=America/Los_Angeles:20270319T233000
DTSTAMP:20260424T113846
CREATED:20250819T052026Z
LAST-MODIFIED:20250904T034125Z
UID:10005081-1805453100-1805499000@wvmuslim.org
SUMMARY:Journey Through the Quran
DESCRIPTION:Join WVMA and ICNA sisters every Friday from 11am-12pm for a halaqa at Saratoga Musalla. There’s no better time to renew your relationship to the Quran. Hope to see you there!
URL:https://wvmuslim.org/event/journey-through-the-quran/2027-03-19/
LOCATION:Saratoga Musalla\, 12370 Saratoga-Sunnyvale Rd.\,\, Saratoga\, CA\, 95070\, United States
ATTACH;FMTTYPE=image/png:https://wvmuslim.org/wp-content/uploads/2025/08/Journey-with-the-Quran-1920-x-1080-px.png
ORGANIZER;CN="West Valley Muslim Association":MAILTO:info@wvmuslim.org
END:VEVENT
BEGIN:VEVENT
DTSTART;TZID=America/Los_Angeles:20270324T210000
DTEND;TZID=America/Los_Angeles:20270324T213000
DTSTAMP:20260424T113846
CREATED:20260415T191438Z
LAST-MODIFIED:20260415T191440Z
UID:10018095-1805922000-1805923800@wvmuslim.org
SUMMARY:The Day of Judgement with Imam Tahir
DESCRIPTION:Join us at Saratoga Musalla for a new biweekly series with Imam Tahir on the Day of Judgement\, where every soul will stand and every deed will be known. Khateeras will take place every other Wednesday after Isha\, starting April 22nd.
URL:https://wvmuslim.org/event/the-day-of-judgement-with-imam-tahir/2027-03-24/
LOCATION:Saratoga Musalla\, 12370 Saratoga-Sunnyvale Rd.\,\, Saratoga\, CA\, 95070\, United States
ATTACH;FMTTYPE=image/png:https://wvmuslim.org/wp-content/uploads/2026/04/imamtahir.png
END:VEVENT
BEGIN:VEVENT
DTSTART;TZID=America/Los_Angeles:20270326T104500
DTEND;TZID=America/Los_Angeles:20270326T233000
DTSTAMP:20260424T113846
CREATED:20250819T052026Z
LAST-MODIFIED:20250904T034125Z
UID:10005082-1806057900-1806103800@wvmuslim.org
SUMMARY:Journey Through the Quran
DESCRIPTION:Join WVMA and ICNA sisters every Friday from 11am-12pm for a halaqa at Saratoga Musalla. There’s no better time to renew your relationship to the Quran. Hope to see you there!
URL:https://wvmuslim.org/event/journey-through-the-quran/2027-03-26/
LOCATION:Saratoga Musalla\, 12370 Saratoga-Sunnyvale Rd.\,\, Saratoga\, CA\, 95070\, United States
ATTACH;FMTTYPE=image/png:https://wvmuslim.org/wp-content/uploads/2025/08/Journey-with-the-Quran-1920-x-1080-px.png
ORGANIZER;CN="West Valley Muslim Association":MAILTO:info@wvmuslim.org
END:VEVENT
BEGIN:VEVENT
DTSTART;TZID=America/Los_Angeles:20270331T210000
DTEND;TZID=America/Los_Angeles:20270331T214500
DTSTAMP:20260424T113846
CREATED:20260416T044007Z
LAST-MODIFIED:20260416T044009Z
UID:10018487-1806526800-1806529500@wvmuslim.org
SUMMARY:Reflections from the Short Surahs
DESCRIPTION:
URL:https://wvmuslim.org/event/reflections-from-the-short-surahs/2027-03-31/
LOCATION:Saratoga Musalla\, 12370 Saratoga-Sunnyvale Rd.\,\, Saratoga\, CA\, 95070\, United States
ATTACH;FMTTYPE=image/png:https://wvmuslim.org/wp-content/uploads/2026/04/Short-Surah-Sami-Hilali.png
END:VEVENT
BEGIN:VEVENT
DTSTART;TZID=America/Los_Angeles:20270402T104500
DTEND;TZID=America/Los_Angeles:20270402T233000
DTSTAMP:20260424T113846
CREATED:20250819T052026Z
LAST-MODIFIED:20250904T034125Z
UID:10005083-1806662700-1806708600@wvmuslim.org
SUMMARY:Journey Through the Quran
DESCRIPTION:Join WVMA and ICNA sisters every Friday from 11am-12pm for a halaqa at Saratoga Musalla. There’s no better time to renew your relationship to the Quran. Hope to see you there!
URL:https://wvmuslim.org/event/journey-through-the-quran/2027-04-02/
LOCATION:Saratoga Musalla\, 12370 Saratoga-Sunnyvale Rd.\,\, Saratoga\, CA\, 95070\, United States
ATTACH;FMTTYPE=image/png:https://wvmuslim.org/wp-content/uploads/2025/08/Journey-with-the-Quran-1920-x-1080-px.png
ORGANIZER;CN="West Valley Muslim Association":MAILTO:info@wvmuslim.org
END:VEVENT
BEGIN:VEVENT
DTSTART;TZID=America/Los_Angeles:20270407T210000
DTEND;TZID=America/Los_Angeles:20270407T213000
DTSTAMP:20260424T113846
CREATED:20260415T191438Z
LAST-MODIFIED:20260415T191440Z
UID:10018096-1807131600-1807133400@wvmuslim.org
SUMMARY:The Day of Judgement with Imam Tahir
DESCRIPTION:Join us at Saratoga Musalla for a new biweekly series with Imam Tahir on the Day of Judgement\, where every soul will stand and every deed will be known. Khateeras will take place every other Wednesday after Isha\, starting April 22nd.
URL:https://wvmuslim.org/event/the-day-of-judgement-with-imam-tahir/2027-04-07/
LOCATION:Saratoga Musalla\, 12370 Saratoga-Sunnyvale Rd.\,\, Saratoga\, CA\, 95070\, United States
ATTACH;FMTTYPE=image/png:https://wvmuslim.org/wp-content/uploads/2026/04/imamtahir.png
END:VEVENT
BEGIN:VEVENT
DTSTART;TZID=America/Los_Angeles:20270409T104500
DTEND;TZID=America/Los_Angeles:20270409T233000
DTSTAMP:20260424T113846
CREATED:20250819T052026Z
LAST-MODIFIED:20250904T034125Z
UID:10005084-1807267500-1807313400@wvmuslim.org
SUMMARY:Journey Through the Quran
DESCRIPTION:Join WVMA and ICNA sisters every Friday from 11am-12pm for a halaqa at Saratoga Musalla. There’s no better time to renew your relationship to the Quran. Hope to see you there!
URL:https://wvmuslim.org/event/journey-through-the-quran/2027-04-09/
LOCATION:Saratoga Musalla\, 12370 Saratoga-Sunnyvale Rd.\,\, Saratoga\, CA\, 95070\, United States
ATTACH;FMTTYPE=image/png:https://wvmuslim.org/wp-content/uploads/2025/08/Journey-with-the-Quran-1920-x-1080-px.png
ORGANIZER;CN="West Valley Muslim Association":MAILTO:info@wvmuslim.org
END:VEVENT
BEGIN:VEVENT
DTSTART;TZID=America/Los_Angeles:20270414T210000
DTEND;TZID=America/Los_Angeles:20270414T214500
DTSTAMP:20260424T113846
CREATED:20260416T044007Z
LAST-MODIFIED:20260416T044009Z
UID:10018488-1807736400-1807739100@wvmuslim.org
SUMMARY:Reflections from the Short Surahs
DESCRIPTION:
URL:https://wvmuslim.org/event/reflections-from-the-short-surahs/2027-04-14/
LOCATION:Saratoga Musalla\, 12370 Saratoga-Sunnyvale Rd.\,\, Saratoga\, CA\, 95070\, United States
ATTACH;FMTTYPE=image/png:https://wvmuslim.org/wp-content/uploads/2026/04/Short-Surah-Sami-Hilali.png
END:VEVENT
BEGIN:VEVENT
DTSTART;TZID=America/Los_Angeles:20270416T104500
DTEND;TZID=America/Los_Angeles:20270416T233000
DTSTAMP:20260424T113846
CREATED:20250819T052026Z
LAST-MODIFIED:20250904T034125Z
UID:10005085-1807872300-1807918200@wvmuslim.org
SUMMARY:Journey Through the Quran
DESCRIPTION:Join WVMA and ICNA sisters every Friday from 11am-12pm for a halaqa at Saratoga Musalla. There’s no better time to renew your relationship to the Quran. Hope to see you there!
URL:https://wvmuslim.org/event/journey-through-the-quran/2027-04-16/
LOCATION:Saratoga Musalla\, 12370 Saratoga-Sunnyvale Rd.\,\, Saratoga\, CA\, 95070\, United States
ATTACH;FMTTYPE=image/png:https://wvmuslim.org/wp-content/uploads/2025/08/Journey-with-the-Quran-1920-x-1080-px.png
ORGANIZER;CN="West Valley Muslim Association":MAILTO:info@wvmuslim.org
END:VEVENT
BEGIN:VEVENT
DTSTART;TZID=America/Los_Angeles:20270421T210000
DTEND;TZID=America/Los_Angeles:20270421T213000
DTSTAMP:20260424T113846
CREATED:20260415T191438Z
LAST-MODIFIED:20260415T191440Z
UID:10018097-1808341200-1808343000@wvmuslim.org
SUMMARY:The Day of Judgement with Imam Tahir
DESCRIPTION:Join us at Saratoga Musalla for a new biweekly series with Imam Tahir on the Day of Judgement\, where every soul will stand and every deed will be known. Khateeras will take place every other Wednesday after Isha\, starting April 22nd.
URL:https://wvmuslim.org/event/the-day-of-judgement-with-imam-tahir/2027-04-21/
LOCATION:Saratoga Musalla\, 12370 Saratoga-Sunnyvale Rd.\,\, Saratoga\, CA\, 95070\, United States
ATTACH;FMTTYPE=image/png:https://wvmuslim.org/wp-content/uploads/2026/04/imamtahir.png
END:VEVENT
BEGIN:VEVENT
DTSTART;TZID=America/Los_Angeles:20270423T104500
DTEND;TZID=America/Los_Angeles:20270423T233000
DTSTAMP:20260424T113846
CREATED:20250819T052026Z
LAST-MODIFIED:20250904T034125Z
UID:10005086-1808477100-1808523000@wvmuslim.org
SUMMARY:Journey Through the Quran
DESCRIPTION:Join WVMA and ICNA sisters every Friday from 11am-12pm for a halaqa at Saratoga Musalla. There’s no better time to renew your relationship to the Quran. Hope to see you there!
URL:https://wvmuslim.org/event/journey-through-the-quran/2027-04-23/
LOCATION:Saratoga Musalla\, 12370 Saratoga-Sunnyvale Rd.\,\, Saratoga\, CA\, 95070\, United States
ATTACH;FMTTYPE=image/png:https://wvmuslim.org/wp-content/uploads/2025/08/Journey-with-the-Quran-1920-x-1080-px.png
ORGANIZER;CN="West Valley Muslim Association":MAILTO:info@wvmuslim.org
END:VEVENT
BEGIN:VEVENT
DTSTART;TZID=America/Los_Angeles:20270428T210000
DTEND;TZID=America/Los_Angeles:20270428T214500
DTSTAMP:20260424T113846
CREATED:20260416T044007Z
LAST-MODIFIED:20260416T044009Z
UID:10018489-1808946000-1808948700@wvmuslim.org
SUMMARY:Reflections from the Short Surahs
DESCRIPTION:
URL:https://wvmuslim.org/event/reflections-from-the-short-surahs/2027-04-28/
LOCATION:Saratoga Musalla\, 12370 Saratoga-Sunnyvale Rd.\,\, Saratoga\, CA\, 95070\, United States
ATTACH;FMTTYPE=image/png:https://wvmuslim.org/wp-content/uploads/2026/04/Short-Surah-Sami-Hilali.png
END:VEVENT
BEGIN:VEVENT
DTSTART;TZID=America/Los_Angeles:20270430T104500
DTEND;TZID=America/Los_Angeles:20270430T233000
DTSTAMP:20260424T113846
CREATED:20250819T052026Z
LAST-MODIFIED:20250904T034125Z
UID:10005087-1809081900-1809127800@wvmuslim.org
SUMMARY:Journey Through the Quran
DESCRIPTION:Join WVMA and ICNA sisters every Friday from 11am-12pm for a halaqa at Saratoga Musalla. There’s no better time to renew your relationship to the Quran. Hope to see you there!
URL:https://wvmuslim.org/event/journey-through-the-quran/2027-04-30/
LOCATION:Saratoga Musalla\, 12370 Saratoga-Sunnyvale Rd.\,\, Saratoga\, CA\, 95070\, United States
ATTACH;FMTTYPE=image/png:https://wvmuslim.org/wp-content/uploads/2025/08/Journey-with-the-Quran-1920-x-1080-px.png
ORGANIZER;CN="West Valley Muslim Association":MAILTO:info@wvmuslim.org
END:VEVENT
BEGIN:VEVENT
DTSTART;TZID=America/Los_Angeles:20270505T210000
DTEND;TZID=America/Los_Angeles:20270505T213000
DTSTAMP:20260424T113846
CREATED:20260415T191438Z
LAST-MODIFIED:20260415T191440Z
UID:10018098-1809550800-1809552600@wvmuslim.org
SUMMARY:The Day of Judgement with Imam Tahir
DESCRIPTION:Join us at Saratoga Musalla for a new biweekly series with Imam Tahir on the Day of Judgement\, where every soul will stand and every deed will be known. Khateeras will take place every other Wednesday after Isha\, starting April 22nd.
URL:https://wvmuslim.org/event/the-day-of-judgement-with-imam-tahir/2027-05-05/
LOCATION:Saratoga Musalla\, 12370 Saratoga-Sunnyvale Rd.\,\, Saratoga\, CA\, 95070\, United States
ATTACH;FMTTYPE=image/png:https://wvmuslim.org/wp-content/uploads/2026/04/imamtahir.png
END:VEVENT
BEGIN:VEVENT
DTSTART;TZID=America/Los_Angeles:20270507T104500
DTEND;TZID=America/Los_Angeles:20270507T233000
DTSTAMP:20260424T113846
CREATED:20250819T052026Z
LAST-MODIFIED:20250904T034125Z
UID:10005088-1809686700-1809732600@wvmuslim.org
SUMMARY:Journey Through the Quran
DESCRIPTION:Join WVMA and ICNA sisters every Friday from 11am-12pm for a halaqa at Saratoga Musalla. There’s no better time to renew your relationship to the Quran. Hope to see you there!
URL:https://wvmuslim.org/event/journey-through-the-quran/2027-05-07/
LOCATION:Saratoga Musalla\, 12370 Saratoga-Sunnyvale Rd.\,\, Saratoga\, CA\, 95070\, United States
ATTACH;FMTTYPE=image/png:https://wvmuslim.org/wp-content/uploads/2025/08/Journey-with-the-Quran-1920-x-1080-px.png
ORGANIZER;CN="West Valley Muslim Association":MAILTO:info@wvmuslim.org
END:VEVENT
BEGIN:VEVENT
DTSTART;TZID=America/Los_Angeles:20270512T210000
DTEND;TZID=America/Los_Angeles:20270512T214500
DTSTAMP:20260424T113846
CREATED:20260416T044007Z
LAST-MODIFIED:20260416T044009Z
UID:10018490-1810155600-1810158300@wvmuslim.org
SUMMARY:Reflections from the Short Surahs
DESCRIPTION:
URL:https://wvmuslim.org/event/reflections-from-the-short-surahs/2027-05-12/
LOCATION:Saratoga Musalla\, 12370 Saratoga-Sunnyvale Rd.\,\, Saratoga\, CA\, 95070\, United States
ATTACH;FMTTYPE=image/png:https://wvmuslim.org/wp-content/uploads/2026/04/Short-Surah-Sami-Hilali.png
END:VEVENT
BEGIN:VEVENT
DTSTART;TZID=America/Los_Angeles:20270514T104500
DTEND;TZID=America/Los_Angeles:20270514T233000
DTSTAMP:20260424T113846
CREATED:20250819T052026Z
LAST-MODIFIED:20250904T034125Z
UID:10005089-1810291500-1810337400@wvmuslim.org
SUMMARY:Journey Through the Quran
DESCRIPTION:Join WVMA and ICNA sisters every Friday from 11am-12pm for a halaqa at Saratoga Musalla. There’s no better time to renew your relationship to the Quran. Hope to see you there!
URL:https://wvmuslim.org/event/journey-through-the-quran/2027-05-14/
LOCATION:Saratoga Musalla\, 12370 Saratoga-Sunnyvale Rd.\,\, Saratoga\, CA\, 95070\, United States
ATTACH;FMTTYPE=image/png:https://wvmuslim.org/wp-content/uploads/2025/08/Journey-with-the-Quran-1920-x-1080-px.png
ORGANIZER;CN="West Valley Muslim Association":MAILTO:info@wvmuslim.org
END:VEVENT
BEGIN:VEVENT
DTSTART;TZID=America/Los_Angeles:20270519T210000
DTEND;TZID=America/Los_Angeles:20270519T213000
DTSTAMP:20260424T113846
CREATED:20260415T191438Z
LAST-MODIFIED:20260415T191440Z
UID:10018099-1810760400-1810762200@wvmuslim.org
SUMMARY:The Day of Judgement with Imam Tahir
DESCRIPTION:Join us at Saratoga Musalla for a new biweekly series with Imam Tahir on the Day of Judgement\, where every soul will stand and every deed will be known. Khateeras will take place every other Wednesday after Isha\, starting April 22nd.
URL:https://wvmuslim.org/event/the-day-of-judgement-with-imam-tahir/2027-05-19/
LOCATION:Saratoga Musalla\, 12370 Saratoga-Sunnyvale Rd.\,\, Saratoga\, CA\, 95070\, United States
ATTACH;FMTTYPE=image/png:https://wvmuslim.org/wp-content/uploads/2026/04/imamtahir.png
END:VEVENT
BEGIN:VEVENT
DTSTART;TZID=America/Los_Angeles:20270521T104500
DTEND;TZID=America/Los_Angeles:20270521T233000
DTSTAMP:20260424T113846
CREATED:20250819T052026Z
LAST-MODIFIED:20250904T034125Z
UID:10005090-1810896300-1810942200@wvmuslim.org
SUMMARY:Journey Through the Quran
DESCRIPTION:Join WVMA and ICNA sisters every Friday from 11am-12pm for a halaqa at Saratoga Musalla. There’s no better time to renew your relationship to the Quran. Hope to see you there!
URL:https://wvmuslim.org/event/journey-through-the-quran/2027-05-21/
LOCATION:Saratoga Musalla\, 12370 Saratoga-Sunnyvale Rd.\,\, Saratoga\, CA\, 95070\, United States
ATTACH;FMTTYPE=image/png:https://wvmuslim.org/wp-content/uploads/2025/08/Journey-with-the-Quran-1920-x-1080-px.png
ORGANIZER;CN="West Valley Muslim Association":MAILTO:info@wvmuslim.org
END:VEVENT
BEGIN:VEVENT
DTSTART;TZID=America/Los_Angeles:20270526T210000
DTEND;TZID=America/Los_Angeles:20270526T214500
DTSTAMP:20260424T113846
CREATED:20260416T044007Z
LAST-MODIFIED:20260416T044009Z
UID:10018491-1811365200-1811367900@wvmuslim.org
SUMMARY:Reflections from the Short Surahs
DESCRIPTION:
URL:https://wvmuslim.org/event/reflections-from-the-short-surahs/2027-05-26/
LOCATION:Saratoga Musalla\, 12370 Saratoga-Sunnyvale Rd.\,\, Saratoga\, CA\, 95070\, United States
ATTACH;FMTTYPE=image/png:https://wvmuslim.org/wp-content/uploads/2026/04/Short-Surah-Sami-Hilali.png
END:VEVENT
BEGIN:VEVENT
DTSTART;TZID=America/Los_Angeles:20270528T104500
DTEND;TZID=America/Los_Angeles:20270528T233000
DTSTAMP:20260424T113846
CREATED:20250819T052026Z
LAST-MODIFIED:20250904T034125Z
UID:10005091-1811501100-1811547000@wvmuslim.org
SUMMARY:Journey Through the Quran
DESCRIPTION:Join WVMA and ICNA sisters every Friday from 11am-12pm for a halaqa at Saratoga Musalla. There’s no better time to renew your relationship to the Quran. Hope to see you there!
URL:https://wvmuslim.org/event/journey-through-the-quran/2027-05-28/
LOCATION:Saratoga Musalla\, 12370 Saratoga-Sunnyvale Rd.\,\, Saratoga\, CA\, 95070\, United States
ATTACH;FMTTYPE=image/png:https://wvmuslim.org/wp-content/uploads/2025/08/Journey-with-the-Quran-1920-x-1080-px.png
ORGANIZER;CN="West Valley Muslim Association":MAILTO:info@wvmuslim.org
END:VEVENT
BEGIN:VEVENT
DTSTART;TZID=America/Los_Angeles:20270602T210000
DTEND;TZID=America/Los_Angeles:20270602T213000
DTSTAMP:20260424T113846
CREATED:20260415T191438Z
LAST-MODIFIED:20260415T191440Z
UID:10018100-1811970000-1811971800@wvmuslim.org
SUMMARY:The Day of Judgement with Imam Tahir
DESCRIPTION:Join us at Saratoga Musalla for a new biweekly series with Imam Tahir on the Day of Judgement\, where every soul will stand and every deed will be known. Khateeras will take place every other Wednesday after Isha\, starting April 22nd.
URL:https://wvmuslim.org/event/the-day-of-judgement-with-imam-tahir/2027-06-02/
LOCATION:Saratoga Musalla\, 12370 Saratoga-Sunnyvale Rd.\,\, Saratoga\, CA\, 95070\, United States
ATTACH;FMTTYPE=image/png:https://wvmuslim.org/wp-content/uploads/2026/04/imamtahir.png
END:VEVENT
BEGIN:VEVENT
DTSTART;TZID=America/Los_Angeles:20270604T104500
DTEND;TZID=America/Los_Angeles:20270604T233000
DTSTAMP:20260424T113846
CREATED:20250819T052026Z
LAST-MODIFIED:20250904T034125Z
UID:10005092-1812105900-1812151800@wvmuslim.org
SUMMARY:Journey Through the Quran
DESCRIPTION:Join WVMA and ICNA sisters every Friday from 11am-12pm for a halaqa at Saratoga Musalla. There’s no better time to renew your relationship to the Quran. Hope to see you there!
URL:https://wvmuslim.org/event/journey-through-the-quran/2027-06-04/
LOCATION:Saratoga Musalla\, 12370 Saratoga-Sunnyvale Rd.\,\, Saratoga\, CA\, 95070\, United States
ATTACH;FMTTYPE=image/png:https://wvmuslim.org/wp-content/uploads/2025/08/Journey-with-the-Quran-1920-x-1080-px.png
ORGANIZER;CN="West Valley Muslim Association":MAILTO:info@wvmuslim.org
END:VEVENT
BEGIN:VEVENT
DTSTART;TZID=America/Los_Angeles:20270609T210000
DTEND;TZID=America/Los_Angeles:20270609T214500
DTSTAMP:20260424T113846
CREATED:20260416T044007Z
LAST-MODIFIED:20260416T044009Z
UID:10018492-1812574800-1812577500@wvmuslim.org
SUMMARY:Reflections from the Short Surahs
DESCRIPTION:
URL:https://wvmuslim.org/event/reflections-from-the-short-surahs/2027-06-09/
LOCATION:Saratoga Musalla\, 12370 Saratoga-Sunnyvale Rd.\,\, Saratoga\, CA\, 95070\, United States
ATTACH;FMTTYPE=image/png:https://wvmuslim.org/wp-content/uploads/2026/04/Short-Surah-Sami-Hilali.png
END:VEVENT
BEGIN:VEVENT
DTSTART;TZID=America/Los_Angeles:20270611T104500
DTEND;TZID=America/Los_Angeles:20270611T233000
DTSTAMP:20260424T113846
CREATED:20250819T052026Z
LAST-MODIFIED:20250904T034125Z
UID:10005093-1812710700-1812756600@wvmuslim.org
SUMMARY:Journey Through the Quran
DESCRIPTION:Join WVMA and ICNA sisters every Friday from 11am-12pm for a halaqa at Saratoga Musalla. There’s no better time to renew your relationship to the Quran. Hope to see you there!
URL:https://wvmuslim.org/event/journey-through-the-quran/2027-06-11/
LOCATION:Saratoga Musalla\, 12370 Saratoga-Sunnyvale Rd.\,\, Saratoga\, CA\, 95070\, United States
ATTACH;FMTTYPE=image/png:https://wvmuslim.org/wp-content/uploads/2025/08/Journey-with-the-Quran-1920-x-1080-px.png
ORGANIZER;CN="West Valley Muslim Association":MAILTO:info@wvmuslim.org
END:VEVENT
BEGIN:VEVENT
DTSTART;TZID=America/Los_Angeles:20270616T210000
DTEND;TZID=America/Los_Angeles:20270616T213000
DTSTAMP:20260424T113846
CREATED:20260415T191438Z
LAST-MODIFIED:20260415T191440Z
UID:10018101-1813179600-1813181400@wvmuslim.org
SUMMARY:The Day of Judgement with Imam Tahir
DESCRIPTION:Join us at Saratoga Musalla for a new biweekly series with Imam Tahir on the Day of Judgement\, where every soul will stand and every deed will be known. Khateeras will take place every other Wednesday after Isha\, starting April 22nd.
URL:https://wvmuslim.org/event/the-day-of-judgement-with-imam-tahir/2027-06-16/
LOCATION:Saratoga Musalla\, 12370 Saratoga-Sunnyvale Rd.\,\, Saratoga\, CA\, 95070\, United States
ATTACH;FMTTYPE=image/png:https://wvmuslim.org/wp-content/uploads/2026/04/imamtahir.png
END:VEVENT
END:VCALENDAR