BEGIN:VCALENDAR
VERSION:2.0
PRODID:-// - ECPv6.15.20//NONSGML v1.0//EN
CALSCALE:GREGORIAN
METHOD:PUBLISH
X-ORIGINAL-URL:https://wvmuslim.org
X-WR-CALDESC:Events for 
REFRESH-INTERVAL;VALUE=DURATION:PT1H
X-Robots-Tag:noindex
X-PUBLISHED-TTL:PT1H
BEGIN:VTIMEZONE
TZID:America/Los_Angeles
BEGIN:DAYLIGHT
TZOFFSETFROM:-0800
TZOFFSETTO:-0700
TZNAME:PDT
DTSTART:20240310T100000
END:DAYLIGHT
BEGIN:STANDARD
TZOFFSETFROM:-0700
TZOFFSETTO:-0800
TZNAME:PST
DTSTART:20241103T090000
END:STANDARD
BEGIN:DAYLIGHT
TZOFFSETFROM:-0800
TZOFFSETTO:-0700
TZNAME:PDT
DTSTART:20250309T100000
END:DAYLIGHT
BEGIN:STANDARD
TZOFFSETFROM:-0700
TZOFFSETTO:-0800
TZNAME:PST
DTSTART:20251102T090000
END:STANDARD
BEGIN:DAYLIGHT
TZOFFSETFROM:-0800
TZOFFSETTO:-0700
TZNAME:PDT
DTSTART:20260308T100000
END:DAYLIGHT
BEGIN:STANDARD
TZOFFSETFROM:-0700
TZOFFSETTO:-0800
TZNAME:PST
DTSTART:20261101T090000
END:STANDARD
BEGIN:DAYLIGHT
TZOFFSETFROM:-0800
TZOFFSETTO:-0700
TZNAME:PDT
DTSTART:20270314T100000
END:DAYLIGHT
BEGIN:STANDARD
TZOFFSETFROM:-0700
TZOFFSETTO:-0800
TZNAME:PST
DTSTART:20271107T090000
END:STANDARD
END:VTIMEZONE
BEGIN:VEVENT
DTSTART;TZID=America/Los_Angeles:20260201T200000
DTEND;TZID=America/Los_Angeles:20260201T203000
DTSTAMP:20260421T085057
CREATED:20251014T171632Z
LAST-MODIFIED:20251014T171647Z
UID:10012204-1769976000-1769977800@wvmuslim.org
SUMMARY:Tafseer Surah Al Mulk
DESCRIPTION:Starting this Sunday\, October 12\, join us after Isha at Saratoga Musalla for the Tafseer of Surah Al Mulk with Mufti Saad Khan. \nThis powerful surah protects and elevates those who recite it—don’t miss the chance to reflect on its timeless lessons.
URL:https://wvmuslim.org/event/tafseer-surah-al-mulk/2026-02-01/
LOCATION:Saratoga Musalla\, 12370 Saratoga-Sunnyvale Rd.\,\, Saratoga\, CA\, 95070\, United States
ATTACH;FMTTYPE=image/png:https://wvmuslim.org/wp-content/uploads/2025/10/Tafseer-surah-Al-mulk-1920-x-1080-px.png
ORGANIZER;CN="West Valley Muslim Association":MAILTO:info@wvmuslim.org
END:VEVENT
BEGIN:VEVENT
DTSTART;TZID=America/Los_Angeles:20260130T104500
DTEND;TZID=America/Los_Angeles:20260130T233000
DTSTAMP:20260421T085057
CREATED:20250819T052026Z
LAST-MODIFIED:20250904T034125Z
UID:10005022-1769769900-1769815800@wvmuslim.org
SUMMARY:Journey Through the Quran
DESCRIPTION:Join WVMA and ICNA sisters every Friday from 11am-12pm for a halaqa at Saratoga Musalla. There’s no better time to renew your relationship to the Quran. Hope to see you there!
URL:https://wvmuslim.org/event/journey-through-the-quran/2026-01-30/
LOCATION:Saratoga Musalla\, 12370 Saratoga-Sunnyvale Rd.\,\, Saratoga\, CA\, 95070\, United States
ATTACH;FMTTYPE=image/png:https://wvmuslim.org/wp-content/uploads/2025/08/Journey-with-the-Quran-1920-x-1080-px.png
ORGANIZER;CN="West Valley Muslim Association":MAILTO:info@wvmuslim.org
END:VEVENT
BEGIN:VEVENT
DTSTART;TZID=America/Los_Angeles:20260128T200000
DTEND;TZID=America/Los_Angeles:20260128T203000
DTSTAMP:20260421T085057
CREATED:20251015T233340Z
LAST-MODIFIED:20251015T233340Z
UID:10012471-1769630400-1769632200@wvmuslim.org
SUMMARY:The 40 Hadith of Imam Al Nawawi with Imam Tahir
DESCRIPTION:Join us at Saratoga Musalla for a new biweekly series with Imam Tahir on the 40 Hadith of Imam al-Nawawi — a timeless collection of foundational teachings. Khateeras will take place every other Wednesday after Isha\, starting August 6th. Come reflect\, learn\, and grow together in community.
URL:https://wvmuslim.org/event/the-40-hadith-of-imam-al-nawawi-with-imam-tahir-2-2-2/2026-01-28/
LOCATION:Saratoga Musalla\, 12370 Saratoga-Sunnyvale Rd.\,\, Saratoga\, CA\, 95070\, United States
ATTACH;FMTTYPE=image/png:https://wvmuslim.org/wp-content/uploads/2025/06/Reflections-from-Seerah-1920-x-1080-px.png
ORGANIZER;CN="West Valley Muslim Association":MAILTO:info@wvmuslim.org
END:VEVENT
BEGIN:VEVENT
DTSTART;TZID=America/Los_Angeles:20260125T200000
DTEND;TZID=America/Los_Angeles:20260125T203000
DTSTAMP:20260421T085057
CREATED:20251014T171632Z
LAST-MODIFIED:20251014T171647Z
UID:10012203-1769371200-1769373000@wvmuslim.org
SUMMARY:Tafseer Surah Al Mulk
DESCRIPTION:Starting this Sunday\, October 12\, join us after Isha at Saratoga Musalla for the Tafseer of Surah Al Mulk with Mufti Saad Khan. \nThis powerful surah protects and elevates those who recite it—don’t miss the chance to reflect on its timeless lessons.
URL:https://wvmuslim.org/event/tafseer-surah-al-mulk/2026-01-25/
LOCATION:Saratoga Musalla\, 12370 Saratoga-Sunnyvale Rd.\,\, Saratoga\, CA\, 95070\, United States
ATTACH;FMTTYPE=image/png:https://wvmuslim.org/wp-content/uploads/2025/10/Tafseer-surah-Al-mulk-1920-x-1080-px.png
ORGANIZER;CN="West Valley Muslim Association":MAILTO:info@wvmuslim.org
END:VEVENT
BEGIN:VEVENT
DTSTART;TZID=America/Los_Angeles:20260123T104500
DTEND;TZID=America/Los_Angeles:20260123T233000
DTSTAMP:20260421T085057
CREATED:20250819T052026Z
LAST-MODIFIED:20250904T034125Z
UID:10005021-1769165100-1769211000@wvmuslim.org
SUMMARY:Journey Through the Quran
DESCRIPTION:Join WVMA and ICNA sisters every Friday from 11am-12pm for a halaqa at Saratoga Musalla. There’s no better time to renew your relationship to the Quran. Hope to see you there!
URL:https://wvmuslim.org/event/journey-through-the-quran/2026-01-23/
LOCATION:Saratoga Musalla\, 12370 Saratoga-Sunnyvale Rd.\,\, Saratoga\, CA\, 95070\, United States
ATTACH;FMTTYPE=image/png:https://wvmuslim.org/wp-content/uploads/2025/08/Journey-with-the-Quran-1920-x-1080-px.png
ORGANIZER;CN="West Valley Muslim Association":MAILTO:info@wvmuslim.org
END:VEVENT
BEGIN:VEVENT
DTSTART;TZID=America/Los_Angeles:20260121T200000
DTEND;TZID=America/Los_Angeles:20260121T203000
DTSTAMP:20260421T085057
CREATED:20251016T014839Z
LAST-MODIFIED:20251016T014916Z
UID:10012602-1769025600-1769027400@wvmuslim.org
SUMMARY:Quran Reflections with Samy Hilali
DESCRIPTION:Join us for a Wednesday biweekly Qur’an reflection class at Saratoga Musalla\, as Br. Samy Hilali guides us through the meanings and messages of the short surahs.Together\, we’ll explore the beauty\, depth\, and relevance of these chapters — uncovering lessons that nurture our hearts\, strengthen our faith\, and inspire us to live by the Qur’an. \nAll are welcome. No prior background required — just an open heart and a desire to connect with the words of Allah ﷻ.
URL:https://wvmuslim.org/event/quran-reflections-with-samy-hilali/2026-01-21/
LOCATION:Saratoga Musalla\, 12370 Saratoga-Sunnyvale Rd.\,\, Saratoga\, CA\, 95070\, United States
ATTACH;FMTTYPE=image/png:https://wvmuslim.org/wp-content/uploads/2025/10/Short-Surah-Sami-Hilali.png
ORGANIZER;CN="West Valley Muslim Association":MAILTO:info@wvmuslim.org
END:VEVENT
BEGIN:VEVENT
DTSTART;TZID=America/Los_Angeles:20260118T200000
DTEND;TZID=America/Los_Angeles:20260118T203000
DTSTAMP:20260421T085057
CREATED:20251014T171632Z
LAST-MODIFIED:20251014T171647Z
UID:10012202-1768766400-1768768200@wvmuslim.org
SUMMARY:Tafseer Surah Al Mulk
DESCRIPTION:Starting this Sunday\, October 12\, join us after Isha at Saratoga Musalla for the Tafseer of Surah Al Mulk with Mufti Saad Khan. \nThis powerful surah protects and elevates those who recite it—don’t miss the chance to reflect on its timeless lessons.
URL:https://wvmuslim.org/event/tafseer-surah-al-mulk/2026-01-18/
LOCATION:Saratoga Musalla\, 12370 Saratoga-Sunnyvale Rd.\,\, Saratoga\, CA\, 95070\, United States
ATTACH;FMTTYPE=image/png:https://wvmuslim.org/wp-content/uploads/2025/10/Tafseer-surah-Al-mulk-1920-x-1080-px.png
ORGANIZER;CN="West Valley Muslim Association":MAILTO:info@wvmuslim.org
END:VEVENT
BEGIN:VEVENT
DTSTART;TZID=America/Los_Angeles:20260116T104500
DTEND;TZID=America/Los_Angeles:20260116T233000
DTSTAMP:20260421T085057
CREATED:20250819T052026Z
LAST-MODIFIED:20250904T034125Z
UID:10005020-1768560300-1768606200@wvmuslim.org
SUMMARY:Journey Through the Quran
DESCRIPTION:Join WVMA and ICNA sisters every Friday from 11am-12pm for a halaqa at Saratoga Musalla. There’s no better time to renew your relationship to the Quran. Hope to see you there!
URL:https://wvmuslim.org/event/journey-through-the-quran/2026-01-16/
LOCATION:Saratoga Musalla\, 12370 Saratoga-Sunnyvale Rd.\,\, Saratoga\, CA\, 95070\, United States
ATTACH;FMTTYPE=image/png:https://wvmuslim.org/wp-content/uploads/2025/08/Journey-with-the-Quran-1920-x-1080-px.png
ORGANIZER;CN="West Valley Muslim Association":MAILTO:info@wvmuslim.org
END:VEVENT
BEGIN:VEVENT
DTSTART;TZID=America/Los_Angeles:20260114T200000
DTEND;TZID=America/Los_Angeles:20260114T203000
DTSTAMP:20260421T085057
CREATED:20251015T233340Z
LAST-MODIFIED:20251015T233340Z
UID:10012470-1768420800-1768422600@wvmuslim.org
SUMMARY:The 40 Hadith of Imam Al Nawawi with Imam Tahir
DESCRIPTION:Join us at Saratoga Musalla for a new biweekly series with Imam Tahir on the 40 Hadith of Imam al-Nawawi — a timeless collection of foundational teachings. Khateeras will take place every other Wednesday after Isha\, starting August 6th. Come reflect\, learn\, and grow together in community.
URL:https://wvmuslim.org/event/the-40-hadith-of-imam-al-nawawi-with-imam-tahir-2-2-2/2026-01-14/
LOCATION:Saratoga Musalla\, 12370 Saratoga-Sunnyvale Rd.\,\, Saratoga\, CA\, 95070\, United States
ATTACH;FMTTYPE=image/png:https://wvmuslim.org/wp-content/uploads/2025/06/Reflections-from-Seerah-1920-x-1080-px.png
ORGANIZER;CN="West Valley Muslim Association":MAILTO:info@wvmuslim.org
END:VEVENT
BEGIN:VEVENT
DTSTART;TZID=America/Los_Angeles:20260111T200000
DTEND;TZID=America/Los_Angeles:20260111T203000
DTSTAMP:20260421T085057
CREATED:20251014T171632Z
LAST-MODIFIED:20251014T171647Z
UID:10012201-1768161600-1768163400@wvmuslim.org
SUMMARY:Tafseer Surah Al Mulk
DESCRIPTION:Starting this Sunday\, October 12\, join us after Isha at Saratoga Musalla for the Tafseer of Surah Al Mulk with Mufti Saad Khan. \nThis powerful surah protects and elevates those who recite it—don’t miss the chance to reflect on its timeless lessons.
URL:https://wvmuslim.org/event/tafseer-surah-al-mulk/2026-01-11/
LOCATION:Saratoga Musalla\, 12370 Saratoga-Sunnyvale Rd.\,\, Saratoga\, CA\, 95070\, United States
ATTACH;FMTTYPE=image/png:https://wvmuslim.org/wp-content/uploads/2025/10/Tafseer-surah-Al-mulk-1920-x-1080-px.png
ORGANIZER;CN="West Valley Muslim Association":MAILTO:info@wvmuslim.org
END:VEVENT
BEGIN:VEVENT
DTSTART;TZID=America/Los_Angeles:20260109T104500
DTEND;TZID=America/Los_Angeles:20260109T233000
DTSTAMP:20260421T085057
CREATED:20250819T052026Z
LAST-MODIFIED:20250904T034125Z
UID:10005019-1767955500-1768001400@wvmuslim.org
SUMMARY:Journey Through the Quran
DESCRIPTION:Join WVMA and ICNA sisters every Friday from 11am-12pm for a halaqa at Saratoga Musalla. There’s no better time to renew your relationship to the Quran. Hope to see you there!
URL:https://wvmuslim.org/event/journey-through-the-quran/2026-01-09/
LOCATION:Saratoga Musalla\, 12370 Saratoga-Sunnyvale Rd.\,\, Saratoga\, CA\, 95070\, United States
ATTACH;FMTTYPE=image/png:https://wvmuslim.org/wp-content/uploads/2025/08/Journey-with-the-Quran-1920-x-1080-px.png
ORGANIZER;CN="West Valley Muslim Association":MAILTO:info@wvmuslim.org
END:VEVENT
BEGIN:VEVENT
DTSTART;TZID=America/Los_Angeles:20260107T200000
DTEND;TZID=America/Los_Angeles:20260107T203000
DTSTAMP:20260421T085057
CREATED:20251016T014839Z
LAST-MODIFIED:20251016T014916Z
UID:10012601-1767816000-1767817800@wvmuslim.org
SUMMARY:Quran Reflections with Samy Hilali
DESCRIPTION:Join us for a Wednesday biweekly Qur’an reflection class at Saratoga Musalla\, as Br. Samy Hilali guides us through the meanings and messages of the short surahs.Together\, we’ll explore the beauty\, depth\, and relevance of these chapters — uncovering lessons that nurture our hearts\, strengthen our faith\, and inspire us to live by the Qur’an. \nAll are welcome. No prior background required — just an open heart and a desire to connect with the words of Allah ﷻ.
URL:https://wvmuslim.org/event/quran-reflections-with-samy-hilali/2026-01-07/
LOCATION:Saratoga Musalla\, 12370 Saratoga-Sunnyvale Rd.\,\, Saratoga\, CA\, 95070\, United States
ATTACH;FMTTYPE=image/png:https://wvmuslim.org/wp-content/uploads/2025/10/Short-Surah-Sami-Hilali.png
ORGANIZER;CN="West Valley Muslim Association":MAILTO:info@wvmuslim.org
END:VEVENT
BEGIN:VEVENT
DTSTART;TZID=America/Los_Angeles:20260104T200000
DTEND;TZID=America/Los_Angeles:20260104T203000
DTSTAMP:20260421T085057
CREATED:20251014T171632Z
LAST-MODIFIED:20251014T171647Z
UID:10012200-1767556800-1767558600@wvmuslim.org
SUMMARY:Tafseer Surah Al Mulk
DESCRIPTION:Starting this Sunday\, October 12\, join us after Isha at Saratoga Musalla for the Tafseer of Surah Al Mulk with Mufti Saad Khan. \nThis powerful surah protects and elevates those who recite it—don’t miss the chance to reflect on its timeless lessons.
URL:https://wvmuslim.org/event/tafseer-surah-al-mulk/2026-01-04/
LOCATION:Saratoga Musalla\, 12370 Saratoga-Sunnyvale Rd.\,\, Saratoga\, CA\, 95070\, United States
ATTACH;FMTTYPE=image/png:https://wvmuslim.org/wp-content/uploads/2025/10/Tafseer-surah-Al-mulk-1920-x-1080-px.png
ORGANIZER;CN="West Valley Muslim Association":MAILTO:info@wvmuslim.org
END:VEVENT
BEGIN:VEVENT
DTSTART;TZID=America/Los_Angeles:20260102T104500
DTEND;TZID=America/Los_Angeles:20260102T233000
DTSTAMP:20260421T085057
CREATED:20250819T052026Z
LAST-MODIFIED:20250904T034125Z
UID:10005018-1767350700-1767396600@wvmuslim.org
SUMMARY:Journey Through the Quran
DESCRIPTION:Join WVMA and ICNA sisters every Friday from 11am-12pm for a halaqa at Saratoga Musalla. There’s no better time to renew your relationship to the Quran. Hope to see you there!
URL:https://wvmuslim.org/event/journey-through-the-quran/2026-01-02/
LOCATION:Saratoga Musalla\, 12370 Saratoga-Sunnyvale Rd.\,\, Saratoga\, CA\, 95070\, United States
ATTACH;FMTTYPE=image/png:https://wvmuslim.org/wp-content/uploads/2025/08/Journey-with-the-Quran-1920-x-1080-px.png
ORGANIZER;CN="West Valley Muslim Association":MAILTO:info@wvmuslim.org
END:VEVENT
BEGIN:VEVENT
DTSTART;TZID=America/Los_Angeles:20251231T200000
DTEND;TZID=America/Los_Angeles:20251231T203000
DTSTAMP:20260421T085057
CREATED:20251015T233340Z
LAST-MODIFIED:20251015T233340Z
UID:10012469-1767211200-1767213000@wvmuslim.org
SUMMARY:The 40 Hadith of Imam Al Nawawi with Imam Tahir
DESCRIPTION:Join us at Saratoga Musalla for a new biweekly series with Imam Tahir on the 40 Hadith of Imam al-Nawawi — a timeless collection of foundational teachings. Khateeras will take place every other Wednesday after Isha\, starting August 6th. Come reflect\, learn\, and grow together in community.
URL:https://wvmuslim.org/event/the-40-hadith-of-imam-al-nawawi-with-imam-tahir-2-2-2/2025-12-31/
LOCATION:Saratoga Musalla\, 12370 Saratoga-Sunnyvale Rd.\,\, Saratoga\, CA\, 95070\, United States
ATTACH;FMTTYPE=image/png:https://wvmuslim.org/wp-content/uploads/2025/06/Reflections-from-Seerah-1920-x-1080-px.png
ORGANIZER;CN="West Valley Muslim Association":MAILTO:info@wvmuslim.org
END:VEVENT
BEGIN:VEVENT
DTSTART;TZID=America/Los_Angeles:20251228T200000
DTEND;TZID=America/Los_Angeles:20251228T203000
DTSTAMP:20260421T085057
CREATED:20251014T171632Z
LAST-MODIFIED:20251014T171647Z
UID:10012199-1766952000-1766953800@wvmuslim.org
SUMMARY:Tafseer Surah Al Mulk
DESCRIPTION:Starting this Sunday\, October 12\, join us after Isha at Saratoga Musalla for the Tafseer of Surah Al Mulk with Mufti Saad Khan. \nThis powerful surah protects and elevates those who recite it—don’t miss the chance to reflect on its timeless lessons.
URL:https://wvmuslim.org/event/tafseer-surah-al-mulk/2025-12-28/
LOCATION:Saratoga Musalla\, 12370 Saratoga-Sunnyvale Rd.\,\, Saratoga\, CA\, 95070\, United States
ATTACH;FMTTYPE=image/png:https://wvmuslim.org/wp-content/uploads/2025/10/Tafseer-surah-Al-mulk-1920-x-1080-px.png
ORGANIZER;CN="West Valley Muslim Association":MAILTO:info@wvmuslim.org
END:VEVENT
BEGIN:VEVENT
DTSTART;TZID=America/Los_Angeles:20251226T104500
DTEND;TZID=America/Los_Angeles:20251226T233000
DTSTAMP:20260421T085057
CREATED:20250819T052026Z
LAST-MODIFIED:20250904T034125Z
UID:10005017-1766745900-1766791800@wvmuslim.org
SUMMARY:Journey Through the Quran
DESCRIPTION:Join WVMA and ICNA sisters every Friday from 11am-12pm for a halaqa at Saratoga Musalla. There’s no better time to renew your relationship to the Quran. Hope to see you there!
URL:https://wvmuslim.org/event/journey-through-the-quran/2025-12-26/
LOCATION:Saratoga Musalla\, 12370 Saratoga-Sunnyvale Rd.\,\, Saratoga\, CA\, 95070\, United States
ATTACH;FMTTYPE=image/png:https://wvmuslim.org/wp-content/uploads/2025/08/Journey-with-the-Quran-1920-x-1080-px.png
ORGANIZER;CN="West Valley Muslim Association":MAILTO:info@wvmuslim.org
END:VEVENT
BEGIN:VEVENT
DTSTART;TZID=America/Los_Angeles:20251224T200000
DTEND;TZID=America/Los_Angeles:20251224T203000
DTSTAMP:20260421T085057
CREATED:20251016T014839Z
LAST-MODIFIED:20251016T014916Z
UID:10012600-1766606400-1766608200@wvmuslim.org
SUMMARY:Quran Reflections with Samy Hilali
DESCRIPTION:Join us for a Wednesday biweekly Qur’an reflection class at Saratoga Musalla\, as Br. Samy Hilali guides us through the meanings and messages of the short surahs.Together\, we’ll explore the beauty\, depth\, and relevance of these chapters — uncovering lessons that nurture our hearts\, strengthen our faith\, and inspire us to live by the Qur’an. \nAll are welcome. No prior background required — just an open heart and a desire to connect with the words of Allah ﷻ.
URL:https://wvmuslim.org/event/quran-reflections-with-samy-hilali/2025-12-24/
LOCATION:Saratoga Musalla\, 12370 Saratoga-Sunnyvale Rd.\,\, Saratoga\, CA\, 95070\, United States
ATTACH;FMTTYPE=image/png:https://wvmuslim.org/wp-content/uploads/2025/10/Short-Surah-Sami-Hilali.png
ORGANIZER;CN="West Valley Muslim Association":MAILTO:info@wvmuslim.org
END:VEVENT
BEGIN:VEVENT
DTSTART;TZID=America/Los_Angeles:20251221T200000
DTEND;TZID=America/Los_Angeles:20251221T203000
DTSTAMP:20260421T085057
CREATED:20251014T171632Z
LAST-MODIFIED:20251014T171647Z
UID:10012198-1766347200-1766349000@wvmuslim.org
SUMMARY:Tafseer Surah Al Mulk
DESCRIPTION:Starting this Sunday\, October 12\, join us after Isha at Saratoga Musalla for the Tafseer of Surah Al Mulk with Mufti Saad Khan. \nThis powerful surah protects and elevates those who recite it—don’t miss the chance to reflect on its timeless lessons.
URL:https://wvmuslim.org/event/tafseer-surah-al-mulk/2025-12-21/
LOCATION:Saratoga Musalla\, 12370 Saratoga-Sunnyvale Rd.\,\, Saratoga\, CA\, 95070\, United States
ATTACH;FMTTYPE=image/png:https://wvmuslim.org/wp-content/uploads/2025/10/Tafseer-surah-Al-mulk-1920-x-1080-px.png
ORGANIZER;CN="West Valley Muslim Association":MAILTO:info@wvmuslim.org
END:VEVENT
BEGIN:VEVENT
DTSTART;TZID=America/Los_Angeles:20251219T104500
DTEND;TZID=America/Los_Angeles:20251219T233000
DTSTAMP:20260421T085057
CREATED:20250819T052026Z
LAST-MODIFIED:20250904T034125Z
UID:10005016-1766141100-1766187000@wvmuslim.org
SUMMARY:Journey Through the Quran
DESCRIPTION:Join WVMA and ICNA sisters every Friday from 11am-12pm for a halaqa at Saratoga Musalla. There’s no better time to renew your relationship to the Quran. Hope to see you there!
URL:https://wvmuslim.org/event/journey-through-the-quran/2025-12-19/
LOCATION:Saratoga Musalla\, 12370 Saratoga-Sunnyvale Rd.\,\, Saratoga\, CA\, 95070\, United States
ATTACH;FMTTYPE=image/png:https://wvmuslim.org/wp-content/uploads/2025/08/Journey-with-the-Quran-1920-x-1080-px.png
ORGANIZER;CN="West Valley Muslim Association":MAILTO:info@wvmuslim.org
END:VEVENT
BEGIN:VEVENT
DTSTART;TZID=America/Los_Angeles:20251217T200000
DTEND;TZID=America/Los_Angeles:20251217T210000
DTSTAMP:20260421T085057
CREATED:20251209T192155Z
LAST-MODIFIED:20251209T192209Z
UID:10014008-1766001600-1766005200@wvmuslim.org
SUMMARY:Community Pulse Check @ Saratoga Musalla
DESCRIPTION:We want to check up on your needs! Join us for two in-person community pulse checks after Isha prayer on December 12th at LGIC and December 17th at Saratoga Musalla. You can ask questions and give us feedback on what you like and where we need improvement. Your voice matters!
URL:https://wvmuslim.org/event/community-pulse-check-saratoga-musalla/
LOCATION:Saratoga Musalla\, 12370 Saratoga-Sunnyvale Rd.\,\, Saratoga\, CA\, 95070\, United States
ATTACH;FMTTYPE=image/png:https://wvmuslim.org/wp-content/uploads/2025/12/Community-Pulse-Check-1920-x-1080-px.png
ORGANIZER;CN="West Valley Muslim Association":MAILTO:info@wvmuslim.org
END:VEVENT
BEGIN:VEVENT
DTSTART;TZID=America/Los_Angeles:20251217T200000
DTEND;TZID=America/Los_Angeles:20251217T203000
DTSTAMP:20260421T085057
CREATED:20251015T233340Z
LAST-MODIFIED:20251015T233340Z
UID:10012468-1766001600-1766003400@wvmuslim.org
SUMMARY:The 40 Hadith of Imam Al Nawawi with Imam Tahir
DESCRIPTION:Join us at Saratoga Musalla for a new biweekly series with Imam Tahir on the 40 Hadith of Imam al-Nawawi — a timeless collection of foundational teachings. Khateeras will take place every other Wednesday after Isha\, starting August 6th. Come reflect\, learn\, and grow together in community.
URL:https://wvmuslim.org/event/the-40-hadith-of-imam-al-nawawi-with-imam-tahir-2-2-2/2025-12-17/
LOCATION:Saratoga Musalla\, 12370 Saratoga-Sunnyvale Rd.\,\, Saratoga\, CA\, 95070\, United States
ATTACH;FMTTYPE=image/png:https://wvmuslim.org/wp-content/uploads/2025/06/Reflections-from-Seerah-1920-x-1080-px.png
ORGANIZER;CN="West Valley Muslim Association":MAILTO:info@wvmuslim.org
END:VEVENT
BEGIN:VEVENT
DTSTART;TZID=America/Los_Angeles:20251214T200000
DTEND;TZID=America/Los_Angeles:20251214T203000
DTSTAMP:20260421T085057
CREATED:20251014T171632Z
LAST-MODIFIED:20251014T171647Z
UID:10012197-1765742400-1765744200@wvmuslim.org
SUMMARY:Tafseer Surah Al Mulk
DESCRIPTION:Starting this Sunday\, October 12\, join us after Isha at Saratoga Musalla for the Tafseer of Surah Al Mulk with Mufti Saad Khan. \nThis powerful surah protects and elevates those who recite it—don’t miss the chance to reflect on its timeless lessons.
URL:https://wvmuslim.org/event/tafseer-surah-al-mulk/2025-12-14/
LOCATION:Saratoga Musalla\, 12370 Saratoga-Sunnyvale Rd.\,\, Saratoga\, CA\, 95070\, United States
ATTACH;FMTTYPE=image/png:https://wvmuslim.org/wp-content/uploads/2025/10/Tafseer-surah-Al-mulk-1920-x-1080-px.png
ORGANIZER;CN="West Valley Muslim Association":MAILTO:info@wvmuslim.org
END:VEVENT
BEGIN:VEVENT
DTSTART;TZID=America/Los_Angeles:20251212T104500
DTEND;TZID=America/Los_Angeles:20251212T233000
DTSTAMP:20260421T085057
CREATED:20250819T052026Z
LAST-MODIFIED:20250904T034125Z
UID:10005015-1765536300-1765582200@wvmuslim.org
SUMMARY:Journey Through the Quran
DESCRIPTION:Join WVMA and ICNA sisters every Friday from 11am-12pm for a halaqa at Saratoga Musalla. There’s no better time to renew your relationship to the Quran. Hope to see you there!
URL:https://wvmuslim.org/event/journey-through-the-quran/2025-12-12/
LOCATION:Saratoga Musalla\, 12370 Saratoga-Sunnyvale Rd.\,\, Saratoga\, CA\, 95070\, United States
ATTACH;FMTTYPE=image/png:https://wvmuslim.org/wp-content/uploads/2025/08/Journey-with-the-Quran-1920-x-1080-px.png
ORGANIZER;CN="West Valley Muslim Association":MAILTO:info@wvmuslim.org
END:VEVENT
BEGIN:VEVENT
DTSTART;TZID=America/Los_Angeles:20251210T200000
DTEND;TZID=America/Los_Angeles:20251210T203000
DTSTAMP:20260421T085057
CREATED:20251016T014839Z
LAST-MODIFIED:20251016T014916Z
UID:10012599-1765396800-1765398600@wvmuslim.org
SUMMARY:Quran Reflections with Samy Hilali
DESCRIPTION:Join us for a Wednesday biweekly Qur’an reflection class at Saratoga Musalla\, as Br. Samy Hilali guides us through the meanings and messages of the short surahs.Together\, we’ll explore the beauty\, depth\, and relevance of these chapters — uncovering lessons that nurture our hearts\, strengthen our faith\, and inspire us to live by the Qur’an. \nAll are welcome. No prior background required — just an open heart and a desire to connect with the words of Allah ﷻ.
URL:https://wvmuslim.org/event/quran-reflections-with-samy-hilali/2025-12-10/
LOCATION:Saratoga Musalla\, 12370 Saratoga-Sunnyvale Rd.\,\, Saratoga\, CA\, 95070\, United States
ATTACH;FMTTYPE=image/png:https://wvmuslim.org/wp-content/uploads/2025/10/Short-Surah-Sami-Hilali.png
ORGANIZER;CN="West Valley Muslim Association":MAILTO:info@wvmuslim.org
END:VEVENT
BEGIN:VEVENT
DTSTART;TZID=America/Los_Angeles:20251207T200000
DTEND;TZID=America/Los_Angeles:20251207T203000
DTSTAMP:20260421T085057
CREATED:20251014T171632Z
LAST-MODIFIED:20251014T171647Z
UID:10012196-1765137600-1765139400@wvmuslim.org
SUMMARY:Tafseer Surah Al Mulk
DESCRIPTION:Starting this Sunday\, October 12\, join us after Isha at Saratoga Musalla for the Tafseer of Surah Al Mulk with Mufti Saad Khan. \nThis powerful surah protects and elevates those who recite it—don’t miss the chance to reflect on its timeless lessons.
URL:https://wvmuslim.org/event/tafseer-surah-al-mulk/2025-12-07/
LOCATION:Saratoga Musalla\, 12370 Saratoga-Sunnyvale Rd.\,\, Saratoga\, CA\, 95070\, United States
ATTACH;FMTTYPE=image/png:https://wvmuslim.org/wp-content/uploads/2025/10/Tafseer-surah-Al-mulk-1920-x-1080-px.png
ORGANIZER;CN="West Valley Muslim Association":MAILTO:info@wvmuslim.org
END:VEVENT
BEGIN:VEVENT
DTSTART;TZID=America/Los_Angeles:20251206T203000
DTEND;TZID=America/Los_Angeles:20251206T213000
DTSTAMP:20260421T085057
CREATED:20251205T200654Z
LAST-MODIFIED:20251205T200813Z
UID:10014002-1765053000-1765056600@wvmuslim.org
SUMMARY:Community Qiyam
DESCRIPTION:Bring your family to reap the benefits of the golden hour of Tahajjud and make dua for our Ummah. This Saturday after Isha prayer at Saratoga Musalla.
URL:https://wvmuslim.org/event/community-qiyam/
LOCATION:Saratoga Musalla\, 12370 Saratoga-Sunnyvale Rd.\,\, Saratoga\, CA\, 95070\, United States
ATTACH;FMTTYPE=image/png:https://wvmuslim.org/wp-content/uploads/2025/12/Qiyamdec6-1.png
ORGANIZER;CN="West Valley Muslim Association":MAILTO:info@wvmuslim.org
END:VEVENT
BEGIN:VEVENT
DTSTART;TZID=America/Los_Angeles:20251205T104500
DTEND;TZID=America/Los_Angeles:20251205T233000
DTSTAMP:20260421T085057
CREATED:20250819T052026Z
LAST-MODIFIED:20250904T034125Z
UID:10005014-1764931500-1764977400@wvmuslim.org
SUMMARY:Journey Through the Quran
DESCRIPTION:Join WVMA and ICNA sisters every Friday from 11am-12pm for a halaqa at Saratoga Musalla. There’s no better time to renew your relationship to the Quran. Hope to see you there!
URL:https://wvmuslim.org/event/journey-through-the-quran/2025-12-05/
LOCATION:Saratoga Musalla\, 12370 Saratoga-Sunnyvale Rd.\,\, Saratoga\, CA\, 95070\, United States
ATTACH;FMTTYPE=image/png:https://wvmuslim.org/wp-content/uploads/2025/08/Journey-with-the-Quran-1920-x-1080-px.png
ORGANIZER;CN="West Valley Muslim Association":MAILTO:info@wvmuslim.org
END:VEVENT
BEGIN:VEVENT
DTSTART;TZID=America/Los_Angeles:20251203T200000
DTEND;TZID=America/Los_Angeles:20251203T203000
DTSTAMP:20260421T085057
CREATED:20251015T233340Z
LAST-MODIFIED:20251015T233340Z
UID:10012467-1764792000-1764793800@wvmuslim.org
SUMMARY:The 40 Hadith of Imam Al Nawawi with Imam Tahir
DESCRIPTION:Join us at Saratoga Musalla for a new biweekly series with Imam Tahir on the 40 Hadith of Imam al-Nawawi — a timeless collection of foundational teachings. Khateeras will take place every other Wednesday after Isha\, starting August 6th. Come reflect\, learn\, and grow together in community.
URL:https://wvmuslim.org/event/the-40-hadith-of-imam-al-nawawi-with-imam-tahir-2-2-2/2025-12-03/
LOCATION:Saratoga Musalla\, 12370 Saratoga-Sunnyvale Rd.\,\, Saratoga\, CA\, 95070\, United States
ATTACH;FMTTYPE=image/png:https://wvmuslim.org/wp-content/uploads/2025/06/Reflections-from-Seerah-1920-x-1080-px.png
ORGANIZER;CN="West Valley Muslim Association":MAILTO:info@wvmuslim.org
END:VEVENT
BEGIN:VEVENT
DTSTART;TZID=America/Los_Angeles:20251130T200000
DTEND;TZID=America/Los_Angeles:20251130T203000
DTSTAMP:20260421T085057
CREATED:20251014T171632Z
LAST-MODIFIED:20251014T171647Z
UID:10012195-1764532800-1764534600@wvmuslim.org
SUMMARY:Tafseer Surah Al Mulk
DESCRIPTION:Starting this Sunday\, October 12\, join us after Isha at Saratoga Musalla for the Tafseer of Surah Al Mulk with Mufti Saad Khan. \nThis powerful surah protects and elevates those who recite it—don’t miss the chance to reflect on its timeless lessons.
URL:https://wvmuslim.org/event/tafseer-surah-al-mulk/2025-11-30/
LOCATION:Saratoga Musalla\, 12370 Saratoga-Sunnyvale Rd.\,\, Saratoga\, CA\, 95070\, United States
ATTACH;FMTTYPE=image/png:https://wvmuslim.org/wp-content/uploads/2025/10/Tafseer-surah-Al-mulk-1920-x-1080-px.png
ORGANIZER;CN="West Valley Muslim Association":MAILTO:info@wvmuslim.org
END:VEVENT
END:VCALENDAR